BEGIN:VCALENDAR
VERSION:2.0
PRODID:-//Lima Public Library - ECPv6.15.20//NONSGML v1.0//EN
CALSCALE:GREGORIAN
METHOD:PUBLISH
X-ORIGINAL-URL:https://lima.owwl.org
X-WR-CALDESC:Events for Lima Public Library
REFRESH-INTERVAL;VALUE=DURATION:PT1H
X-Robots-Tag:noindex
X-PUBLISHED-TTL:PT1H
BEGIN:VTIMEZONE
TZID:America/New_York
BEGIN:DAYLIGHT
TZOFFSETFROM:-0500
TZOFFSETTO:-0400
TZNAME:EDT
DTSTART:20210314T070000
END:DAYLIGHT
BEGIN:STANDARD
TZOFFSETFROM:-0400
TZOFFSETTO:-0500
TZNAME:EST
DTSTART:20211107T060000
END:STANDARD
BEGIN:DAYLIGHT
TZOFFSETFROM:-0500
TZOFFSETTO:-0400
TZNAME:EDT
DTSTART:20220313T070000
END:DAYLIGHT
BEGIN:STANDARD
TZOFFSETFROM:-0400
TZOFFSETTO:-0500
TZNAME:EST
DTSTART:20221106T060000
END:STANDARD
BEGIN:DAYLIGHT
TZOFFSETFROM:-0500
TZOFFSETTO:-0400
TZNAME:EDT
DTSTART:20230312T070000
END:DAYLIGHT
BEGIN:STANDARD
TZOFFSETFROM:-0400
TZOFFSETTO:-0500
TZNAME:EST
DTSTART:20231105T060000
END:STANDARD
END:VTIMEZONE
BEGIN:VEVENT
DTSTART;TZID=America/New_York:20220212T093000
DTEND;TZID=America/New_York:20220212T120000
DTSTAMP:20260425T081045
CREATED:20220119T184942Z
LAST-MODIFIED:20220126T184713Z
UID:1056-1644658200-1644667200@lima.owwl.org
SUMMARY:Crossroads Crafters' Circle
DESCRIPTION:This is an informal group that gathers to set aside time to work on a craft project while enjoying the company of others. You are invited to come and craft in good company! Knit\, crochet\, quilt\, braid\, scrapbook\, etc. All crafters are welcomed. Come for a short visit or for the entire time. Grab your supplies and join us. Every open Saturday at the Lima Library.
URL:https://lima.owwl.org/event/crossroads-crafters-circle-4/
LOCATION:NY
END:VEVENT
BEGIN:VEVENT
DTSTART;TZID=America/New_York:20220212T103000
DTEND;TZID=America/New_York:20220212T120000
DTSTAMP:20260425T081045
CREATED:20211215T200356Z
LAST-MODIFIED:20220207T164614Z
UID:994-1644661800-1644667200@lima.owwl.org
SUMMARY:CANCELED Let's Visit China - Kids' Program - Presented by Jordan Kroll
DESCRIPTION:Saturday 1/22/2022 10:30 am – 12:30 pm \nLocation: Lima Library meeting room \nCost: Free \nRegistration: Please sign up at the library so we have plenty of supplies on hand \nAges: All ages are welcome \nThe Winter Olympics are being held in Beijing in the People’s Republic of China on February 4th to 20th. So February 2022 is a great time to hear about what it is like to live in China. \nThis program will be a mix of activities for kids to visit the Chinese culture. Learn about China\, Chinese people\, and some fun facts about the culture. Let’s do a quick character writing lesson. Our presenter\, Jordan\, would be glad to answer any questions about China. Pictures and video will be shown. \nOur wonderful presenter for our visit to China is Jordan Kroll\, who lives right here in Lima with his wife and kids. Jordan lived in China for most of 2008-2020\, in four different cities. He owned a business in China and was working as an artist there\, painting the minority people and landscapes. Jordan speaks\, reads and writes Mandarin. \n  \nBrought to you by the Friends of the Lima Public Library
URL:https://lima.owwl.org/event/lets-visit-china-kids-program-presented-by-jordan-kroll/
LOCATION:NY
END:VEVENT
END:VCALENDAR