BEGIN:VCALENDAR
VERSION:2.0
PRODID:-//Lima Public Library - ECPv6.15.20//NONSGML v1.0//EN
CALSCALE:GREGORIAN
METHOD:PUBLISH
X-ORIGINAL-URL:https://lima.owwl.org
X-WR-CALDESC:Events for Lima Public Library
REFRESH-INTERVAL;VALUE=DURATION:PT1H
X-Robots-Tag:noindex
X-PUBLISHED-TTL:PT1H
BEGIN:VTIMEZONE
TZID:America/New_York
BEGIN:DAYLIGHT
TZOFFSETFROM:-0500
TZOFFSETTO:-0400
TZNAME:EDT
DTSTART:20210314T070000
END:DAYLIGHT
BEGIN:STANDARD
TZOFFSETFROM:-0400
TZOFFSETTO:-0500
TZNAME:EST
DTSTART:20211107T060000
END:STANDARD
BEGIN:DAYLIGHT
TZOFFSETFROM:-0500
TZOFFSETTO:-0400
TZNAME:EDT
DTSTART:20220313T070000
END:DAYLIGHT
BEGIN:STANDARD
TZOFFSETFROM:-0400
TZOFFSETTO:-0500
TZNAME:EST
DTSTART:20221106T060000
END:STANDARD
BEGIN:DAYLIGHT
TZOFFSETFROM:-0500
TZOFFSETTO:-0400
TZNAME:EDT
DTSTART:20230312T070000
END:DAYLIGHT
BEGIN:STANDARD
TZOFFSETFROM:-0400
TZOFFSETTO:-0500
TZNAME:EST
DTSTART:20231105T060000
END:STANDARD
END:VTIMEZONE
BEGIN:VEVENT
DTSTART;TZID=America/New_York:20220312T080000
DTEND;TZID=America/New_York:20220312T170000
DTSTAMP:20260425T063553
CREATED:20220119T185227Z
LAST-MODIFIED:20220126T184806Z
UID:1064-1647072000-1647104400@lima.owwl.org
SUMMARY:Crossroads Crafters' Circle
DESCRIPTION:This is an informal group that gathers to set aside time to work on a craft project while enjoying the company of others. You are invited to come and craft in good company! Knit\, crochet\, quilt\, braid\, scrapbook\, etc. All crafters are welcomed. Come for a short visit or for the entire time. Grab your supplies and join us. Every open Saturday at the Lima Library.
URL:https://lima.owwl.org/event/crossroads-crafters-circle-8/
LOCATION:NY
END:VEVENT
BEGIN:VEVENT
DTSTART;TZID=America/New_York:20220312T103000
DTEND;TZID=America/New_York:20220312T120000
DTSTAMP:20260425T063553
CREATED:20211215T200638Z
LAST-MODIFIED:20220119T183731Z
UID:1000-1647081000-1647086400@lima.owwl.org
SUMMARY:Make Pie Dough for Pi Day - Kids' Program - CCE Nutrition Educator Lucille Tang
DESCRIPTION:Location: Lima Library \nCost: Free \nRegistration: Please sign up at the library so we have plenty of supplies on hand \nAges: All kids are welcomed \nCome and have fun making pie dough from ingredients provided by Lucille Tang\, Cornell Cooperative Extension’s Nutrition Educator. Take your pie dough home\, sprinkle a little sugar on it\, bake it and enjoy it with your family. \nWe will make pie dough in preparation for PI day\, Monday 3/14. PI is the special number 3.14 used in math to calculate the size of a circle. Be prepared to celebrate March 14th (3/14) as pie day with the pie dough you will make during this event. \nPresented by the Friends of the Lima Public Library.
URL:https://lima.owwl.org/event/fun-with-food-kids-program-cce-nutrition-educator-lucille-tang/
LOCATION:NY
END:VEVENT
END:VCALENDAR