BEGIN:VCALENDAR
VERSION:2.0
PRODID:-//Lima Public Library - ECPv6.15.20//NONSGML v1.0//EN
CALSCALE:GREGORIAN
METHOD:PUBLISH
X-ORIGINAL-URL:https://lima.owwl.org
X-WR-CALDESC:Events for Lima Public Library
REFRESH-INTERVAL;VALUE=DURATION:PT1H
X-Robots-Tag:noindex
X-PUBLISHED-TTL:PT1H
BEGIN:VTIMEZONE
TZID:America/New_York
BEGIN:DAYLIGHT
TZOFFSETFROM:-0500
TZOFFSETTO:-0400
TZNAME:EDT
DTSTART:20210314T070000
END:DAYLIGHT
BEGIN:STANDARD
TZOFFSETFROM:-0400
TZOFFSETTO:-0500
TZNAME:EST
DTSTART:20211107T060000
END:STANDARD
BEGIN:DAYLIGHT
TZOFFSETFROM:-0500
TZOFFSETTO:-0400
TZNAME:EDT
DTSTART:20220313T070000
END:DAYLIGHT
BEGIN:STANDARD
TZOFFSETFROM:-0400
TZOFFSETTO:-0500
TZNAME:EST
DTSTART:20221106T060000
END:STANDARD
BEGIN:DAYLIGHT
TZOFFSETFROM:-0500
TZOFFSETTO:-0400
TZNAME:EDT
DTSTART:20230312T070000
END:DAYLIGHT
BEGIN:STANDARD
TZOFFSETFROM:-0400
TZOFFSETTO:-0500
TZNAME:EST
DTSTART:20231105T060000
END:STANDARD
END:VTIMEZONE
BEGIN:VEVENT
DTSTART;VALUE=DATE:20220627
DTEND;VALUE=DATE:20220730
DTSTAMP:20260425T002418
CREATED:20220622T195445Z
LAST-MODIFIED:20220622T195445Z
UID:1370-1656288000-1659139199@lima.owwl.org
SUMMARY:Summer Reading: Oceans of Possibilities
DESCRIPTION:Summer Reading 2022: Oceans of Possibilities\n\n\n\nRegistration starts Thursday 6/23 and our game starts on Monday 6/27. Keep track of your reading time and activities on your game board with stickers! Do ocean activities in the library and at home. Our game board can go with you on vacation so you can still participate if you’ll be out of town this summer! The game ends on Friday 7/29. Be sure to complete at least 25 simple activities (there will be lots to choose from) by Monday 8/1 to earn your prize bag!\n\n\n\nHappy reading!
URL:https://lima.owwl.org/event/summer-reading-oceans-of-possibilities/
LOCATION:NY
END:VEVENT
BEGIN:VEVENT
DTSTART;TZID=America/New_York:20220718T183000
DTEND;TZID=America/New_York:20220718T200000
DTSTAMP:20260425T002418
CREATED:20220610T171443Z
LAST-MODIFIED:20220610T171443Z
UID:1343-1658169000-1658174400@lima.owwl.org
SUMMARY:Friends of the Lima Public Library: Book Sorting Event
DESCRIPTION:The Friends of the Lima Public Library are looking for 1-2 book lovers to help sort book donations on Monday 7/18 at 6:30 PM at the library. Contact Barb Brenner\, either via Facebook message or email bjabrenner@gmail.com\, if you want to help. You never know–you might find a good book to enjoy!
URL:https://lima.owwl.org/event/friends-of-the-lima-public-library-book-sorting-event-2/
LOCATION:NY
END:VEVENT
END:VCALENDAR