BEGIN:VCALENDAR
VERSION:2.0
PRODID:-//Lima Public Library - ECPv6.15.20//NONSGML v1.0//EN
CALSCALE:GREGORIAN
METHOD:PUBLISH
X-WR-CALNAME:Lima Public Library
X-ORIGINAL-URL:https://lima.owwl.org
X-WR-CALDESC:Events for Lima Public Library
REFRESH-INTERVAL;VALUE=DURATION:PT1H
X-Robots-Tag:noindex
X-PUBLISHED-TTL:PT1H
BEGIN:VTIMEZONE
TZID:America/New_York
BEGIN:DAYLIGHT
TZOFFSETFROM:-0500
TZOFFSETTO:-0400
TZNAME:EDT
DTSTART:20210314T070000
END:DAYLIGHT
BEGIN:STANDARD
TZOFFSETFROM:-0400
TZOFFSETTO:-0500
TZNAME:EST
DTSTART:20211107T060000
END:STANDARD
BEGIN:DAYLIGHT
TZOFFSETFROM:-0500
TZOFFSETTO:-0400
TZNAME:EDT
DTSTART:20220313T070000
END:DAYLIGHT
BEGIN:STANDARD
TZOFFSETFROM:-0400
TZOFFSETTO:-0500
TZNAME:EST
DTSTART:20221106T060000
END:STANDARD
BEGIN:DAYLIGHT
TZOFFSETFROM:-0500
TZOFFSETTO:-0400
TZNAME:EDT
DTSTART:20230312T070000
END:DAYLIGHT
BEGIN:STANDARD
TZOFFSETFROM:-0400
TZOFFSETTO:-0500
TZNAME:EST
DTSTART:20231105T060000
END:STANDARD
END:VTIMEZONE
BEGIN:VEVENT
DTSTART;TZID=America/New_York:20220809T210000
DTEND;TZID=America/New_York:20220809T220000
DTSTAMP:20260424T222922
CREATED:20220623T182426Z
LAST-MODIFIED:20220623T182426Z
UID:1373-1660078800-1660082400@lima.owwl.org
SUMMARY:Author Talk: Liz Moore\, Long Bright River
DESCRIPTION:Join us for an enthralling evening with New York Times Bestselling author Liz Moore as she discusses her international bestseller\, Long Bright River\, and her other works.\n\nLong Bright River takes place in Philadelphia where Moore has lived for over a decade. The novel traces the story of two sisters estranged from each other but bonded by their choices. Mickey is a cop\, and Kacey lives on the streets in the clutches of addiction. When Kacey suddenly disappears during a string of mysterious murders\, Mickey panics over her sister’s safety—becoming obsessed with finding the culprit and her sister before it’s too late.\nDrawing on deeply personal volunteer work\, Liz Moore spins a story that is both graphically honest and dignified. Long Bright River puts a very human face on the effect that addiction can have on generations of families and communities. A gripping conversation\, you don’t want to miss! Author Q&A to follow!\n\nRegister for this author talk and check out other online author talks here: https://libraryc.org/lima
URL:https://lima.owwl.org/event/author-talk-liz-moore-long-bright-river/
LOCATION:NY
END:VEVENT
END:VCALENDAR