BEGIN:VCALENDAR
VERSION:2.0
PRODID:-//Lima Public Library - ECPv6.15.20//NONSGML v1.0//EN
CALSCALE:GREGORIAN
METHOD:PUBLISH
X-ORIGINAL-URL:https://lima.owwl.org
X-WR-CALDESC:Events for Lima Public Library
REFRESH-INTERVAL;VALUE=DURATION:PT1H
X-Robots-Tag:noindex
X-PUBLISHED-TTL:PT1H
BEGIN:VTIMEZONE
TZID:America/New_York
BEGIN:DAYLIGHT
TZOFFSETFROM:-0500
TZOFFSETTO:-0400
TZNAME:EDT
DTSTART:20210314T070000
END:DAYLIGHT
BEGIN:STANDARD
TZOFFSETFROM:-0400
TZOFFSETTO:-0500
TZNAME:EST
DTSTART:20211107T060000
END:STANDARD
BEGIN:DAYLIGHT
TZOFFSETFROM:-0500
TZOFFSETTO:-0400
TZNAME:EDT
DTSTART:20220313T070000
END:DAYLIGHT
BEGIN:STANDARD
TZOFFSETFROM:-0400
TZOFFSETTO:-0500
TZNAME:EST
DTSTART:20221106T060000
END:STANDARD
BEGIN:DAYLIGHT
TZOFFSETFROM:-0500
TZOFFSETTO:-0400
TZNAME:EDT
DTSTART:20230312T070000
END:DAYLIGHT
BEGIN:STANDARD
TZOFFSETFROM:-0400
TZOFFSETTO:-0500
TZNAME:EST
DTSTART:20231105T060000
END:STANDARD
END:VTIMEZONE
BEGIN:VEVENT
DTSTART;TZID=America/New_York:20220822T210000
DTEND;TZID=America/New_York:20220822T220000
DTSTAMP:20260424T223014
CREATED:20220623T182522Z
LAST-MODIFIED:20220623T182522Z
UID:1376-1661202000-1661205600@lima.owwl.org
SUMMARY:Author Talk: The Beauty in Breaking with Dr. Michele Harper
DESCRIPTION:Join us for an enlightening discussion with Dr. Michele Harper as she highlights the lessons learned on her inspiring personal journey of discovery and self-reflection as written in her New York Times Best Selling memoir\, The Beauty in Breaking.\n\nThe Beauty in Breaking tells the story of Dr. Harper\, a female\, African American\, ER physician in an overwhelmingly male and white profession. Brought up in Washington\, D.C.\, in a complicated family\, she attended Harvard\, where she met her husband. They stayed together through medical school until two months before she was scheduled to join the staff of a hospital in central Philadelphia when he told her he couldn’t move with her. Her marriage at an end\, Harper\, began her new life in a new city\, in a new job\, as a newly single woman.\n\nThe Beauty in Breaking speaks about how each of us are broken—physically and emotionally\, how we go about recognizing those breaks\, how we try to mend them\, and where we go from there as all equally crucial parts of the healing process. You are invited to a riveting and powerful conversation of self-healing with Q&A to follow!\n\nRegister for this author talk and check out other online author talks here:\nhttps://libraryc.org/lima
URL:https://lima.owwl.org/event/author-talk-the-beauty-in-breaking-with-dr-michele-harper/
LOCATION:NY
END:VEVENT
END:VCALENDAR