BEGIN:VCALENDAR
VERSION:2.0
PRODID:-//Lima Public Library - ECPv6.15.20//NONSGML v1.0//EN
CALSCALE:GREGORIAN
METHOD:PUBLISH
X-WR-CALNAME:Lima Public Library
X-ORIGINAL-URL:https://lima.owwl.org
X-WR-CALDESC:Events for Lima Public Library
REFRESH-INTERVAL;VALUE=DURATION:PT1H
X-Robots-Tag:noindex
X-PUBLISHED-TTL:PT1H
BEGIN:VTIMEZONE
TZID:America/New_York
BEGIN:DAYLIGHT
TZOFFSETFROM:-0500
TZOFFSETTO:-0400
TZNAME:EDT
DTSTART:20210314T070000
END:DAYLIGHT
BEGIN:STANDARD
TZOFFSETFROM:-0400
TZOFFSETTO:-0500
TZNAME:EST
DTSTART:20211107T060000
END:STANDARD
BEGIN:DAYLIGHT
TZOFFSETFROM:-0500
TZOFFSETTO:-0400
TZNAME:EDT
DTSTART:20220313T070000
END:DAYLIGHT
BEGIN:STANDARD
TZOFFSETFROM:-0400
TZOFFSETTO:-0500
TZNAME:EST
DTSTART:20221106T060000
END:STANDARD
BEGIN:DAYLIGHT
TZOFFSETFROM:-0500
TZOFFSETTO:-0400
TZNAME:EDT
DTSTART:20230312T070000
END:DAYLIGHT
BEGIN:STANDARD
TZOFFSETFROM:-0400
TZOFFSETTO:-0500
TZNAME:EST
DTSTART:20231105T060000
END:STANDARD
END:VTIMEZONE
BEGIN:VEVENT
DTSTART;TZID=America/New_York:20220908T140000
DTEND;TZID=America/New_York:20220908T150000
DTSTAMP:20260424T210159
CREATED:20220810T143455Z
LAST-MODIFIED:20220810T143455Z
UID:1409-1662645600-1662649200@lima.owwl.org
SUMMARY:Raising Thrivers: Parenting Tips & Tools to Help Kids Thrive in an Uncertain World - Author Talk with Dr. Michele Borba
DESCRIPTION:Join us for a thought-provoking webinar with bestselling author and expert in child development\, Dr. Michele Borba\, as she discusses her book\, Thrivers: Surprising Reasons Why Some Kids Struggle and Others Shine. \nData shows that today’s youth are the loneliest\, most stressed\, and risk-averse on record. Though well-educated\, they are failing to launch in real life. So how can we teach them to be mentally strong and more successful? Dr. Michele Borba empowers educators and parents to help kids thrive in today’s fast-paced\, digital-driven\, often uncertain world. Through her research\, she found the difference between those who struggle and those who succeed comes down to the personal traits that set Thrivers apart and set them up for happiness and a greater potential later in life. Dr. Borba will teach you practical\, actionable ways to develop these Thrivers traits for kids and show you how to teach them to cope today so that they can flourish tomorrow in school and life. These are lessons that will last a lifetime. Author Q&A to follow the presentation! \nRegister for this author talk and check out other online author talks here: https://libraryc.org/lima\n \nIf you would like to tune in\, but can’t make it\, recordings are available 24 hours after the talk. Check out some of our amazing past presenters!
URL:https://lima.owwl.org/event/raising-thrivers-parenting-tips-tools-to-help-kids-thrive-in-an-uncertain-world-author-talk-with-dr-michele-borba/
LOCATION:NY
END:VEVENT
END:VCALENDAR