BEGIN:VCALENDAR
VERSION:2.0
PRODID:-//Lima Public Library - ECPv6.15.20//NONSGML v1.0//EN
CALSCALE:GREGORIAN
METHOD:PUBLISH
X-WR-CALNAME:Lima Public Library
X-ORIGINAL-URL:https://lima.owwl.org
X-WR-CALDESC:Events for Lima Public Library
REFRESH-INTERVAL;VALUE=DURATION:PT1H
X-Robots-Tag:noindex
X-PUBLISHED-TTL:PT1H
BEGIN:VTIMEZONE
TZID:America/New_York
BEGIN:DAYLIGHT
TZOFFSETFROM:-0500
TZOFFSETTO:-0400
TZNAME:EDT
DTSTART:20210314T070000
END:DAYLIGHT
BEGIN:STANDARD
TZOFFSETFROM:-0400
TZOFFSETTO:-0500
TZNAME:EST
DTSTART:20211107T060000
END:STANDARD
BEGIN:DAYLIGHT
TZOFFSETFROM:-0500
TZOFFSETTO:-0400
TZNAME:EDT
DTSTART:20220313T070000
END:DAYLIGHT
BEGIN:STANDARD
TZOFFSETFROM:-0400
TZOFFSETTO:-0500
TZNAME:EST
DTSTART:20221106T060000
END:STANDARD
BEGIN:DAYLIGHT
TZOFFSETFROM:-0500
TZOFFSETTO:-0400
TZNAME:EDT
DTSTART:20230312T070000
END:DAYLIGHT
BEGIN:STANDARD
TZOFFSETFROM:-0400
TZOFFSETTO:-0500
TZNAME:EST
DTSTART:20231105T060000
END:STANDARD
END:VTIMEZONE
BEGIN:VEVENT
DTSTART;TZID=America/New_York:20220927T160000
DTEND;TZID=America/New_York:20220927T170000
DTSTAMP:20260424T192119
CREATED:20220810T143938Z
LAST-MODIFIED:20220810T143938Z
UID:1415-1664294400-1664298000@lima.owwl.org
SUMMARY:Author Talk: Hernan Diaz\, Trust and In the Distance
DESCRIPTION:Join us for a discussion with Pulitzer Prize finalist and PEN/Faulkner Award winner Hernan Diaz\, author of In the Distance and Trust. \nTrust\, opens to readers as a novel within a novel\, entitled Bonds\, set during the roar of the 1920s around the Wall Street tycoon Benjamin Rask and his wife\, Helen. Together\, they have risen to the top of the world of seemingly endless wealth–all as a decade of excess and speculation draws to an end. But at what cost have they acquired their immense fortune? This is exactly the mystery at the center of Bonds\, a successful 1937 novel that all of New York seems to have read. Yet there are other versions of this tale of privilege and deceit. \nHernan Diaz’s Trust elegantly puts competing narratives into conversation with one another—and in tension with the perspective of one woman bent on disentangling fact from fiction. The result is a novel that spans over a century and becomes more exhilarating with each new revelation. Revel in the mystery and join us for questions and chat with Hernan Diaz! \nRegister for this author talk and check out other online author talks here: https://libraryc.org/lima
URL:https://lima.owwl.org/event/author-talk-hernan-diaz-trust-and-in-the-distance/
LOCATION:NY
END:VEVENT
BEGIN:VEVENT
DTSTART;TZID=America/New_York:20220927T183000
DTEND;TZID=America/New_York:20220927T203000
DTSTAMP:20260424T192119
CREATED:20220317T182509Z
LAST-MODIFIED:20220317T182509Z
UID:1250-1664303400-1664310600@lima.owwl.org
SUMMARY:Food Preservation 101: Intro to Canning
DESCRIPTION:
URL:https://lima.owwl.org/event/food-preservation-101-intro-to-canning-3/
LOCATION:NY
END:VEVENT
END:VCALENDAR