BEGIN:VCALENDAR
VERSION:2.0
PRODID:-//Lima Public Library - ECPv6.15.20//NONSGML v1.0//EN
CALSCALE:GREGORIAN
METHOD:PUBLISH
X-ORIGINAL-URL:https://lima.owwl.org
X-WR-CALDESC:Events for Lima Public Library
REFRESH-INTERVAL;VALUE=DURATION:PT1H
X-Robots-Tag:noindex
X-PUBLISHED-TTL:PT1H
BEGIN:VTIMEZONE
TZID:America/New_York
BEGIN:DAYLIGHT
TZOFFSETFROM:-0500
TZOFFSETTO:-0400
TZNAME:EDT
DTSTART:20210314T070000
END:DAYLIGHT
BEGIN:STANDARD
TZOFFSETFROM:-0400
TZOFFSETTO:-0500
TZNAME:EST
DTSTART:20211107T060000
END:STANDARD
BEGIN:DAYLIGHT
TZOFFSETFROM:-0500
TZOFFSETTO:-0400
TZNAME:EDT
DTSTART:20220313T070000
END:DAYLIGHT
BEGIN:STANDARD
TZOFFSETFROM:-0400
TZOFFSETTO:-0500
TZNAME:EST
DTSTART:20221106T060000
END:STANDARD
BEGIN:DAYLIGHT
TZOFFSETFROM:-0500
TZOFFSETTO:-0400
TZNAME:EDT
DTSTART:20230312T070000
END:DAYLIGHT
BEGIN:STANDARD
TZOFFSETFROM:-0400
TZOFFSETTO:-0500
TZNAME:EST
DTSTART:20231105T060000
END:STANDARD
END:VTIMEZONE
BEGIN:VEVENT
DTSTART;TZID=America/New_York:20221018T183000
DTEND;TZID=America/New_York:20221018T203000
DTSTAMP:20260424T192206
CREATED:20220317T182717Z
LAST-MODIFIED:20220317T182717Z
UID:1255-1666117800-1666125000@lima.owwl.org
SUMMARY:Food Preservation 101: Intro to Fermentation
DESCRIPTION:
URL:https://lima.owwl.org/event/food-preservation-101-intro-to-fermentation-3/
LOCATION:NY
END:VEVENT
BEGIN:VEVENT
DTSTART;TZID=America/New_York:20221018T190000
DTEND;TZID=America/New_York:20221018T200000
DTSTAMP:20260424T192206
CREATED:20220923T182029Z
LAST-MODIFIED:20220923T182029Z
UID:1495-1666119600-1666123200@lima.owwl.org
SUMMARY:Friends of the Lima Public Library Benefit: Fall Swing Dance Class
DESCRIPTION:Join us on October 18th from 7-8 PM for a swing dance class! This program will take place on the second floor of the Lima Town Hall on 7329 East Main Street in Lima\, NY.\n\n$5.00 per person\n\nAll ability levels are welcome!\n\nPlease register at 315-256-8152. Spots are limited.\n\nSecond floor of Lima Town Hall.\n\nYou do not have to be a Lima resident to attend. All are welcome!\n\nProceeds to benefit the Friends of the Lima Public Library
URL:https://lima.owwl.org/event/friends-of-the-lima-public-library-benefit-fall-swing-dance-class/
LOCATION:NY
END:VEVENT
BEGIN:VEVENT
DTSTART;TZID=America/New_York:20221018T190000
DTEND;TZID=America/New_York:20221018T200000
DTSTAMP:20260424T192206
CREATED:20220927T175534Z
LAST-MODIFIED:20220927T175721Z
UID:1508-1666119600-1666123200@lima.owwl.org
SUMMARY:Online Author Talk: Zain E. Asher\, Author of Where the Children Take Us
DESCRIPTION:Join us for an exquisitely moving conversation with popular CNN Anchor\, Zain E. Asher\, as she chats about her captivating and inspiring memoir Where the Children Take Us. \nIn Where the Children Take Us\, Asher tells the story of her mother’s harrowing fight to raise four children as a widowed immigrant in South London. There is tragedy in this tale\, but it is not a tragedy. When grief threatens to engulf her fractured family after a fatal accident\, Obiajulu Ejiofor\, suddenly a single mother in a foreign land\, refuses to accept defeat. Drawing on tough-love parenting strategies\, Obiajulu teaches her sons and daughters to overcome the daily pressures of poverty\, crime and prejudice–and much more. With her relentless support\, the children exceed all expectations–becoming a CNN anchor\, an Oscar-nominated actor–Asher’s older brother Chiwetel Ejiofor (12 Years a Slave)–a medical doctor\, and a thriving entrepreneur. Where the Children Take Us is an unforgettable portrait of strength\, tenacity\, love\, and perseverance embodied in one towering woman. \nRegister for this author talk and check out other online author talks here:
URL:https://lima.owwl.org/event/online-author-talk-zain-e-asher-author-of-where-the-children-take-us/
LOCATION:NY
END:VEVENT
END:VCALENDAR