BEGIN:VCALENDAR
VERSION:2.0
PRODID:-//Lima Public Library - ECPv6.15.20//NONSGML v1.0//EN
CALSCALE:GREGORIAN
METHOD:PUBLISH
X-ORIGINAL-URL:https://lima.owwl.org
X-WR-CALDESC:Events for Lima Public Library
REFRESH-INTERVAL;VALUE=DURATION:PT1H
X-Robots-Tag:noindex
X-PUBLISHED-TTL:PT1H
BEGIN:VTIMEZONE
TZID:America/New_York
BEGIN:DAYLIGHT
TZOFFSETFROM:-0500
TZOFFSETTO:-0400
TZNAME:EDT
DTSTART:20210314T070000
END:DAYLIGHT
BEGIN:STANDARD
TZOFFSETFROM:-0400
TZOFFSETTO:-0500
TZNAME:EST
DTSTART:20211107T060000
END:STANDARD
BEGIN:DAYLIGHT
TZOFFSETFROM:-0500
TZOFFSETTO:-0400
TZNAME:EDT
DTSTART:20220313T070000
END:DAYLIGHT
BEGIN:STANDARD
TZOFFSETFROM:-0400
TZOFFSETTO:-0500
TZNAME:EST
DTSTART:20221106T060000
END:STANDARD
BEGIN:DAYLIGHT
TZOFFSETFROM:-0500
TZOFFSETTO:-0400
TZNAME:EDT
DTSTART:20230312T070000
END:DAYLIGHT
BEGIN:STANDARD
TZOFFSETFROM:-0400
TZOFFSETTO:-0500
TZNAME:EST
DTSTART:20231105T060000
END:STANDARD
END:VTIMEZONE
BEGIN:VEVENT
DTSTART;TZID=America/New_York:20221022T093000
DTEND;TZID=America/New_York:20221022T120000
DTSTAMP:20260424T192207
CREATED:20220831T171121Z
LAST-MODIFIED:20220831T171121Z
UID:1450-1666431000-1666440000@lima.owwl.org
SUMMARY:Crossroads Crafters' Circle
DESCRIPTION:This is an informal group that gathers to set aside time to work on a craft project while enjoying the company of others. You are invited to come and craft in good company! Knit\, crochet\, quilt\, braid\, scrapbook\, etc. All crafters are welcomed. Come for a short visit or for the entire time. Grab your supplies and join us. Every open Saturday at the Lima Library
URL:https://lima.owwl.org/event/crossroads-crafters-circle-20/
LOCATION:NY
END:VEVENT
BEGIN:VEVENT
DTSTART;TZID=America/New_York:20221022T103000
DTEND;TZID=America/New_York:20221022T120000
DTSTAMP:20260424T192207
CREATED:20220729T173935Z
LAST-MODIFIED:20220729T173935Z
UID:1398-1666434600-1666440000@lima.owwl.org
SUMMARY:Make a Roller Coaster for Marbles
DESCRIPTION:Saturday 10/22/22 at 10:30 AM \nFind your inner engineer and build a roller coaster for a marble. Assemble foam tubes and blocks into a track for the marble. Test your structure\, modify\, rebuild\, retest and problem solve until your marble has a smooth sailing path down the track. How high should your coaster be to provide enough momentum down the track? The marble will let you know. You are the designer\, builder\, and tester of your track. Let’s have fun making a roller coaster for a marble. \nThis event is for ages 8+. (Adults are welcome\, too!) \nBrought to you by the Friends of the Lima Public Library
URL:https://lima.owwl.org/event/make-a-roller-coaster-for-marbles/
LOCATION:NY
END:VEVENT
END:VCALENDAR