BEGIN:VCALENDAR
VERSION:2.0
PRODID:-//Lima Public Library - ECPv6.15.20//NONSGML v1.0//EN
CALSCALE:GREGORIAN
METHOD:PUBLISH
X-ORIGINAL-URL:https://lima.owwl.org
X-WR-CALDESC:Events for Lima Public Library
REFRESH-INTERVAL;VALUE=DURATION:PT1H
X-Robots-Tag:noindex
X-PUBLISHED-TTL:PT1H
BEGIN:VTIMEZONE
TZID:America/New_York
BEGIN:DAYLIGHT
TZOFFSETFROM:-0500
TZOFFSETTO:-0400
TZNAME:EDT
DTSTART:20210314T070000
END:DAYLIGHT
BEGIN:STANDARD
TZOFFSETFROM:-0400
TZOFFSETTO:-0500
TZNAME:EST
DTSTART:20211107T060000
END:STANDARD
BEGIN:DAYLIGHT
TZOFFSETFROM:-0500
TZOFFSETTO:-0400
TZNAME:EDT
DTSTART:20220313T070000
END:DAYLIGHT
BEGIN:STANDARD
TZOFFSETFROM:-0400
TZOFFSETTO:-0500
TZNAME:EST
DTSTART:20221106T060000
END:STANDARD
BEGIN:DAYLIGHT
TZOFFSETFROM:-0500
TZOFFSETTO:-0400
TZNAME:EDT
DTSTART:20230312T070000
END:DAYLIGHT
BEGIN:STANDARD
TZOFFSETFROM:-0400
TZOFFSETTO:-0500
TZNAME:EST
DTSTART:20231105T060000
END:STANDARD
END:VTIMEZONE
BEGIN:VEVENT
DTSTART;TZID=America/New_York:20221025T190000
DTEND;TZID=America/New_York:20221025T200000
DTSTAMP:20260424T192204
CREATED:20220923T184757Z
LAST-MODIFIED:20220923T185241Z
UID:1501-1666724400-1666728000@lima.owwl.org
SUMMARY:Watch Party: Kate Quinn\, The Diamond Eye
DESCRIPTION:Have you heard about our partnership with the Library Speakers’ Consortium to bring you online author talks? Past speakers include Alka Joshi and Liz Moore.\n\nOn October 25\, Kate Quinn will be online discussing her new book\, The Diamond Eye. We would love for you to join us for a watch party right here at the library. Catch a livestream of the talk\, as it’s happening.\n\nIt’s also a great chance to meet fellow book lovers and maybe discuss a book you enjoyed!\n\nSee you here!\n\nHosted by the Friends of the Lima Public Library
URL:https://lima.owwl.org/event/watch-party-kate-quinn-the-diamond-eye/
LOCATION:NY
END:VEVENT
BEGIN:VEVENT
DTSTART;TZID=America/New_York:20221025T190000
DTEND;TZID=America/New_York:20221025T200000
DTSTAMP:20260424T192204
CREATED:20220927T175605Z
LAST-MODIFIED:20220927T175738Z
UID:1510-1666724400-1666728000@lima.owwl.org
SUMMARY:Online Author Talk: Kate Quinn\, Author of the Diamond Eye
DESCRIPTION:We invite you for an unforgettable conversation with historical fiction writer Kate Quinn as she discusses her newest release\, The Diamond Eye\, and her other works. Quinn is the author of several New York Times bestsellers\, including The Alice Network\, The Huntress\, and The Rose Code. \nThe Diamond Eye offers an unforgettable World War II tale of a quiet bookworm who becomes history’s deadliest female sniper. After Hitler’s invasion of Ukraine and Russia\, Mila Pavlichenko must forge herself from studious young woman to deadly sniper – a lethal hunter of Nazis known as Lady Death. When news of her three hundredth kill makes her a national heroine\, Mila finds herself torn from the bloody battlefields of the eastern front and sent to America on a goodwill tour. But when an old enemy from Mila’s past joins forces with a deadly new foe lurking in the shadows\, Lady Death finds herself battling her own demons\, and enemy bullets\, in the deadliest duel of her life. \nBased on a true story\, The Diamond Eye is a haunting novel of heroism born of desperation\, of a woman and mother who became a soldier and who found her place in the world that changed the course of history forever. \nRegister for this author talk and check out other online author talks here:
URL:https://lima.owwl.org/event/online-author-talk-kate-quinn-author-of-the-diamond-eye/
LOCATION:NY
END:VEVENT
END:VCALENDAR