BEGIN:VCALENDAR
VERSION:2.0
PRODID:-//Lima Public Library - ECPv6.15.20//NONSGML v1.0//EN
CALSCALE:GREGORIAN
METHOD:PUBLISH
X-ORIGINAL-URL:https://lima.owwl.org
X-WR-CALDESC:Events for Lima Public Library
REFRESH-INTERVAL;VALUE=DURATION:PT1H
X-Robots-Tag:noindex
X-PUBLISHED-TTL:PT1H
BEGIN:VTIMEZONE
TZID:America/New_York
BEGIN:DAYLIGHT
TZOFFSETFROM:-0500
TZOFFSETTO:-0400
TZNAME:EDT
DTSTART:20210314T070000
END:DAYLIGHT
BEGIN:STANDARD
TZOFFSETFROM:-0400
TZOFFSETTO:-0500
TZNAME:EST
DTSTART:20211107T060000
END:STANDARD
BEGIN:DAYLIGHT
TZOFFSETFROM:-0500
TZOFFSETTO:-0400
TZNAME:EDT
DTSTART:20220313T070000
END:DAYLIGHT
BEGIN:STANDARD
TZOFFSETFROM:-0400
TZOFFSETTO:-0500
TZNAME:EST
DTSTART:20221106T060000
END:STANDARD
BEGIN:DAYLIGHT
TZOFFSETFROM:-0500
TZOFFSETTO:-0400
TZNAME:EDT
DTSTART:20230312T070000
END:DAYLIGHT
BEGIN:STANDARD
TZOFFSETFROM:-0400
TZOFFSETTO:-0500
TZNAME:EST
DTSTART:20231105T060000
END:STANDARD
END:VTIMEZONE
BEGIN:VEVENT
DTSTART;TZID=America/New_York:20221031T170000
DTEND;TZID=America/New_York:20221101T130000
DTSTAMP:20260424T173826
CREATED:20220921T194838Z
LAST-MODIFIED:20220921T195019Z
UID:1487-1667235600-1667307600@lima.owwl.org
SUMMARY:Closing at 5:00 PM & Locked Dropbox
DESCRIPTION:
URL:https://lima.owwl.org/event/closing-at-500-pm-locked-dropbox/
LOCATION:NY
END:VEVENT
BEGIN:VEVENT
DTSTART;TZID=America/New_York:20221101T183000
DTEND;TZID=America/New_York:20221101T203000
DTSTAMP:20260424T173826
CREATED:20220317T182915Z
LAST-MODIFIED:20220317T182915Z
UID:1260-1667327400-1667334600@lima.owwl.org
SUMMARY:Food Preservation 101: Intro to Dehydrating
DESCRIPTION:
URL:https://lima.owwl.org/event/food-preservation-101-intro-to-dehydrating-3/
LOCATION:NY
END:VEVENT
END:VCALENDAR