BEGIN:VCALENDAR
VERSION:2.0
PRODID:-//Lima Public Library - ECPv6.15.20//NONSGML v1.0//EN
CALSCALE:GREGORIAN
METHOD:PUBLISH
X-ORIGINAL-URL:https://lima.owwl.org
X-WR-CALDESC:Events for Lima Public Library
REFRESH-INTERVAL;VALUE=DURATION:PT1H
X-Robots-Tag:noindex
X-PUBLISHED-TTL:PT1H
BEGIN:VTIMEZONE
TZID:America/New_York
BEGIN:DAYLIGHT
TZOFFSETFROM:-0500
TZOFFSETTO:-0400
TZNAME:EDT
DTSTART:20210314T070000
END:DAYLIGHT
BEGIN:STANDARD
TZOFFSETFROM:-0400
TZOFFSETTO:-0500
TZNAME:EST
DTSTART:20211107T060000
END:STANDARD
BEGIN:DAYLIGHT
TZOFFSETFROM:-0500
TZOFFSETTO:-0400
TZNAME:EDT
DTSTART:20220313T070000
END:DAYLIGHT
BEGIN:STANDARD
TZOFFSETFROM:-0400
TZOFFSETTO:-0500
TZNAME:EST
DTSTART:20221106T060000
END:STANDARD
BEGIN:DAYLIGHT
TZOFFSETFROM:-0500
TZOFFSETTO:-0400
TZNAME:EDT
DTSTART:20230312T070000
END:DAYLIGHT
BEGIN:STANDARD
TZOFFSETFROM:-0400
TZOFFSETTO:-0500
TZNAME:EST
DTSTART:20231105T060000
END:STANDARD
END:VTIMEZONE
BEGIN:VEVENT
DTSTART;TZID=America/New_York:20221110T140000
DTEND;TZID=America/New_York:20221110T150000
DTSTAMP:20260424T173824
CREATED:20221012T175219Z
LAST-MODIFIED:20221012T175219Z
UID:1535-1668088800-1668092400@lima.owwl.org
SUMMARY:Online Author Talk: Bonnie Garmus\, Lessons in Chemistry
DESCRIPTION:Clear your calendar and join us for an enthralling afternoon hour as we chat with New York Times Bestselling #author @bonnie_garmus_author about her #book Lessons in Chemistry on November 10th at 2 PM EST/11 AM PDT via digital live-stream in partnership with Lima Public Library! #bestseller #BonnieGarmus #LessonsInChemistry #LSC #AuthorTalk \n  \nRegister and view more Author Talks here: libraryc.org/lima
URL:https://lima.owwl.org/event/online-author-talk-bonnie-garmus-lessons-in-chemistry/
LOCATION:NY
END:VEVENT
END:VCALENDAR