BEGIN:VCALENDAR
VERSION:2.0
PRODID:-//Lima Public Library - ECPv6.15.20//NONSGML v1.0//EN
CALSCALE:GREGORIAN
METHOD:PUBLISH
X-WR-CALNAME:Lima Public Library
X-ORIGINAL-URL:https://lima.owwl.org
X-WR-CALDESC:Events for Lima Public Library
REFRESH-INTERVAL;VALUE=DURATION:PT1H
X-Robots-Tag:noindex
X-PUBLISHED-TTL:PT1H
BEGIN:VTIMEZONE
TZID:America/New_York
BEGIN:DAYLIGHT
TZOFFSETFROM:-0500
TZOFFSETTO:-0400
TZNAME:EDT
DTSTART:20210314T070000
END:DAYLIGHT
BEGIN:STANDARD
TZOFFSETFROM:-0400
TZOFFSETTO:-0500
TZNAME:EST
DTSTART:20211107T060000
END:STANDARD
BEGIN:DAYLIGHT
TZOFFSETFROM:-0500
TZOFFSETTO:-0400
TZNAME:EDT
DTSTART:20220313T070000
END:DAYLIGHT
BEGIN:STANDARD
TZOFFSETFROM:-0400
TZOFFSETTO:-0500
TZNAME:EST
DTSTART:20221106T060000
END:STANDARD
BEGIN:DAYLIGHT
TZOFFSETFROM:-0500
TZOFFSETTO:-0400
TZNAME:EDT
DTSTART:20230312T070000
END:DAYLIGHT
BEGIN:STANDARD
TZOFFSETFROM:-0400
TZOFFSETTO:-0500
TZNAME:EST
DTSTART:20231105T060000
END:STANDARD
END:VTIMEZONE
BEGIN:VEVENT
DTSTART;TZID=America/New_York:20221214T103000
DTEND;TZID=America/New_York:20221214T113000
DTSTAMP:20260424T160812
CREATED:20221021T180218Z
LAST-MODIFIED:20221021T180218Z
UID:1544-1671013800-1671017400@lima.owwl.org
SUMMARY:Santa visit!
DESCRIPTION:Santa will be stopping by our library on Wednesday 12/14. Stop in and see the man in the red suit at 10:30 AM.
URL:https://lima.owwl.org/event/santa-visit/
LOCATION:NY
END:VEVENT
BEGIN:VEVENT
DTSTART;TZID=America/New_York:20221214T120000
DTEND;TZID=America/New_York:20221214T130000
DTSTAMP:20260424T160812
CREATED:20221026T185550Z
LAST-MODIFIED:20221026T185550Z
UID:1553-1671019200-1671022800@lima.owwl.org
SUMMARY:Online Author Talk: Dr. Nicole Eustace\, Author of Covered with Night
DESCRIPTION:
URL:https://lima.owwl.org/event/online-author-talk-dr-nicole-eustace-author-of-covered-with-night/
LOCATION:NY
END:VEVENT
END:VCALENDAR