BEGIN:VCALENDAR
VERSION:2.0
PRODID:-//Lima Public Library - ECPv6.15.20//NONSGML v1.0//EN
CALSCALE:GREGORIAN
METHOD:PUBLISH
X-ORIGINAL-URL:https://lima.owwl.org
X-WR-CALDESC:Events for Lima Public Library
REFRESH-INTERVAL;VALUE=DURATION:PT1H
X-Robots-Tag:noindex
X-PUBLISHED-TTL:PT1H
BEGIN:VTIMEZONE
TZID:America/New_York
BEGIN:DAYLIGHT
TZOFFSETFROM:-0500
TZOFFSETTO:-0400
TZNAME:EDT
DTSTART:20220313T070000
END:DAYLIGHT
BEGIN:STANDARD
TZOFFSETFROM:-0400
TZOFFSETTO:-0500
TZNAME:EST
DTSTART:20221106T060000
END:STANDARD
BEGIN:DAYLIGHT
TZOFFSETFROM:-0500
TZOFFSETTO:-0400
TZNAME:EDT
DTSTART:20230312T070000
END:DAYLIGHT
BEGIN:STANDARD
TZOFFSETFROM:-0400
TZOFFSETTO:-0500
TZNAME:EST
DTSTART:20231105T060000
END:STANDARD
BEGIN:DAYLIGHT
TZOFFSETFROM:-0500
TZOFFSETTO:-0400
TZNAME:EDT
DTSTART:20240310T070000
END:DAYLIGHT
BEGIN:STANDARD
TZOFFSETFROM:-0400
TZOFFSETTO:-0500
TZNAME:EST
DTSTART:20241103T060000
END:STANDARD
END:VTIMEZONE
BEGIN:VEVENT
DTSTART;TZID=America/New_York:20230123T183000
DTEND;TZID=America/New_York:20230123T203000
DTSTAMP:20260424T142746
CREATED:20221219T184932Z
LAST-MODIFIED:20230105T195209Z
UID:1760-1674498600-1674505800@lima.owwl.org
SUMMARY:Game Night - Board Game Night - Made possible by Friends of the Lima Public Library
DESCRIPTION:Join us for this event made possible by the Friends of the Lima Public Library. It will be a night of fun and games from familiar favorites to new classics. All ages are welcome though featured games will be for ages 8+.\n\nFuture game nights will be the 2nd and 4th Monday of the month. Check back regularly for themed game nights.
URL:https://lima.owwl.org/event/game-night-made-possible-by-friends-of-the-lima-public-library/
LOCATION:NY
END:VEVENT
END:VCALENDAR