BEGIN:VCALENDAR
VERSION:2.0
PRODID:-//Lima Public Library - ECPv6.15.20//NONSGML v1.0//EN
CALSCALE:GREGORIAN
METHOD:PUBLISH
X-WR-CALNAME:Lima Public Library
X-ORIGINAL-URL:https://lima.owwl.org
X-WR-CALDESC:Events for Lima Public Library
REFRESH-INTERVAL;VALUE=DURATION:PT1H
X-Robots-Tag:noindex
X-PUBLISHED-TTL:PT1H
BEGIN:VTIMEZONE
TZID:America/New_York
BEGIN:DAYLIGHT
TZOFFSETFROM:-0500
TZOFFSETTO:-0400
TZNAME:EDT
DTSTART:20220313T070000
END:DAYLIGHT
BEGIN:STANDARD
TZOFFSETFROM:-0400
TZOFFSETTO:-0500
TZNAME:EST
DTSTART:20221106T060000
END:STANDARD
BEGIN:DAYLIGHT
TZOFFSETFROM:-0500
TZOFFSETTO:-0400
TZNAME:EDT
DTSTART:20230312T070000
END:DAYLIGHT
BEGIN:STANDARD
TZOFFSETFROM:-0400
TZOFFSETTO:-0500
TZNAME:EST
DTSTART:20231105T060000
END:STANDARD
BEGIN:DAYLIGHT
TZOFFSETFROM:-0500
TZOFFSETTO:-0400
TZNAME:EDT
DTSTART:20240310T070000
END:DAYLIGHT
BEGIN:STANDARD
TZOFFSETFROM:-0400
TZOFFSETTO:-0500
TZNAME:EST
DTSTART:20241103T060000
END:STANDARD
END:VTIMEZONE
BEGIN:VEVENT
DTSTART;TZID=America/New_York:20230225T093000
DTEND;TZID=America/New_York:20230225T120000
DTSTAMP:20260424T130554
CREATED:20230118T181320Z
LAST-MODIFIED:20230118T181320Z
UID:1861-1677317400-1677326400@lima.owwl.org
SUMMARY:Crossroads Crafters' Circle
DESCRIPTION:
URL:https://lima.owwl.org/event/crossroads-crafters-circle-33/
LOCATION:NY
END:VEVENT
BEGIN:VEVENT
DTSTART;TZID=America/New_York:20230225T103000
DTEND;TZID=America/New_York:20230225T110000
DTSTAMP:20260424T130554
CREATED:20221221T183550Z
LAST-MODIFIED:20230118T180003Z
UID:1789-1677321000-1677322800@lima.owwl.org
SUMMARY:Story Time with the Friends
DESCRIPTION:Made possible by the Friends of the Lima Public Library
URL:https://lima.owwl.org/event/story-time-with-the-friends-7/
LOCATION:NY
END:VEVENT
END:VCALENDAR