BEGIN:VCALENDAR
VERSION:2.0
PRODID:-//Lima Public Library - ECPv6.15.20//NONSGML v1.0//EN
CALSCALE:GREGORIAN
METHOD:PUBLISH
X-WR-CALNAME:Lima Public Library
X-ORIGINAL-URL:https://lima.owwl.org
X-WR-CALDESC:Events for Lima Public Library
REFRESH-INTERVAL;VALUE=DURATION:PT1H
X-Robots-Tag:noindex
X-PUBLISHED-TTL:PT1H
BEGIN:VTIMEZONE
TZID:America/New_York
BEGIN:DAYLIGHT
TZOFFSETFROM:-0500
TZOFFSETTO:-0400
TZNAME:EDT
DTSTART:20220313T070000
END:DAYLIGHT
BEGIN:STANDARD
TZOFFSETFROM:-0400
TZOFFSETTO:-0500
TZNAME:EST
DTSTART:20221106T060000
END:STANDARD
BEGIN:DAYLIGHT
TZOFFSETFROM:-0500
TZOFFSETTO:-0400
TZNAME:EDT
DTSTART:20230312T070000
END:DAYLIGHT
BEGIN:STANDARD
TZOFFSETFROM:-0400
TZOFFSETTO:-0500
TZNAME:EST
DTSTART:20231105T060000
END:STANDARD
BEGIN:DAYLIGHT
TZOFFSETFROM:-0500
TZOFFSETTO:-0400
TZNAME:EDT
DTSTART:20240310T070000
END:DAYLIGHT
BEGIN:STANDARD
TZOFFSETFROM:-0400
TZOFFSETTO:-0500
TZNAME:EST
DTSTART:20241103T060000
END:STANDARD
END:VTIMEZONE
BEGIN:VEVENT
DTSTART;TZID=America/New_York:20230313T130000
DTEND;TZID=America/New_York:20230313T140000
DTSTAMP:20260424T114209
CREATED:20230206T182126Z
LAST-MODIFIED:20230206T182626Z
UID:1905-1678712400-1678716000@lima.owwl.org
SUMMARY:Online Author Talk: David Epstein\, Range: Why Generalists Triumphs in a Specialized World
DESCRIPTION:What’s the most effective path to success in any domain? It’s not what you think. You’re invited to find out during a conversation with New York Times bestselling author David Epstein as he chats about his most recent book\, Range: Why Generalists Triumph in a Specialized World. \n  \nPlenty of experts argue that anyone who wants to develop a skill\, play an instrument\, or lead their field should start early\, focus intensely\, and rack up as many hours of deliberate practice as possible. But a closer look at research on the world’s top performers\, from professional athletes to Nobel laureates\, shows that early specialization is the exception\, not the rule. \n  \nEpstein examined the world’s most successful athletes\, artists\, musicians\, inventors\, forecasters\, and scientists. He discovered that generalists\, not specialists\, are primed to excel in most fields—especially those that are complex and unpredictable. Generalists often find their path late\, juggling many interests rather than focusing on one. They’re also more creative\, agile\, and able to make connections their more specialized peers can’t see. Provocative\, rigorous\, and engrossing\, Range makes a compelling case for actively cultivating inefficiency. \n  \nRegister now at https://libraryc.org/lima/24414
URL:https://lima.owwl.org/event/online-author-talk-david-epstein-range-why-generalists-triumphs-in-a-specialized-world/
LOCATION:NY
END:VEVENT
BEGIN:VEVENT
DTSTART;TZID=America/New_York:20230313T183000
DTEND;TZID=America/New_York:20230313T203000
DTSTAMP:20260424T114209
CREATED:20221219T185124Z
LAST-MODIFIED:20221219T185124Z
UID:1766-1678732200-1678739400@lima.owwl.org
SUMMARY:Game Night - Made possible by the Friends of the Lima Public Library
DESCRIPTION:Details to come.
URL:https://lima.owwl.org/event/game-night-made-possible-by-the-friends-of-the-lima-public-library-3/
LOCATION:NY
END:VEVENT
END:VCALENDAR