BEGIN:VCALENDAR
VERSION:2.0
PRODID:-//Lima Public Library - ECPv6.15.20//NONSGML v1.0//EN
CALSCALE:GREGORIAN
METHOD:PUBLISH
X-ORIGINAL-URL:https://lima.owwl.org
X-WR-CALDESC:Events for Lima Public Library
REFRESH-INTERVAL;VALUE=DURATION:PT1H
X-Robots-Tag:noindex
X-PUBLISHED-TTL:PT1H
BEGIN:VTIMEZONE
TZID:America/New_York
BEGIN:DAYLIGHT
TZOFFSETFROM:-0500
TZOFFSETTO:-0400
TZNAME:EDT
DTSTART:20220313T070000
END:DAYLIGHT
BEGIN:STANDARD
TZOFFSETFROM:-0400
TZOFFSETTO:-0500
TZNAME:EST
DTSTART:20221106T060000
END:STANDARD
BEGIN:DAYLIGHT
TZOFFSETFROM:-0500
TZOFFSETTO:-0400
TZNAME:EDT
DTSTART:20230312T070000
END:DAYLIGHT
BEGIN:STANDARD
TZOFFSETFROM:-0400
TZOFFSETTO:-0500
TZNAME:EST
DTSTART:20231105T060000
END:STANDARD
BEGIN:DAYLIGHT
TZOFFSETFROM:-0500
TZOFFSETTO:-0400
TZNAME:EDT
DTSTART:20240310T070000
END:DAYLIGHT
BEGIN:STANDARD
TZOFFSETFROM:-0400
TZOFFSETTO:-0500
TZNAME:EST
DTSTART:20241103T060000
END:STANDARD
END:VTIMEZONE
BEGIN:VEVENT
DTSTART;TZID=America/New_York:20230318T093000
DTEND;TZID=America/New_York:20230318T120000
DTSTAMP:20260424T114313
CREATED:20230118T181457Z
LAST-MODIFIED:20230118T181457Z
UID:1867-1679131800-1679140800@lima.owwl.org
SUMMARY:Crossroads Crafters' Circle
DESCRIPTION:
URL:https://lima.owwl.org/event/crossroads-crafters-circle-36/
LOCATION:NY
END:VEVENT
BEGIN:VEVENT
DTSTART;TZID=America/New_York:20230318T103000
DTEND;TZID=America/New_York:20230318T110000
DTSTAMP:20260424T114313
CREATED:20221221T183650Z
LAST-MODIFIED:20230303T201436Z
UID:1791-1679135400-1679137200@lima.owwl.org
SUMMARY:Story Time with the Friends
DESCRIPTION:Made possible by the Friends of the Lima Public Library
URL:https://lima.owwl.org/event/story-time-with-the-friends-8/
LOCATION:NY
END:VEVENT
BEGIN:VEVENT
DTSTART;TZID=America/New_York:20230318T103000
DTEND;TZID=America/New_York:20230318T113000
DTSTAMP:20260424T114313
CREATED:20221115T214553Z
LAST-MODIFIED:20221115T214553Z
UID:1576-1679135400-1679139000@lima.owwl.org
SUMMARY:Kids' Event: Making Oobleck
DESCRIPTION:More info to come.
URL:https://lima.owwl.org/event/kids-event-making-oobleck/
LOCATION:NY
END:VEVENT
END:VCALENDAR