BEGIN:VCALENDAR
VERSION:2.0
PRODID:-//Lima Public Library - ECPv6.15.20//NONSGML v1.0//EN
CALSCALE:GREGORIAN
METHOD:PUBLISH
X-WR-CALNAME:Lima Public Library
X-ORIGINAL-URL:https://lima.owwl.org
X-WR-CALDESC:Events for Lima Public Library
REFRESH-INTERVAL;VALUE=DURATION:PT1H
X-Robots-Tag:noindex
X-PUBLISHED-TTL:PT1H
BEGIN:VTIMEZONE
TZID:America/New_York
BEGIN:DAYLIGHT
TZOFFSETFROM:-0500
TZOFFSETTO:-0400
TZNAME:EDT
DTSTART:20220313T070000
END:DAYLIGHT
BEGIN:STANDARD
TZOFFSETFROM:-0400
TZOFFSETTO:-0500
TZNAME:EST
DTSTART:20221106T060000
END:STANDARD
BEGIN:DAYLIGHT
TZOFFSETFROM:-0500
TZOFFSETTO:-0400
TZNAME:EDT
DTSTART:20230312T070000
END:DAYLIGHT
BEGIN:STANDARD
TZOFFSETFROM:-0400
TZOFFSETTO:-0500
TZNAME:EST
DTSTART:20231105T060000
END:STANDARD
BEGIN:DAYLIGHT
TZOFFSETFROM:-0500
TZOFFSETTO:-0400
TZNAME:EDT
DTSTART:20240310T070000
END:DAYLIGHT
BEGIN:STANDARD
TZOFFSETFROM:-0400
TZOFFSETTO:-0500
TZNAME:EST
DTSTART:20241103T060000
END:STANDARD
END:VTIMEZONE
BEGIN:VEVENT
DTSTART;TZID=America/New_York:20230329T103000
DTEND;TZID=America/New_York:20230329T123000
DTSTAMP:20260424T100126
CREATED:20221115T214726Z
LAST-MODIFIED:20230322T141823Z
UID:1580-1680085800-1680093000@lima.owwl.org
SUMMARY:Food Preservation 101 - Introduction to Fermentation
DESCRIPTION:  \n \nTuesday 3/28 6:30-8:30 or Wednesday 3/29 10:30 AM-12:30 PM (same info presented in both–pick the time that works best for you!) \nLearn how easy it is to get started in making sauerkraut\, kimchi\, kombucha\, and various other fermented goods. See different fermentation containers\, learn how to keep air away the from the fermenting food and how you don’t need to spend money on gadgets to get started in fermentation. \nPresented by CCE Certified Master Food Preserver\, Barb Brenner
URL:https://lima.owwl.org/event/food-preservation-101-introduction-to-fermentation-2/
LOCATION:NY
END:VEVENT
END:VCALENDAR