BEGIN:VCALENDAR
VERSION:2.0
PRODID:-//Lima Public Library - ECPv6.15.20//NONSGML v1.0//EN
CALSCALE:GREGORIAN
METHOD:PUBLISH
X-ORIGINAL-URL:https://lima.owwl.org
X-WR-CALDESC:Events for Lima Public Library
REFRESH-INTERVAL;VALUE=DURATION:PT1H
X-Robots-Tag:noindex
X-PUBLISHED-TTL:PT1H
BEGIN:VTIMEZONE
TZID:America/New_York
BEGIN:DAYLIGHT
TZOFFSETFROM:-0500
TZOFFSETTO:-0400
TZNAME:EDT
DTSTART:20220313T070000
END:DAYLIGHT
BEGIN:STANDARD
TZOFFSETFROM:-0400
TZOFFSETTO:-0500
TZNAME:EST
DTSTART:20221106T060000
END:STANDARD
BEGIN:DAYLIGHT
TZOFFSETFROM:-0500
TZOFFSETTO:-0400
TZNAME:EDT
DTSTART:20230312T070000
END:DAYLIGHT
BEGIN:STANDARD
TZOFFSETFROM:-0400
TZOFFSETTO:-0500
TZNAME:EST
DTSTART:20231105T060000
END:STANDARD
BEGIN:DAYLIGHT
TZOFFSETFROM:-0500
TZOFFSETTO:-0400
TZNAME:EDT
DTSTART:20240310T070000
END:DAYLIGHT
BEGIN:STANDARD
TZOFFSETFROM:-0400
TZOFFSETTO:-0500
TZNAME:EST
DTSTART:20241103T060000
END:STANDARD
END:VTIMEZONE
BEGIN:VEVENT
DTSTART;TZID=America/New_York:20230510T200000
DTEND;TZID=America/New_York:20230510T210000
DTSTAMP:20260424T083229
CREATED:20230425T182706Z
LAST-MODIFIED:20230425T182706Z
UID:2073-1683748800-1683752400@lima.owwl.org
SUMMARY:Online Author Talk: Not Funny\, Jena Friedman
DESCRIPTION:Growing up\, Jena Friedman didn’t care about being likable. And she never wanted to be a comedian\, either. A child of the 90s\, she wouldn’t discover her knack for the funny business until research for her college thesis led her to take an improv class in Chicago. \nThat anthropology paper\, written on race\, class\, and gender in the city’s comedy scene\, was\, in Jena’s own words\, “just as funny as it sounds.” But it did lay the groundwork for a career that has seen her write and produce for The Daily Show with Jon Stewart\, the Late Show with David Letterman\, and the Oscar nominated Borat Subsequent Moviefilm. \nFriedman’s debut collection\, Not Funny\, takes on the third rails of modern life in Jena’s bold and subversive style\, with essays that explore cancel culture\, sexism\, work\, celebrity worship\, and…dead baby jokes. \nIn a moment where women’s rights are being rolled back\, fascism is on the rise\, and so many of us could use a breather as we struggle to get by\, Jena applies her unique gifts to pull a laugh from things deemed too raw\, too precious\, and too scary to joke about. She shares her stories of taking on those who told her she was too brash\, too edgy\, and too “unlikable” to make it. She deftly dissects how we get coerced into silence on the issues that matter most\, until they’ve gone too far afield to be turned back around again. And she shares her struggles to make it (-ish) in a world that\, more often than not\, would rather tune out than listen to a woman confronting the indignities we’ve been told to bear. \nAbout the Author: Jena Friedman is a comedian\, filmmaker\, and creator of AMC’s Indefensible and Soft Focus with Jena Friedman on Adult Swim. She has worked on The Daily Show with Jon Stewart\, Late Show with David Letterman\, and her writing has appeared in The New Yorker\, ARTNET\, and The Guardian. She was nominated for an Academy Award for Best Adapted Screenplay\, and won a Writer’s Guild of America award for her work on Borat Subsequent Moviefilm. She splits her time between Los Angeles and New York. Find out more at JenaFriedman.com and follow her on Twitter @JenaFriedman.
URL:https://lima.owwl.org/event/online-author-talk-not-funny-jena-friedman/
LOCATION:NY
END:VEVENT
END:VCALENDAR