BEGIN:VCALENDAR
VERSION:2.0
PRODID:-//Lima Public Library - ECPv6.15.20//NONSGML v1.0//EN
CALSCALE:GREGORIAN
METHOD:PUBLISH
X-WR-CALNAME:Lima Public Library
X-ORIGINAL-URL:https://lima.owwl.org
X-WR-CALDESC:Events for Lima Public Library
REFRESH-INTERVAL;VALUE=DURATION:PT1H
X-Robots-Tag:noindex
X-PUBLISHED-TTL:PT1H
BEGIN:VTIMEZONE
TZID:America/New_York
BEGIN:DAYLIGHT
TZOFFSETFROM:-0500
TZOFFSETTO:-0400
TZNAME:EDT
DTSTART:20220313T070000
END:DAYLIGHT
BEGIN:STANDARD
TZOFFSETFROM:-0400
TZOFFSETTO:-0500
TZNAME:EST
DTSTART:20221106T060000
END:STANDARD
BEGIN:DAYLIGHT
TZOFFSETFROM:-0500
TZOFFSETTO:-0400
TZNAME:EDT
DTSTART:20230312T070000
END:DAYLIGHT
BEGIN:STANDARD
TZOFFSETFROM:-0400
TZOFFSETTO:-0500
TZNAME:EST
DTSTART:20231105T060000
END:STANDARD
BEGIN:DAYLIGHT
TZOFFSETFROM:-0500
TZOFFSETTO:-0400
TZNAME:EDT
DTSTART:20240310T070000
END:DAYLIGHT
BEGIN:STANDARD
TZOFFSETFROM:-0400
TZOFFSETTO:-0500
TZNAME:EST
DTSTART:20241103T060000
END:STANDARD
END:VTIMEZONE
BEGIN:VEVENT
DTSTART;TZID=America/New_York:20230513T093000
DTEND;TZID=America/New_York:20230513T103000
DTSTAMP:20260424T083124
CREATED:20230322T173001Z
LAST-MODIFIED:20230322T173001Z
UID:1996-1683970200-1683973800@lima.owwl.org
SUMMARY:Alcohol Ink Glass - Made possible by the Friends of the Lima Public Library
DESCRIPTION:Details to come
URL:https://lima.owwl.org/event/alcohol-ink-glass-made-possible-by-the-friends-of-the-lima-public-library/
LOCATION:NY
END:VEVENT
BEGIN:VEVENT
DTSTART;TZID=America/New_York:20230513T093000
DTEND;TZID=America/New_York:20230513T120000
DTSTAMP:20260424T083124
CREATED:20230118T181847Z
LAST-MODIFIED:20230118T181847Z
UID:1881-1683970200-1683979200@lima.owwl.org
SUMMARY:Crossroads Crafters' Circle
DESCRIPTION:
URL:https://lima.owwl.org/event/crossroads-crafters-circle-43/
LOCATION:NY
END:VEVENT
BEGIN:VEVENT
DTSTART;TZID=America/New_York:20230513T103000
DTEND;TZID=America/New_York:20230513T110000
DTSTAMP:20260424T083124
CREATED:20230322T173416Z
LAST-MODIFIED:20230322T173416Z
UID:2010-1683973800-1683975600@lima.owwl.org
SUMMARY:Story Time with the Friends
DESCRIPTION:
URL:https://lima.owwl.org/event/story-time-with-the-friends-16/
LOCATION:NY
END:VEVENT
END:VCALENDAR