BEGIN:VCALENDAR
VERSION:2.0
PRODID:-//Lima Public Library - ECPv6.15.20//NONSGML v1.0//EN
CALSCALE:GREGORIAN
METHOD:PUBLISH
X-WR-CALNAME:Lima Public Library
X-ORIGINAL-URL:https://lima.owwl.org
X-WR-CALDESC:Events for Lima Public Library
REFRESH-INTERVAL;VALUE=DURATION:PT1H
X-Robots-Tag:noindex
X-PUBLISHED-TTL:PT1H
BEGIN:VTIMEZONE
TZID:America/New_York
BEGIN:DAYLIGHT
TZOFFSETFROM:-0500
TZOFFSETTO:-0400
TZNAME:EDT
DTSTART:20220313T070000
END:DAYLIGHT
BEGIN:STANDARD
TZOFFSETFROM:-0400
TZOFFSETTO:-0500
TZNAME:EST
DTSTART:20221106T060000
END:STANDARD
BEGIN:DAYLIGHT
TZOFFSETFROM:-0500
TZOFFSETTO:-0400
TZNAME:EDT
DTSTART:20230312T070000
END:DAYLIGHT
BEGIN:STANDARD
TZOFFSETFROM:-0400
TZOFFSETTO:-0500
TZNAME:EST
DTSTART:20231105T060000
END:STANDARD
BEGIN:DAYLIGHT
TZOFFSETFROM:-0500
TZOFFSETTO:-0400
TZNAME:EDT
DTSTART:20240310T070000
END:DAYLIGHT
BEGIN:STANDARD
TZOFFSETFROM:-0400
TZOFFSETTO:-0500
TZNAME:EST
DTSTART:20241103T060000
END:STANDARD
END:VTIMEZONE
BEGIN:VEVENT
DTSTART;VALUE=DATE:20230628
DTEND;VALUE=DATE:20230729
DTSTAMP:20260424T055750
CREATED:20230602T114137Z
LAST-MODIFIED:20230602T114137Z
UID:2241-1687910400-1690588799@lima.owwl.org
SUMMARY:Summer Reading 2023: All Together Now!
DESCRIPTION:We are coming up to our very favorite time of year which is Summer Reading! Our theme this year is All Together Now. This year’s program focuses on DIVERSITY: how people from all over the world can be both different from us and the same as us at the same time! The beautiful thing about our community is that we come from all walks of life. Libraries are truly for everyone and we are excited to embrace this year’s theme. We will have 8 different activities set up around the library and participants can do them at their own pace over a month’s time. You can also complete some of the activities at home\, if you wish. A game board will be provided at registration. A reading log is included to keep track of the number of minutes you read this summer. Registrants that complete the activities will receive a prize at the end of the program.
URL:https://lima.owwl.org/event/summer-reading-2023-all-together-now/
LOCATION:NY
END:VEVENT
BEGIN:VEVENT
DTSTART;TZID=America/New_York:20230725T160000
DTEND;TZID=America/New_York:20230725T170000
DTSTAMP:20260424T055750
CREATED:20230711T171055Z
LAST-MODIFIED:20230711T171055Z
UID:2440-1690300800-1690304400@lima.owwl.org
SUMMARY:Crying in the Bathroom: A Memoir: An Author Talk with Erika Sánchez
DESCRIPTION:Join us as we chat with award-winning writer Erika Sánchez about her utterly original\, moving\, and disarmingly funny memoir-in-essays Crying in the Bathroom.  \nGrowing up as the daughter of Mexican immigrants in Chicago in the nineties\, Erika Sánchez was a self-described pariah\, misfit\, and disappointment—a foul-mouthed\, melancholic rabble-rouser who painted her nails black but also loved comedy\, often laughing so hard with her friends that she had to leave her school classroom. Twenty-five years later\, she’s now an award-winning novelist\, poet\, and essayist\, but she’s still got an irrepressible laugh\, an acerbic wit\, and singular powers of perception about the world around her. \nIn these essays\, Sánchez writes about everything from sex to white feminism to debilitating depression\, revealing an interior life rich with ideas\, self-awareness\, and perception. Raunchy\, insightful\, unapologetic\, and brutally honest\, Crying in the Bathroom is Sánchez’s best—a book that will make you feel that post-confessional high that comes from talking for hours with your best friend. \nAbout the Author:  \nErika L. Sánchez is the daughter of Mexican immigrants. Her debut poetry collection\, Lessons on Expulsion\, was published by Graywolf in July 2017 and was a finalist for the PEN America Open Book Award. Her debut young adult novel\, I Am Not Your Perfect Mexican Daughter\, published in October 2017 by Knopf Books for Young Readers\, was a New York Times bestseller and a National Book Awards finalist. It is now being made into a film directed by America Ferrera. Most recently\, Sánchez published a critically acclaimed memoir-in-essays titled Crying in the Bathroom with Viking Books. Sánchez was a Fulbright Scholar\, a 2015 Ruth Lilly and Dorothy Sargent fellow from the Poetry Foundation\, a 2017-2019 Princeton Arts Fellow\, a 2018 recipient of the 21st Century Award from the Chicago Public Library Foundation\, and a 2019 recipient of the National Endowment for the Arts Fellowship. She is the Sor Juana Inés de la Cruz chair at DePaul University in Chicago. \nRegister: https://libraryc.org/lima/28944
URL:https://lima.owwl.org/event/crying-in-the-bathroom-a-memoir-an-author-talk-with-erika-sanchez/
LOCATION:NY
END:VEVENT
END:VCALENDAR