BEGIN:VCALENDAR
VERSION:2.0
PRODID:-//Lima Public Library - ECPv6.15.20//NONSGML v1.0//EN
CALSCALE:GREGORIAN
METHOD:PUBLISH
X-WR-CALNAME:Lima Public Library
X-ORIGINAL-URL:https://lima.owwl.org
X-WR-CALDESC:Events for Lima Public Library
REFRESH-INTERVAL;VALUE=DURATION:PT1H
X-Robots-Tag:noindex
X-PUBLISHED-TTL:PT1H
BEGIN:VTIMEZONE
TZID:America/New_York
BEGIN:DAYLIGHT
TZOFFSETFROM:-0500
TZOFFSETTO:-0400
TZNAME:EDT
DTSTART:20220313T070000
END:DAYLIGHT
BEGIN:STANDARD
TZOFFSETFROM:-0400
TZOFFSETTO:-0500
TZNAME:EST
DTSTART:20221106T060000
END:STANDARD
BEGIN:DAYLIGHT
TZOFFSETFROM:-0500
TZOFFSETTO:-0400
TZNAME:EDT
DTSTART:20230312T070000
END:DAYLIGHT
BEGIN:STANDARD
TZOFFSETFROM:-0400
TZOFFSETTO:-0500
TZNAME:EST
DTSTART:20231105T060000
END:STANDARD
BEGIN:DAYLIGHT
TZOFFSETFROM:-0500
TZOFFSETTO:-0400
TZNAME:EDT
DTSTART:20240310T070000
END:DAYLIGHT
BEGIN:STANDARD
TZOFFSETFROM:-0400
TZOFFSETTO:-0500
TZNAME:EST
DTSTART:20241103T060000
END:STANDARD
END:VTIMEZONE
BEGIN:VEVENT
DTSTART;TZID=America/New_York:20230930T100000
DTEND;TZID=America/New_York:20230930T120000
DTSTAMP:20260424T090821
CREATED:20230615T173021Z
LAST-MODIFIED:20230615T173021Z
UID:2307-1696068000-1696075200@lima.owwl.org
SUMMARY:Friends of the Lima Public Library: Book Binding Techniques - Introductory Course
DESCRIPTION:Susan Doran is a graduate of RIT\, a working graphic artist and spent 20 years in a school district gives her the experience to share her favorite crafts.  She is an accomplished artist and teacher.   In the Bookbinding Workshop\, we will work on a variety of binding styles which may include the following styles: the accordion fold\, matchbook\, perfect bound\, pamphlet stitch\, stab binding\, post and leather binding.  Tools and basic supplies will be provided.  Ideas and questions are encouraged. \nDate: September 30\, 2023 \nClass Time: 10 a.m.to 12 noon \nLocation: Lima Public Library Scutt Room \nPre-Registration Required: This adult class is limited to 6 people/ session.  Pre-registration is required by sending a check for $18 to Friends of the Lima Library\, PO Box 283\, Lima\, NY 14485 by September 16\, 2023 with the form below.  The cost of the session includes all supplies and instruction.  This class is sponsored by the Friends of the Lima Public Library. \nClick here for registration form.
URL:https://lima.owwl.org/event/friends-of-the-lima-public-library-book-binding-techniques-introductory-course/
LOCATION:NY
END:VEVENT
BEGIN:VEVENT
DTSTART;TZID=America/New_York:20230930T130000
DTEND;TZID=America/New_York:20230930T140000
DTSTAMP:20260424T090821
CREATED:20230626T174746Z
LAST-MODIFIED:20230927T184132Z
UID:2405-1696078800-1696082400@lima.owwl.org
SUMMARY:Friends of the Lima Public Library: Fix a Flat Tire with Joe Mati (Ages 16+)
DESCRIPTION:Mr. Alati has volunteered an hour of his time to come help anyone age 16+ learn some basic car maintenance. Adults that want a refresher or are learning the first time are welcome too.\n\nMr. Alati has 51 years of experience in automotive repair with the last 31 teaching high schoolers hands on skills with the HF-L BOCES program.\nThis first session will be checking and changing tires. No registration required.\n\nNOTE: This event is weather dependent. Be sure the check the Friends’ Facebook page the night prior to this event to make sure there is no inclement weather. An alternate date may be offered if necessary.
URL:https://lima.owwl.org/event/friends-of-the-lima-public-library-fix-a-flat-tire-with-joe-mati-ages-16/
LOCATION:NY
END:VEVENT
END:VCALENDAR