BEGIN:VCALENDAR
VERSION:2.0
PRODID:-//Lima Public Library - ECPv6.15.20//NONSGML v1.0//EN
CALSCALE:GREGORIAN
METHOD:PUBLISH
X-ORIGINAL-URL:https://lima.owwl.org
X-WR-CALDESC:Events for Lima Public Library
REFRESH-INTERVAL;VALUE=DURATION:PT1H
X-Robots-Tag:noindex
X-PUBLISHED-TTL:PT1H
BEGIN:VTIMEZONE
TZID:America/New_York
BEGIN:DAYLIGHT
TZOFFSETFROM:-0500
TZOFFSETTO:-0400
TZNAME:EDT
DTSTART:20220313T070000
END:DAYLIGHT
BEGIN:STANDARD
TZOFFSETFROM:-0400
TZOFFSETTO:-0500
TZNAME:EST
DTSTART:20221106T060000
END:STANDARD
BEGIN:DAYLIGHT
TZOFFSETFROM:-0500
TZOFFSETTO:-0400
TZNAME:EDT
DTSTART:20230312T070000
END:DAYLIGHT
BEGIN:STANDARD
TZOFFSETFROM:-0400
TZOFFSETTO:-0500
TZNAME:EST
DTSTART:20231105T060000
END:STANDARD
BEGIN:DAYLIGHT
TZOFFSETFROM:-0500
TZOFFSETTO:-0400
TZNAME:EDT
DTSTART:20240310T070000
END:DAYLIGHT
BEGIN:STANDARD
TZOFFSETFROM:-0400
TZOFFSETTO:-0500
TZNAME:EST
DTSTART:20241103T060000
END:STANDARD
END:VTIMEZONE
BEGIN:VEVENT
DTSTART;TZID=America/New_York:20231005T160000
DTEND;TZID=America/New_York:20231005T164500
DTSTAMP:20260424T072444
CREATED:20230912T174850Z
LAST-MODIFIED:20230912T174850Z
UID:2505-1696521600-1696524300@lima.owwl.org
SUMMARY:Story Time
DESCRIPTION:Join us for Story Time with Betsy for music\, books\, and a craft! \nTo sign up a Story Time update only newsletter\, please fill out this Google form: https://forms.gle/xRXNFFE16ygj3asE6
URL:https://lima.owwl.org/event/story-time-4/
LOCATION:NY
END:VEVENT
BEGIN:VEVENT
DTSTART;TZID=America/New_York:20231005T180000
DTEND;TZID=America/New_York:20231005T190000
DTSTAMP:20260424T072444
CREATED:20230626T174834Z
LAST-MODIFIED:20230925T142531Z
UID:2408-1696528800-1696532400@lima.owwl.org
SUMMARY:Friends of the Lima Public Library: Ghost Tea Lights (Fundraiser)
DESCRIPTION:Title: Crafterwork: Ghost Tea Light Edition\nTime: 6-7pm\nLocation: Lima Library\, Scutt Room\nAges: 13+\nRegistration required: Yes\nDescription: Join the Friends of the Lima Public Library as we create ghost tea lights from air dry clay. Each person will go home with 2 ghosts and 2 battery powered tea lights. $5 suggested donation to cover cost of supplies.\n\nAges 13+\nThis program is limited to 20 people.\nPlease call the Lima Public Library to register.
URL:https://lima.owwl.org/event/friends-of-the-lima-public-library-ghost-tea-lights-fundraiser/
LOCATION:NY
END:VEVENT
END:VCALENDAR