BEGIN:VCALENDAR
VERSION:2.0
PRODID:-//Lima Public Library - ECPv6.15.20//NONSGML v1.0//EN
CALSCALE:GREGORIAN
METHOD:PUBLISH
X-WR-CALNAME:Lima Public Library
X-ORIGINAL-URL:https://lima.owwl.org
X-WR-CALDESC:Events for Lima Public Library
REFRESH-INTERVAL;VALUE=DURATION:PT1H
X-Robots-Tag:noindex
X-PUBLISHED-TTL:PT1H
BEGIN:VTIMEZONE
TZID:America/New_York
BEGIN:DAYLIGHT
TZOFFSETFROM:-0500
TZOFFSETTO:-0400
TZNAME:EDT
DTSTART:20220313T070000
END:DAYLIGHT
BEGIN:STANDARD
TZOFFSETFROM:-0400
TZOFFSETTO:-0500
TZNAME:EST
DTSTART:20221106T060000
END:STANDARD
BEGIN:DAYLIGHT
TZOFFSETFROM:-0500
TZOFFSETTO:-0400
TZNAME:EDT
DTSTART:20230312T070000
END:DAYLIGHT
BEGIN:STANDARD
TZOFFSETFROM:-0400
TZOFFSETTO:-0500
TZNAME:EST
DTSTART:20231105T060000
END:STANDARD
BEGIN:DAYLIGHT
TZOFFSETFROM:-0500
TZOFFSETTO:-0400
TZNAME:EDT
DTSTART:20240310T070000
END:DAYLIGHT
BEGIN:STANDARD
TZOFFSETFROM:-0400
TZOFFSETTO:-0500
TZNAME:EST
DTSTART:20241103T060000
END:STANDARD
END:VTIMEZONE
BEGIN:VEVENT
DTSTART;TZID=America/New_York:20231014T093000
DTEND;TZID=America/New_York:20231014T120000
DTSTAMP:20260424T073455
CREATED:20230918T201407Z
LAST-MODIFIED:20230918T201407Z
UID:2558-1697275800-1697284800@lima.owwl.org
SUMMARY:Crossroads Crafters' Circle
DESCRIPTION:Bring your favorite craft and socialize with like-hearted people!  All crafts and all folks welcome. Any open Saturday at the library. Arrive and leave as you please.
URL:https://lima.owwl.org/event/crossroads-crafters-circle-44/
LOCATION:NY
END:VEVENT
BEGIN:VEVENT
DTSTART;TZID=America/New_York:20231014T100000
DTEND;TZID=America/New_York:20231014T104500
DTSTAMP:20260424T073455
CREATED:20230912T175022Z
LAST-MODIFIED:20231010T173450Z
UID:2509-1697277600-1697280300@lima.owwl.org
SUMMARY:CANCELED Story Time (This date only)
DESCRIPTION:Join us for Story Time with Betsy for music\, books\, and a craft! \nTo sign up a Story Time update only newsletter\, please fill out this Google form: https://forms.gle/xRXNFFE16ygj3asE6
URL:https://lima.owwl.org/event/story-time-6/
LOCATION:NY
END:VEVENT
BEGIN:VEVENT
DTSTART;TZID=America/New_York:20231014T100000
DTEND;TZID=America/New_York:20231014T120000
DTSTAMP:20260424T073455
CREATED:20230615T173241Z
LAST-MODIFIED:20231002T171311Z
UID:2310-1697277600-1697284800@lima.owwl.org
SUMMARY:Friends of the Lima Public Library: Help the Health of Our Community – Learn CPR!
DESCRIPTION:In Partnership with the Lima Ambulance\, The Friends of the Lima Public Library are sponsoring a CPR class on October 14\, 2023 from 10:00 AM to 12 Noon in the Scutt Room of the Lima Library. The class will be taught by certified CPR instructors from the Lima Volunteer Ambulance. \n  \nYou may choose to attend the class for free as part of the Friends and Family Course.  If you want an America Heart Association CPR card\, the cost of the course is $20.  Both classes are offered at the same time however\, for the certification the class time is longer. \n  \nFriends and Family Course: FREE \nStudents will learn both adult and infant CPR through lecture and hands-on practice. We will also review some basic first aid including what to do in case of choking. The class will last approximately 2 hours and certificates of completion will be provided. \n  \nDate: October 14\, 2023                                              Class Time: 10 a.m.to 12 noon \nLocation: Lima Public Library Scutt Room \nPre-Registration Required: This class is limited to 12 people.  Pre-registration is required. \nThis class is sponsored by the Friends of the Lima Public Library and the Lima Ambulance Service. \n  \nClick here for registration form.
URL:https://lima.owwl.org/event/friends-of-the-lima-public-library-help-the-health-of-our-community-learn-cpr/
LOCATION:NY
END:VEVENT
END:VCALENDAR