BEGIN:VCALENDAR
VERSION:2.0
PRODID:-//Lima Public Library - ECPv6.15.20//NONSGML v1.0//EN
CALSCALE:GREGORIAN
METHOD:PUBLISH
X-ORIGINAL-URL:https://lima.owwl.org
X-WR-CALDESC:Events for Lima Public Library
REFRESH-INTERVAL;VALUE=DURATION:PT1H
X-Robots-Tag:noindex
X-PUBLISHED-TTL:PT1H
BEGIN:VTIMEZONE
TZID:America/New_York
BEGIN:DAYLIGHT
TZOFFSETFROM:-0500
TZOFFSETTO:-0400
TZNAME:EDT
DTSTART:20220313T070000
END:DAYLIGHT
BEGIN:STANDARD
TZOFFSETFROM:-0400
TZOFFSETTO:-0500
TZNAME:EST
DTSTART:20221106T060000
END:STANDARD
BEGIN:DAYLIGHT
TZOFFSETFROM:-0500
TZOFFSETTO:-0400
TZNAME:EDT
DTSTART:20230312T070000
END:DAYLIGHT
BEGIN:STANDARD
TZOFFSETFROM:-0400
TZOFFSETTO:-0500
TZNAME:EST
DTSTART:20231105T060000
END:STANDARD
BEGIN:DAYLIGHT
TZOFFSETFROM:-0500
TZOFFSETTO:-0400
TZNAME:EDT
DTSTART:20240310T070000
END:DAYLIGHT
BEGIN:STANDARD
TZOFFSETFROM:-0400
TZOFFSETTO:-0500
TZNAME:EST
DTSTART:20241103T060000
END:STANDARD
END:VTIMEZONE
BEGIN:VEVENT
DTSTART;TZID=America/New_York:20231018T140000
DTEND;TZID=America/New_York:20231018T150000
DTSTAMP:20260424T072440
CREATED:20230925T190556Z
LAST-MODIFIED:20230925T190556Z
UID:2602-1697637600-1697641200@lima.owwl.org
SUMMARY:Online Author Talk: Master of Suspense: An Author Talk with Ruth Ware
DESCRIPTION:You’re invited to tune in as we chat with New York Times bestselling author of The Woman in Cabin 10 and The It Girl as she talks about her newest book\, Zero Days. \nIn the adrenaline fueled thriller\, Zero Days\, Jack and her husband\, Gabe\, are hired by companies to break into buildings and hack security systems\, and their best penetration specialists in the business. But after a routine assignment goes horribly wrong\, Jack arrives home to find her husband dead. To add to her horror\, the police are closing in on their suspect—her. Suddenly on the run and quickly running out of options\, Jack must decide who she can trust as she circles closer to the real killer. \nStop the suspense and register for the thrill now! \nAbout the Author: Ruth Ware worked as a waitress\, a bookseller\, a teacher of English as a foreign language\, and a press officer before settling down as a full-time writer. She now lives with her family in Sussex\, on the south coast of England. She is the #1 New York Times and Globe and Mail (Toronto) bestselling author of In a Dark\, Dark Wood; The Woman in Cabin 10; The Lying Game; The Death of Mrs. Westaway; The Turn of the Key; One by One; The It Girl; and Zero Days. Visit her at RuthWare.com or follow her on Twitter/X @RuthWareWriter. \nRegister here and be sure to put a question in the form. It may be answered live! You can catch the replay at the same link\, if you can’t make it to the live call.
URL:https://lima.owwl.org/event/online-author-talk-master-of-suspense-an-author-talk-with-ruth-ware/
LOCATION:NY
END:VEVENT
BEGIN:VEVENT
DTSTART;TZID=America/New_York:20231018T180000
DTEND;TZID=America/New_York:20231018T193000
DTSTAMP:20260424T072440
CREATED:20230918T184535Z
LAST-MODIFIED:20230921T175637Z
UID:2552-1697652000-1697657400@lima.owwl.org
SUMMARY:Home Alone Safety (Ages 8-12)
DESCRIPTION:This class is designed to teach children ages 8-12\, who are home alone the importance of behaving responsibly. Topics include: basic first aid tips\, what to do when a stranger comes to the door\, answering the telephone\, internet safety and how to react during a variety of miscellaneous emergencies such as power outages and fires. Knowing when your child is ready to stay home alone is a difficult decision; preparation can make the transition much easier for you & your child. \nPresented by Epic Trainings. Registration is required. Please use this Google Form to register.
URL:https://lima.owwl.org/event/home-alone-safety-ages-8-12/
LOCATION:NY
END:VEVENT
END:VCALENDAR