BEGIN:VCALENDAR
VERSION:2.0
PRODID:-//Lima Public Library - ECPv6.15.20//NONSGML v1.0//EN
CALSCALE:GREGORIAN
METHOD:PUBLISH
X-WR-CALNAME:Lima Public Library
X-ORIGINAL-URL:https://lima.owwl.org
X-WR-CALDESC:Events for Lima Public Library
REFRESH-INTERVAL;VALUE=DURATION:PT1H
X-Robots-Tag:noindex
X-PUBLISHED-TTL:PT1H
BEGIN:VTIMEZONE
TZID:America/New_York
BEGIN:DAYLIGHT
TZOFFSETFROM:-0500
TZOFFSETTO:-0400
TZNAME:EDT
DTSTART:20220313T070000
END:DAYLIGHT
BEGIN:STANDARD
TZOFFSETFROM:-0400
TZOFFSETTO:-0500
TZNAME:EST
DTSTART:20221106T060000
END:STANDARD
BEGIN:DAYLIGHT
TZOFFSETFROM:-0500
TZOFFSETTO:-0400
TZNAME:EDT
DTSTART:20230312T070000
END:DAYLIGHT
BEGIN:STANDARD
TZOFFSETFROM:-0400
TZOFFSETTO:-0500
TZNAME:EST
DTSTART:20231105T060000
END:STANDARD
BEGIN:DAYLIGHT
TZOFFSETFROM:-0500
TZOFFSETTO:-0400
TZNAME:EDT
DTSTART:20240310T070000
END:DAYLIGHT
BEGIN:STANDARD
TZOFFSETFROM:-0400
TZOFFSETTO:-0500
TZNAME:EST
DTSTART:20241103T060000
END:STANDARD
END:VTIMEZONE
BEGIN:VEVENT
DTSTART;TZID=America/New_York:20231021T093000
DTEND;TZID=America/New_York:20231021T120000
DTSTAMP:20260424T071233
CREATED:20230918T201438Z
LAST-MODIFIED:20230918T201438Z
UID:2561-1697880600-1697889600@lima.owwl.org
SUMMARY:Crossroads Crafters' Circle
DESCRIPTION:Bring your favorite craft and socialize with like-hearted people!  All crafts and all folks welcome. Any open Saturday at the library. Arrive and leave as you please.
URL:https://lima.owwl.org/event/crossroads-crafters-circle-45/
LOCATION:NY
END:VEVENT
BEGIN:VEVENT
DTSTART;TZID=America/New_York:20231021T100000
DTEND;TZID=America/New_York:20231021T104500
DTSTAMP:20260424T071233
CREATED:20230912T175207Z
LAST-MODIFIED:20230912T175207Z
UID:2513-1697882400-1697885100@lima.owwl.org
SUMMARY:Story Time
DESCRIPTION:Join us for Story Time with Betsy for music\, books\, and a craft! \nTo sign up a Story Time update only newsletter\, please fill out this Google form: https://forms.gle/xRXNFFE16ygj3asE6
URL:https://lima.owwl.org/event/story-time-8/
LOCATION:NY
END:VEVENT
BEGIN:VEVENT
DTSTART;TZID=America/New_York:20231021T130000
DTEND;TZID=America/New_York:20231021T140000
DTSTAMP:20260424T071233
CREATED:20230626T175018Z
LAST-MODIFIED:20230925T142847Z
UID:2412-1697893200-1697896800@lima.owwl.org
SUMMARY:Friends of the Lima Public Library: Car Maintenance - How to Change & Check Fluids with Joe Mati (Ages 16+)
DESCRIPTION:Title: Adulting 102\n\n\n\n\n\n\n\n\nTime: 1-2pm\nLocation: Lima Library parking lot\nAges: 16+\nRegistration required: No\n\n\n\n\n\nDescription: Mr. Alati has volunteered an hour of his time to come help anyone age 16+ learn some basic car maintenance. Adults that want a refresher or are learning the first time are welcome too.\n\nMr. Alati has 51 years of experience in automotive repair with the last 31 teaching high schoolers hands on skills with the HF-L BOCES program.\n\n\n\n\n\nThis first session will be checking and changing fluids. Air filter as time allows. Free. No registration required.
URL:https://lima.owwl.org/event/friends-of-the-lima-public-library-car-maintenance-how-to-change-check-fluids-with-joe-mati-ages-16/
LOCATION:NY
END:VEVENT
END:VCALENDAR