BEGIN:VCALENDAR
VERSION:2.0
PRODID:-//Lima Public Library - ECPv6.15.20//NONSGML v1.0//EN
CALSCALE:GREGORIAN
METHOD:PUBLISH
X-WR-CALNAME:Lima Public Library
X-ORIGINAL-URL:https://lima.owwl.org
X-WR-CALDESC:Events for Lima Public Library
REFRESH-INTERVAL;VALUE=DURATION:PT1H
X-Robots-Tag:noindex
X-PUBLISHED-TTL:PT1H
BEGIN:VTIMEZONE
TZID:America/New_York
BEGIN:DAYLIGHT
TZOFFSETFROM:-0500
TZOFFSETTO:-0400
TZNAME:EDT
DTSTART:20220313T070000
END:DAYLIGHT
BEGIN:STANDARD
TZOFFSETFROM:-0400
TZOFFSETTO:-0500
TZNAME:EST
DTSTART:20221106T060000
END:STANDARD
BEGIN:DAYLIGHT
TZOFFSETFROM:-0500
TZOFFSETTO:-0400
TZNAME:EDT
DTSTART:20230312T070000
END:DAYLIGHT
BEGIN:STANDARD
TZOFFSETFROM:-0400
TZOFFSETTO:-0500
TZNAME:EST
DTSTART:20231105T060000
END:STANDARD
BEGIN:DAYLIGHT
TZOFFSETFROM:-0500
TZOFFSETTO:-0400
TZNAME:EDT
DTSTART:20240310T070000
END:DAYLIGHT
BEGIN:STANDARD
TZOFFSETFROM:-0400
TZOFFSETTO:-0500
TZNAME:EST
DTSTART:20241103T060000
END:STANDARD
END:VTIMEZONE
BEGIN:VEVENT
DTSTART;TZID=America/New_York:20231026T160000
DTEND;TZID=America/New_York:20231026T164500
DTSTAMP:20260424T073456
CREATED:20230912T175302Z
LAST-MODIFIED:20230912T175302Z
UID:2515-1698336000-1698338700@lima.owwl.org
SUMMARY:Story Time
DESCRIPTION:Join us for Story Time with Betsy for music\, books\, and a craft! \nTo sign up a Story Time update only newsletter\, please fill out this Google form: https://forms.gle/xRXNFFE16ygj3asE6
URL:https://lima.owwl.org/event/story-time-9/
LOCATION:NY
END:VEVENT
BEGIN:VEVENT
DTSTART;TZID=America/New_York:20231026T190000
DTEND;TZID=America/New_York:20231026T200000
DTSTAMP:20260424T073456
CREATED:20230925T190731Z
LAST-MODIFIED:20230925T190731Z
UID:2605-1698346800-1698350400@lima.owwl.org
SUMMARY:Online Author Talk: A Lifetime of Writing: A Conversation with International Bestselling Author John Irving
DESCRIPTION:You are in for a treat when you join us for an intimate conversation with John Irving as he chats about not only his most recent novel\, The Last Chairlift\, but also about his prolific body of work and a lifetime spent writing. Irving’s first novel was published when he was just twenty-six years old. He has gone on to be nominated for a National Book Award three times and won an Oscar for Best Adapted Screenplay. \nThe Last Chairlift\, Irving’s self-proclaimed final long novel\, begins in Aspen\, Colorado in 1941\, when Rachel Brewster\, a slalom skier\, competes at the National Downhill and Slalom Championships. Little Ray\, as she is called\, finishes nowhere near the podium\, but she manages to get pregnant. Back home\, in New England\, Little Ray becomes a ski instructor. Her son\, Adam\, grows up in a family that defies conventions and evades questions concerning the eventful past. Years later\, looking for answers\, Adam will go to Aspen. In the Hotel Jerome\, where he was conceived\, Adam will meet some ghosts; they aren’t the first or the last ghosts he sees. \nYou don’t want to miss this hour online with internationally bestselling author John Irving. Register now! \nAbout the Author: John Irving was born in Exeter\, New Hampshire\, in 1942. His first novel\, Setting Free the Bears\, was published in 1968\, when he was twenty-six. \nIrving has been nominated for a National Book Award three times\, winning in 1980 for The World According to Garp. In 2000\, he won the Oscar for Best Adapted Screenplay for The Cider House Rules. In 2013\, he won a Lambda Literary Award for In One Person. Internationally renowned\, his books have been translated into more than thirty-five languages. A Prayer for Owen Meany is his best-selling novel\, in every language. \nJohn Irving is a dual citizen of the United States and Canada. He lives in Toronto. \nRegister here and be sure to put a question in the form. It may be answered live! You can catch the replay at the same link\, if you can’t make it to the live call.
URL:https://lima.owwl.org/event/online-author-talk-a-lifetime-of-writing-a-conversation-with-international-bestselling-author-john-irving/
LOCATION:NY
END:VEVENT
END:VCALENDAR