BEGIN:VCALENDAR
VERSION:2.0
PRODID:-//Lima Public Library - ECPv6.15.20//NONSGML v1.0//EN
CALSCALE:GREGORIAN
METHOD:PUBLISH
X-WR-CALNAME:Lima Public Library
X-ORIGINAL-URL:https://lima.owwl.org
X-WR-CALDESC:Events for Lima Public Library
REFRESH-INTERVAL;VALUE=DURATION:PT1H
X-Robots-Tag:noindex
X-PUBLISHED-TTL:PT1H
BEGIN:VTIMEZONE
TZID:America/New_York
BEGIN:DAYLIGHT
TZOFFSETFROM:-0500
TZOFFSETTO:-0400
TZNAME:EDT
DTSTART:20220313T070000
END:DAYLIGHT
BEGIN:STANDARD
TZOFFSETFROM:-0400
TZOFFSETTO:-0500
TZNAME:EST
DTSTART:20221106T060000
END:STANDARD
BEGIN:DAYLIGHT
TZOFFSETFROM:-0500
TZOFFSETTO:-0400
TZNAME:EDT
DTSTART:20230312T070000
END:DAYLIGHT
BEGIN:STANDARD
TZOFFSETFROM:-0400
TZOFFSETTO:-0500
TZNAME:EST
DTSTART:20231105T060000
END:STANDARD
BEGIN:DAYLIGHT
TZOFFSETFROM:-0500
TZOFFSETTO:-0400
TZNAME:EDT
DTSTART:20240310T070000
END:DAYLIGHT
BEGIN:STANDARD
TZOFFSETFROM:-0400
TZOFFSETTO:-0500
TZNAME:EST
DTSTART:20241103T060000
END:STANDARD
END:VTIMEZONE
BEGIN:VEVENT
DTSTART;TZID=America/New_York:20231109T140000
DTEND;TZID=America/New_York:20231109T150000
DTSTAMP:20260424T090821
CREATED:20230925T191126Z
LAST-MODIFIED:20230925T191126Z
UID:2611-1699538400-1699542000@lima.owwl.org
SUMMARY:Online Author Talk: Get Good with Money and Reach Your Financial Goals with Tiffany “The Budgetnista” Aliche
DESCRIPTION:Tiffany Aliche was a successful preschool teacher with a healthy nest egg when a recession and advice from a shady advisor put her out of a job and into a huge financial hole. As she began to chart the path to her own financial rescue\, the outline of her ten-step formula for attaining both financial security and peace of mind began to take shape. These principles have now helped more than one million women worldwide save and pay off millions in debt\, and begin planning for a richer life. \nHer New York Times bestseller\, Get Good with Money introduced the powerful concept of building wealth through financial wholeness: a realistic\, achievable\, and energizing alternative to get-rich-quick and over-complicated money management systems. \nWe all want to live within our means\, save for retirement\, invest a little\, and yet still have some left over each month for fun. But as most people know\, real life can get in the way of even our best intentions! To help us set realistic goals and keep us on track to meeting them\, Tiffany “The Budgetnista” Aliche has another invaluable 10-step action plan: Made Whole. With her signature down-to-earth style\, her new workbook offers worksheets\, checklists\, clear explanations of intimidating financial terminology\, Simple instruction on calculating our present situation and future needs\, and handy hacks for increasing your credit score\, making savings “hard to access\,” and finding support to stay on track to your goals \nIn this webinar\, she will introduce action items for ten important building blocks\, including advice on: \nThe ins and outs of budgeting\,\nInvesting\,\nCredit rating\,\nEstate planning\,\nGetting insurance\, and\nGetting the flow of our money automated \nA masterclass in taking charge of your money\, “The Budgetnista” has what every reader needs to achieve financial savvy\, stability\, and security. \nAbout the Author: \nTiffany Aliche\, aka “The Budgetnista\,” co-hosts the award-winning Brown Ambition podcast\, appears as a financial expert on The Real\, and runs an online school\, the Live Richer Academy\, through which she has taught thousands of women how to create\, implement\, and automate their financial plans. She has been featured in The Wall Street Journal\, Black Enterprise\, Reader’s Digest\, USA Today\, Ebony\, Forbes\, Redbook\, The New York Times\, Fast Company\, and U.S. News & World Report and has been on the Today Show\, Good Morning America\, and CNN. A repeat speaker at EssenceFest and The Watermark/Women’s Conference\, she has also taped a series of financial tips for CNBC that reaches eighty million unique viewers each month. \nRegister here and be sure to put a question in the form. It may be answered live! You can catch the replay at the same link\, if you can’t make it to the live call.
URL:https://lima.owwl.org/event/online-author-talk-get-good-with-money-and-reach-your-financial-goals-with-tiffany-the-budgetnista-aliche/
LOCATION:NY
END:VEVENT
BEGIN:VEVENT
DTSTART;TZID=America/New_York:20231109T160000
DTEND;TZID=America/New_York:20231109T164500
DTSTAMP:20260424T090821
CREATED:20230912T175500Z
LAST-MODIFIED:20230912T175500Z
UID:2519-1699545600-1699548300@lima.owwl.org
SUMMARY:Story Time
DESCRIPTION:Join us for Story Time with Betsy for music\, books\, and a craft! \nTo sign up a Story Time update only newsletter\, please fill out this Google form: https://forms.gle/xRXNFFE16ygj3asE6
URL:https://lima.owwl.org/event/story-time-11/
LOCATION:NY
END:VEVENT
BEGIN:VEVENT
DTSTART;TZID=America/New_York:20231109T180000
DTEND;TZID=America/New_York:20231109T184500
DTSTAMP:20260424T090821
CREATED:20230615T181853Z
LAST-MODIFIED:20231026T204112Z
UID:2315-1699552800-1699555500@lima.owwl.org
SUMMARY:Friends of the Lima Public Library: Chair Yoga
DESCRIPTION:Always wanted to try yoga? The Friends of the Library are offering “Chair Yoga” to improve your muscle strength and flexibility. Learn exercises you can do at home. Join us for 45 minutes of gentle\, low-impact movements. \nLimited to 9 participants. Cost: $6/person
URL:https://lima.owwl.org/event/friends-of-the-lima-public-library-chair-yoga/
LOCATION:NY
END:VEVENT
END:VCALENDAR