BEGIN:VCALENDAR
VERSION:2.0
PRODID:-//Lima Public Library - ECPv6.15.20//NONSGML v1.0//EN
CALSCALE:GREGORIAN
METHOD:PUBLISH
X-WR-CALNAME:Lima Public Library
X-ORIGINAL-URL:https://lima.owwl.org
X-WR-CALDESC:Events for Lima Public Library
REFRESH-INTERVAL;VALUE=DURATION:PT1H
X-Robots-Tag:noindex
X-PUBLISHED-TTL:PT1H
BEGIN:VTIMEZONE
TZID:America/New_York
BEGIN:DAYLIGHT
TZOFFSETFROM:-0500
TZOFFSETTO:-0400
TZNAME:EDT
DTSTART:20220313T070000
END:DAYLIGHT
BEGIN:STANDARD
TZOFFSETFROM:-0400
TZOFFSETTO:-0500
TZNAME:EST
DTSTART:20221106T060000
END:STANDARD
BEGIN:DAYLIGHT
TZOFFSETFROM:-0500
TZOFFSETTO:-0400
TZNAME:EDT
DTSTART:20230312T070000
END:DAYLIGHT
BEGIN:STANDARD
TZOFFSETFROM:-0400
TZOFFSETTO:-0500
TZNAME:EST
DTSTART:20231105T060000
END:STANDARD
BEGIN:DAYLIGHT
TZOFFSETFROM:-0500
TZOFFSETTO:-0400
TZNAME:EDT
DTSTART:20240310T070000
END:DAYLIGHT
BEGIN:STANDARD
TZOFFSETFROM:-0400
TZOFFSETTO:-0500
TZNAME:EST
DTSTART:20241103T060000
END:STANDARD
END:VTIMEZONE
BEGIN:VEVENT
DTSTART;TZID=America/New_York:20231116T160000
DTEND;TZID=America/New_York:20231116T164500
DTSTAMP:20260424T090807
CREATED:20230912T175551Z
LAST-MODIFIED:20230912T175551Z
UID:2521-1700150400-1700153100@lima.owwl.org
SUMMARY:Story Time
DESCRIPTION:Join us for Story Time with Betsy for music\, books\, and a craft! \nTo sign up a Story Time update only newsletter\, please fill out this Google form: https://forms.gle/xRXNFFE16ygj3asE6
URL:https://lima.owwl.org/event/story-time-12/
LOCATION:NY
END:VEVENT
BEGIN:VEVENT
DTSTART;TZID=America/New_York:20231116T160000
DTEND;TZID=America/New_York:20231116T170000
DTSTAMP:20260424T090807
CREATED:20230925T191400Z
LAST-MODIFIED:20230925T191400Z
UID:2614-1700150400-1700154000@lima.owwl.org
SUMMARY:Online Author Talk: Why She Writes - An Afternoon Chat with Joy Harjo\, Internationally Renowned Performer\, Writer and Poet of the Muscogee (Creek) Nation
DESCRIPTION:  \nUnited States Poet Laureate and winner of the 2022 Academy of American Poets Leadership Award\, Joy Harjo\, joins us for a chat about her most recent memoir\, Catching the Light and to discuss her rewarding lifetime as a writer and poet. \nIn Catching the Light\, Harjo examines the power of words and how poetry summons us toward justice and healing. \nIn this lyrical meditation about the why of writing poetry\, Harjo reflects on significant points of illumination\, experience\, and questioning from her fifty years as a poet. Comprised of intimate vignettes that take us through the author’s life journey as a youth in the late 1960s\, a single mother\, and a champion of Native nations\, this book offers a fresh understanding of how poetry functions as an expression of purpose\, spirit\, community\, and memory. \nHarjo insists the most meaningful poetry is birthed through cracks in history from what is broken and unseen. At the crossroads of this brokenness\, she calls us to watch and listen for the songs of justice for all those America has denied. This is an homage to the power of words to defy erasure—to inscribe the story\, again and again\, of who we have been\, who we are\, and who we can be. \nAbout the Author: In 2019\, Joy Harjo was appointed the 23rd United States Poet Laureate\, the first Native American to hold the position and only the second person to serve three terms in the role. Harjo’s nine books of poetry include Weaving Sundown in a Scarlett Light\, An American Sunrise\, Conflict Resolution for Holy Beings\, How We Became Human: New and Selected Poems\, and She Had Some Horses. She is also the author of two memoirs\, Crazy Brave and Poet Warrior\, which invites us to travel along the heartaches\, losses\, and humble realizations of her “poet-warrior” road. She has edited several anthologies of Native American writing including When the Light of the World was Subdued\, Our Songs Came Through — A Norton Anthology of Native Nations Poetry\, and Living Nations\, Living Words\, the companion anthology to her signature poet laureate project. Her many writing awards include the 2022 Ivan Sandrof Lifetime Achievement Award\, the 2019 Jackson Prize from Poets & Writers\, the Ruth Lilly Prize from the Poetry Foundation\, the 2015 Wallace Stevens Award from the Academy of American Poets\, and the William Carlos Williams Award from the Poetry Society of America. She is a chancellor of the Academy of American Poets\, Board of Directors Chair of the Native Arts & Cultures Foundation\, and is artist-in-residence for the Bob Dylan Center. A renowned musician\, Harjo performs with her saxophone nationally and internationally; her most recent album is I Pray For My Enemies. She lives in Tulsa\, Oklahoma. \nRegister here and be sure to put a question in the form. It may be answered live! You can catch the replay at the same link\, if you can’t make it to the live call.
URL:https://lima.owwl.org/event/online-author-talk-why-she-writes-an-afternoon-chat-with-joy-harjo-internationally-renowned-performer-writer-and-poet-of-the-muscogee-creek-nation/
LOCATION:NY
END:VEVENT
BEGIN:VEVENT
DTSTART;TZID=America/New_York:20231116T180000
DTEND;TZID=America/New_York:20231116T190000
DTSTAMP:20260424T090807
CREATED:20230626T175240Z
LAST-MODIFIED:20231113T154801Z
UID:2418-1700157600-1700161200@lima.owwl.org
SUMMARY:CANCELED Friends of the Lima Public Library: Rolling Beeswax Candles (All ages)
DESCRIPTION:This event has been canceled.
URL:https://lima.owwl.org/event/friends-of-the-lima-public-library-rolling-beeswax-candles-all-ages/
LOCATION:NY
END:VEVENT
END:VCALENDAR