BEGIN:VCALENDAR
VERSION:2.0
PRODID:-//Lima Public Library - ECPv6.15.20//NONSGML v1.0//EN
CALSCALE:GREGORIAN
METHOD:PUBLISH
X-ORIGINAL-URL:https://lima.owwl.org
X-WR-CALDESC:Events for Lima Public Library
REFRESH-INTERVAL;VALUE=DURATION:PT1H
X-Robots-Tag:noindex
X-PUBLISHED-TTL:PT1H
BEGIN:VTIMEZONE
TZID:America/New_York
BEGIN:DAYLIGHT
TZOFFSETFROM:-0500
TZOFFSETTO:-0400
TZNAME:EDT
DTSTART:20220313T070000
END:DAYLIGHT
BEGIN:STANDARD
TZOFFSETFROM:-0400
TZOFFSETTO:-0500
TZNAME:EST
DTSTART:20221106T060000
END:STANDARD
BEGIN:DAYLIGHT
TZOFFSETFROM:-0500
TZOFFSETTO:-0400
TZNAME:EDT
DTSTART:20230312T070000
END:DAYLIGHT
BEGIN:STANDARD
TZOFFSETFROM:-0400
TZOFFSETTO:-0500
TZNAME:EST
DTSTART:20231105T060000
END:STANDARD
BEGIN:DAYLIGHT
TZOFFSETFROM:-0500
TZOFFSETTO:-0400
TZNAME:EDT
DTSTART:20240310T070000
END:DAYLIGHT
BEGIN:STANDARD
TZOFFSETFROM:-0400
TZOFFSETTO:-0500
TZNAME:EST
DTSTART:20241103T060000
END:STANDARD
END:VTIMEZONE
BEGIN:VEVENT
DTSTART;TZID=America/New_York:20231130T150000
DTEND;TZID=America/New_York:20231130T160000
DTSTAMP:20260424T104153
CREATED:20230925T191601Z
LAST-MODIFIED:20230925T191601Z
UID:2618-1701356400-1701360000@lima.owwl.org
SUMMARY:Online Author Talk: Power of Women in Science Fiction: Naomi Alderman on Writing Dystopian Worlds
DESCRIPTION:Bestselling and award-winning author\, Naomi Alderman will join us to talk about her new book\, The Future. This new novel delivers a dazzling tour de force where a handful of friends plot a daring heist to save the world from the tech giants whose greed threatens life as we know it. \nWhen Martha Einkorn fled her father’s isolated compound in Oregon\, she never expected to find herself working for a powerful social media mogul hell-bent on controlling everything. Now\, she’s surrounded by mega-rich companies designing private weather\, predictive analytics\, and covert weaponry\, while spouting technological prophecy. Martha may have left the cult\, but if the apocalyptic warnings in her father’s fox and rabbit sermon—once a parable to her—are starting to come true\, how much future is actually left? \nAcross the world\, in a mall in Singapore\, Lai Zhen\, an internet-famous survivalist\, flees from an assassin. She’s cornered\, desperate and—worst of all—might die without ever knowing what’s going on. Suddenly\, a remarkable piece of software appears on her phone telling her exactly how to escape. Who made it? What is it really for? And if those behind it can save her from danger\, what do they want from her\, and what else do they know about the future? \nMartha and Zhen’s worlds are about to collide. An explosive chain of events is set in motion. While a few billionaires assured of their own safety lead the world to destruction\, Martha’s relentless drive and Zhen’s insatiable curiosity could lead to something beautiful or the cataclysmic end of civilization. \nBy turns thrilling\, hilarious\, tender\, and always piercingly brilliant\, The Future unfolds at a breakneck speed\, highlighting how power corrupts the few who have it and what it means to stand up to them. The future is coming. The Future is here. What are you waiting for? Register now! \nAbout the Author: Naomi Alderman is the bestselling author of The Power\, which was the winner of the 2017 Baileys’ Women’s Prize for Fiction. It was longlisted for the 2017 Orwell Prize and chosen as one of the best books of the year by the New York Times\, the Washington Post\, the Los Angeles Times\, NPR\, Entertainment Weekly and the San Francisco Chronicle. The Power topped Barack Obama’s list of his favorite books from 2017 and has been translated into more than thirty languages. Naomi grew up in London and attended Oxford University and UEA. \nRegister here and be sure to put a question in the form. It may be answered live! You can catch the replay at the same link\, if you can’t make it to the live call.
URL:https://lima.owwl.org/event/online-author-talk-power-of-women-in-science-fiction-naomi-alderman-on-writing-dystopian-worlds/
LOCATION:NY
END:VEVENT
BEGIN:VEVENT
DTSTART;TZID=America/New_York:20231130T160000
DTEND;TZID=America/New_York:20231130T164500
DTSTAMP:20260424T104153
CREATED:20230912T175753Z
LAST-MODIFIED:20230912T175753Z
UID:2525-1701360000-1701362700@lima.owwl.org
SUMMARY:Story Time
DESCRIPTION:Join us for Story Time with Betsy for music\, books\, and a craft! \nTo sign up a Story Time update only newsletter\, please fill out this Google form: https://forms.gle/xRXNFFE16ygj3asE6
URL:https://lima.owwl.org/event/story-time-14/
LOCATION:NY
END:VEVENT
END:VCALENDAR