BEGIN:VCALENDAR
VERSION:2.0
PRODID:-//Lima Public Library - ECPv6.15.20//NONSGML v1.0//EN
CALSCALE:GREGORIAN
METHOD:PUBLISH
X-WR-CALNAME:Lima Public Library
X-ORIGINAL-URL:https://lima.owwl.org
X-WR-CALDESC:Events for Lima Public Library
REFRESH-INTERVAL;VALUE=DURATION:PT1H
X-Robots-Tag:noindex
X-PUBLISHED-TTL:PT1H
BEGIN:VTIMEZONE
TZID:America/New_York
BEGIN:DAYLIGHT
TZOFFSETFROM:-0500
TZOFFSETTO:-0400
TZNAME:EDT
DTSTART:20220313T070000
END:DAYLIGHT
BEGIN:STANDARD
TZOFFSETFROM:-0400
TZOFFSETTO:-0500
TZNAME:EST
DTSTART:20221106T060000
END:STANDARD
BEGIN:DAYLIGHT
TZOFFSETFROM:-0500
TZOFFSETTO:-0400
TZNAME:EDT
DTSTART:20230312T070000
END:DAYLIGHT
BEGIN:STANDARD
TZOFFSETFROM:-0400
TZOFFSETTO:-0500
TZNAME:EST
DTSTART:20231105T060000
END:STANDARD
BEGIN:DAYLIGHT
TZOFFSETFROM:-0500
TZOFFSETTO:-0400
TZNAME:EDT
DTSTART:20240310T070000
END:DAYLIGHT
BEGIN:STANDARD
TZOFFSETFROM:-0400
TZOFFSETTO:-0500
TZNAME:EST
DTSTART:20241103T060000
END:STANDARD
END:VTIMEZONE
BEGIN:VEVENT
DTSTART;TZID=America/New_York:20231212T140000
DTEND;TZID=America/New_York:20231212T150000
DTSTAMP:20260424T104232
CREATED:20230925T191920Z
LAST-MODIFIED:20230925T191920Z
UID:2624-1702389600-1702393200@lima.owwl.org
SUMMARY:Online Author Talk: Motherhood\, Hunger\, and Higher Education: An Author Talk with Stephanie Land
DESCRIPTION:You’re invited to an afternoon chat with New York Times bestselling author Stephanie Land as she talks to us about her new memoir\, Class: A Memoir of Motherhood\, Hunger\, and Higher Education. \nWhen Stephanie Land set out to write her first book\, a memoir titled Maid\, she never could have imagined what was to come. Handpicked by President Barack Obama as one of the best books of 2019\, it was later adapted into the hit Netflix series Maid\, which was viewed by 67 million households and was Netflix’s fourth most-watched show in 2021\, garnering three Primetime Emmy Award nominations. Stephanie’s escape from poverty and abuse in search of a better life inspired millions. Maid was a story about a housecleaner\, but it was also a story about a woman with a dream. \nIn Class\, Land takes us with her as she finishes college and pursues her writing career. Facing barriers at every turn\, including a byzantine loan system\, not having enough money for food\, and navigating the judgments of professors and fellow students who didn’t understand the demands of attending college while under the poverty line—Land finds a way to survive once again\, finally graduating in her mid-thirties. \nClass paints an intimate and heartbreaking portrait of motherhood as it converges and often conflicts with personal desire and professional ambition. In clear\, candid\, and moving prose\, Class offers a searing indictment of America’s educational system and an inspiring testimony of a mother’s triumph against all odds. \nAbout the Author: Stephanie Land is the author of the New York Times bestseller Maid: Hard Work\, Low Pay\, and a Mother’s Will to Survive\, called “a testimony…worth listening to\,” by The New York Times and inspiration for the Netflix series Maid. Her work has been featured in The New York Times\, The Guardian\, The Atlantic\, and many other outlets. Her writing focuses on social and economic justice and parenting under the poverty line. She is a frequent speaker at colleges and national advocacy organizations. Find out more at @Stepville or Stepville.com \nRegister here and be sure to put a question in the form. It may be answered live! You can catch the replay at the same link\, if you can’t make it to the live call.
URL:https://lima.owwl.org/event/online-author-talk-motherhood-hunger-and-higher-education-an-author-talk-with-stephanie-land/
LOCATION:NY
END:VEVENT
END:VCALENDAR