BEGIN:VCALENDAR
VERSION:2.0
PRODID:-//Lima Public Library - ECPv6.15.20//NONSGML v1.0//EN
CALSCALE:GREGORIAN
METHOD:PUBLISH
X-WR-CALNAME:Lima Public Library
X-ORIGINAL-URL:https://lima.owwl.org
X-WR-CALDESC:Events for Lima Public Library
REFRESH-INTERVAL;VALUE=DURATION:PT1H
X-Robots-Tag:noindex
X-PUBLISHED-TTL:PT1H
BEGIN:VTIMEZONE
TZID:America/New_York
BEGIN:DAYLIGHT
TZOFFSETFROM:-0500
TZOFFSETTO:-0400
TZNAME:EDT
DTSTART:20220313T070000
END:DAYLIGHT
BEGIN:STANDARD
TZOFFSETFROM:-0400
TZOFFSETTO:-0500
TZNAME:EST
DTSTART:20221106T060000
END:STANDARD
BEGIN:DAYLIGHT
TZOFFSETFROM:-0500
TZOFFSETTO:-0400
TZNAME:EDT
DTSTART:20230312T070000
END:DAYLIGHT
BEGIN:STANDARD
TZOFFSETFROM:-0400
TZOFFSETTO:-0500
TZNAME:EST
DTSTART:20231105T060000
END:STANDARD
BEGIN:DAYLIGHT
TZOFFSETFROM:-0500
TZOFFSETTO:-0400
TZNAME:EDT
DTSTART:20240310T070000
END:DAYLIGHT
BEGIN:STANDARD
TZOFFSETFROM:-0400
TZOFFSETTO:-0500
TZNAME:EST
DTSTART:20241103T060000
END:STANDARD
END:VTIMEZONE
BEGIN:VEVENT
DTSTART;TZID=America/New_York:20231229T130000
DTEND;TZID=America/New_York:20231229T170000
DTSTAMP:20260424T103923
CREATED:20230918T184839Z
LAST-MODIFIED:20230921T171155Z
UID:2554-1703854800-1703869200@lima.owwl.org
SUMMARY:Babysitters Training (Ages 11-15)
DESCRIPTION:This instructor-led 4 hr class is supplemented by a video presentation\, lecture and group activities. Participants will learn the roles and responsibilities of a babysitter including skills in: the business of babysitting\, accident prevention\, first aid and care for choking victims. Students will receive a certification card upon completion.\n\nPresented by EPIC Trainings. Please register ahead of time using this Google Form.
URL:https://lima.owwl.org/event/babysitters-training-ages-11-15/
LOCATION:NY
END:VEVENT
END:VCALENDAR