BEGIN:VCALENDAR
VERSION:2.0
PRODID:-//Lima Public Library - ECPv6.15.20//NONSGML v1.0//EN
CALSCALE:GREGORIAN
METHOD:PUBLISH
X-ORIGINAL-URL:https://lima.owwl.org
X-WR-CALDESC:Events for Lima Public Library
REFRESH-INTERVAL;VALUE=DURATION:PT1H
X-Robots-Tag:noindex
X-PUBLISHED-TTL:PT1H
BEGIN:VTIMEZONE
TZID:America/New_York
BEGIN:DAYLIGHT
TZOFFSETFROM:-0500
TZOFFSETTO:-0400
TZNAME:EDT
DTSTART:20250309T070000
END:DAYLIGHT
BEGIN:STANDARD
TZOFFSETFROM:-0400
TZOFFSETTO:-0500
TZNAME:EST
DTSTART:20251102T060000
END:STANDARD
BEGIN:DAYLIGHT
TZOFFSETFROM:-0500
TZOFFSETTO:-0400
TZNAME:EDT
DTSTART:20260308T070000
END:DAYLIGHT
BEGIN:STANDARD
TZOFFSETFROM:-0400
TZOFFSETTO:-0500
TZNAME:EST
DTSTART:20261101T060000
END:STANDARD
BEGIN:DAYLIGHT
TZOFFSETFROM:-0500
TZOFFSETTO:-0400
TZNAME:EDT
DTSTART:20270314T070000
END:DAYLIGHT
BEGIN:STANDARD
TZOFFSETFROM:-0400
TZOFFSETTO:-0500
TZNAME:EST
DTSTART:20271107T060000
END:STANDARD
END:VTIMEZONE
BEGIN:VEVENT
DTSTART;TZID=America/New_York:20260416T150000
DTEND;TZID=America/New_York:20260416T170000
DTSTAMP:20260422T103746
CREATED:20260408T204121Z
LAST-MODIFIED:20260408T204121Z
UID:3902-1776351600-1776358800@lima.owwl.org
SUMMARY:Middle School Study Hall @ Lima Library
DESCRIPTION:If you are in Middle School\, grades 6-8\, and you need a quiet place to study or you don’t want to study alone\, please come to Lima Public Library. The Scutt Room is available\, with small tables\, comfy chairs and hot beverages. Sponsored by Friends of Jonathan Stills\, the space is open from 3-5PM most Thursdays.
URL:https://lima.owwl.org/event/middle-school-study-hall-lima-library-6/
LOCATION:Lima Public Library\, 1872 Genesse Street\, Lima\, NY\, 14485\, United States
END:VEVENT
BEGIN:VEVENT
DTSTART;TZID=America/New_York:20260416T190000
DTEND;TZID=America/New_York:20260416T200000
DTSTAMP:20260422T103746
CREATED:20260408T201724Z
LAST-MODIFIED:20260408T201724Z
UID:3890-1776366000-1776369600@lima.owwl.org
SUMMARY:Lima Green Team--Beekeeping
DESCRIPTION:The Lima Green Team has a special program about beekeeping in the area. \nJoin us in the Scutt Room
URL:https://lima.owwl.org/event/lima-green-team-beekeeping/
LOCATION:Lima Public Library\, 1872 Genesse Street\, Lima\, NY\, 14485\, United States
END:VEVENT
END:VCALENDAR