BEGIN:VCALENDAR
VERSION:2.0
PRODID:-//Lima Public Library - ECPv6.15.20//NONSGML v1.0//EN
CALSCALE:GREGORIAN
METHOD:PUBLISH
X-ORIGINAL-URL:https://lima.owwl.org
X-WR-CALDESC:Events for Lima Public Library
REFRESH-INTERVAL;VALUE=DURATION:PT1H
X-Robots-Tag:noindex
X-PUBLISHED-TTL:PT1H
BEGIN:VTIMEZONE
TZID:America/New_York
BEGIN:DAYLIGHT
TZOFFSETFROM:-0500
TZOFFSETTO:-0400
TZNAME:EDT
DTSTART:20250309T070000
END:DAYLIGHT
BEGIN:STANDARD
TZOFFSETFROM:-0400
TZOFFSETTO:-0500
TZNAME:EST
DTSTART:20251102T060000
END:STANDARD
BEGIN:DAYLIGHT
TZOFFSETFROM:-0500
TZOFFSETTO:-0400
TZNAME:EDT
DTSTART:20260308T070000
END:DAYLIGHT
BEGIN:STANDARD
TZOFFSETFROM:-0400
TZOFFSETTO:-0500
TZNAME:EST
DTSTART:20261101T060000
END:STANDARD
BEGIN:DAYLIGHT
TZOFFSETFROM:-0500
TZOFFSETTO:-0400
TZNAME:EDT
DTSTART:20270314T070000
END:DAYLIGHT
BEGIN:STANDARD
TZOFFSETFROM:-0400
TZOFFSETTO:-0500
TZNAME:EST
DTSTART:20271107T060000
END:STANDARD
END:VTIMEZONE
BEGIN:VEVENT
DTSTART;TZID=America/New_York:20260430T150000
DTEND;TZID=America/New_York:20260430T170000
DTSTAMP:20260422T103630
CREATED:20260408T204403Z
LAST-MODIFIED:20260408T204403Z
UID:3906-1777561200-1777568400@lima.owwl.org
SUMMARY:Middle School Study Hall @ Lima Library
DESCRIPTION:If you are in Middle School\, grades 6-8\, and you need a quiet place to study or you don’t want to study alone\, please come to Lima Public Library. The Scutt Room is available\, with small tables\, comfy chairs and hot beverages. Sponsored by Friends of Jonathan Stills\, the space is open from 3-5PM most Thursdays.
URL:https://lima.owwl.org/event/middle-school-study-hall-lima-library-8/
LOCATION:Lima Public Library\, 1872 Genesse Street\, Lima\, NY\, 14485\, United States
END:VEVENT
BEGIN:VEVENT
DTSTART;TZID=America/New_York:20260430T190000
DTEND;TZID=America/New_York:20260430T193000
DTSTAMP:20260422T103630
CREATED:20260410T145018Z
LAST-MODIFIED:20260410T145043Z
UID:3933-1777575600-1777577400@lima.owwl.org
SUMMARY:On-Line Author Talk with Jason Reynolds
DESCRIPTION:This event will be 45 minutes in length. \nJoin us in an online conversation with bestselling author Jason Reynolds as we discuss his latest work\, Coach\, the fifth–and last–entry in the highly popular Track series. Following the immersive stories of Ghost\, Lu\, Patina\, and Sunny\, it’s finally time for Coach to shine in his own book as we discover: Who was Coach before he became an inspiring leader? \nBefore Coach was the man who gave caring yet firm-handed guidance to Ghost\, Lu\, Patina\, and Sunny on the Defenders track team\, he was little Otie Brody\, who was obsessed with Mr. 9.99 (a.k.a. Carl Lewis) and Marty McFly from Back to the Future. Like Mr. 9.99—and his own dad—Otie is a sprinter. Sprint free or die is practically his motto. \nThen his dad\, who is always away on business trips\, comes home with a pair of Jordans. JORDANS. Fine as fine can be. Otie puts them on and feels like he can leap to the moon…maybe even leap like Mr. 9.99 when he won the Olympic gold medal in the long jump. But one morning he wakes up to find his brand-new secret weapon kicks are missing—right off his feet! And Otie just might have a fuzzy memory of his dad easing them off as Otie was sleeping\, but that can’t be right\, can it? \nUnless all the reasons for his dad’s “gone’s” are very different from what he’s been told… Because now\, not only are the Jordans missing\, but so is his father. \nRegister now to join in on the online conversation about the final installment to Jason Reynold’s Track series! \nAbout the Author: Jason Reynolds is an award-winning and #1 New York Times bestselling author. Jason’s many books include Miles Morales: Spider Man\, the Track series (Ghost\, Patina\, Sunny\, and Lu)\, Long Way Down\, which received a Newbery Honor\, a Printz Honor\, and a Correta Scott King Honor\, and Look Both Ways\, which was a National Book Award Finalist. Recently named the National Ambassador for Young People’s Literature\, Jason has appeared on The Daily Show with Trevor Noah\, Late Night with Seth Meyers\, and CBS This Morning. He is on faculty at Lesley University\, for the Writing for Young People MFA Program and lives in Washington\, DC. You can find his ramblings at JasonWritesBooks.com. \n  \n\n\n\nCOME INTO THE LIBRARY AND CHECK OUT THE BOOK!!\n\n\nThe views expressed by presenters are their own and their appearance in a program does not imply an endorsement of them or any entity they represent. Reference to any specific product or entity does not constitute an endorsement or recommendation by Lima Public Library.
URL:https://lima.owwl.org/event/on-line-author-talk-with/
LOCATION:On-line Event
END:VEVENT
END:VCALENDAR