BEGIN:VCALENDAR
VERSION:2.0
PRODID:-//Lima Public Library - ECPv6.15.20//NONSGML v1.0//EN
CALSCALE:GREGORIAN
METHOD:PUBLISH
X-ORIGINAL-URL:https://lima.owwl.org
X-WR-CALDESC:Events for Lima Public Library
REFRESH-INTERVAL;VALUE=DURATION:PT1H
X-Robots-Tag:noindex
X-PUBLISHED-TTL:PT1H
BEGIN:VTIMEZONE
TZID:America/New_York
BEGIN:DAYLIGHT
TZOFFSETFROM:-0500
TZOFFSETTO:-0400
TZNAME:EDT
DTSTART:20250309T070000
END:DAYLIGHT
BEGIN:STANDARD
TZOFFSETFROM:-0400
TZOFFSETTO:-0500
TZNAME:EST
DTSTART:20251102T060000
END:STANDARD
BEGIN:DAYLIGHT
TZOFFSETFROM:-0500
TZOFFSETTO:-0400
TZNAME:EDT
DTSTART:20260308T070000
END:DAYLIGHT
BEGIN:STANDARD
TZOFFSETFROM:-0400
TZOFFSETTO:-0500
TZNAME:EST
DTSTART:20261101T060000
END:STANDARD
BEGIN:DAYLIGHT
TZOFFSETFROM:-0500
TZOFFSETTO:-0400
TZNAME:EDT
DTSTART:20270314T070000
END:DAYLIGHT
BEGIN:STANDARD
TZOFFSETFROM:-0400
TZOFFSETTO:-0500
TZNAME:EST
DTSTART:20271107T060000
END:STANDARD
END:VTIMEZONE
BEGIN:VEVENT
DTSTART;TZID=America/New_York:20260603T140000
DTEND;TZID=America/New_York:20260603T150000
DTSTAMP:20260423T000435
CREATED:20260410T150115Z
LAST-MODIFIED:20260410T150115Z
UID:3942-1780495200-1780498800@lima.owwl.org
SUMMARY:On-Line Author Talk with Mary Savig
DESCRIPTION:Join us for a fascinating discussion with Smithsonian Curator Mary Savig on the history and significance of craft at state fairs—from blue-ribbon quilts to sculpted butter cows\, and so much more! \nA Dolly Parton crop art portrait. Size-96 cowboy boots. A button quilt. State Fairs: Growing American Craft features more than 100 photos of extraordinary and unconventional crafts from state and tribal fairs\, including needlework\, basketry\, jewelry\, ceramics\, crop art\, butter sculpture\, and saddles. The catalog highlights personal stories and regional and cultural traditions\, creating a vibrant portrait of American life. Come one\, come all! State Fairs has a little something for everyone. \nRegister now to hear about the fascinating (and often surprising) world of American state fair crafts! \nAbout the Author: \nMary Savig is The Fleur and Charles Bresler Curator-in-Charge of the Smithsonian American Art Museum’s Renwick Gallery. She holds a PhD in American Studies from the University of Maryland\, College Park. \nCome into the Library and check out the book! \n\n\n\n\n\n\n\nThe views expressed by presenters are their own and their appearance in a program does not imply an endorsement of them or any entity they represent. Reference to any specific product or entity does not constitute an endorsement or recommendation by Lima Public Library.
URL:https://lima.owwl.org/event/on-line-author-talk-with-mary-savig/
LOCATION:On-line Event
END:VEVENT
END:VCALENDAR