BEGIN:VCALENDAR
VERSION:2.0
PRODID:-//Lima Public Library - ECPv6.15.20//NONSGML v1.0//EN
CALSCALE:GREGORIAN
METHOD:PUBLISH
X-WR-CALNAME:Lima Public Library
X-ORIGINAL-URL:https://lima.owwl.org
X-WR-CALDESC:Events for Lima Public Library
REFRESH-INTERVAL;VALUE=DURATION:PT1H
X-Robots-Tag:noindex
X-PUBLISHED-TTL:PT1H
BEGIN:VTIMEZONE
TZID:America/New_York
BEGIN:DAYLIGHT
TZOFFSETFROM:-0500
TZOFFSETTO:-0400
TZNAME:EDT
DTSTART:20250309T070000
END:DAYLIGHT
BEGIN:STANDARD
TZOFFSETFROM:-0400
TZOFFSETTO:-0500
TZNAME:EST
DTSTART:20251102T060000
END:STANDARD
BEGIN:DAYLIGHT
TZOFFSETFROM:-0500
TZOFFSETTO:-0400
TZNAME:EDT
DTSTART:20260308T070000
END:DAYLIGHT
BEGIN:STANDARD
TZOFFSETFROM:-0400
TZOFFSETTO:-0500
TZNAME:EST
DTSTART:20261101T060000
END:STANDARD
BEGIN:DAYLIGHT
TZOFFSETFROM:-0500
TZOFFSETTO:-0400
TZNAME:EDT
DTSTART:20270314T070000
END:DAYLIGHT
BEGIN:STANDARD
TZOFFSETFROM:-0400
TZOFFSETTO:-0500
TZNAME:EST
DTSTART:20271107T060000
END:STANDARD
END:VTIMEZONE
BEGIN:VEVENT
DTSTART;TZID=America/New_York:20260611T190000
DTEND;TZID=America/New_York:20260611T200000
DTSTAMP:20260423T014303
CREATED:20260410T150357Z
LAST-MODIFIED:20260410T150357Z
UID:3944-1781204400-1781208000@lima.owwl.org
SUMMARY:On-Line Author Talk with Matt Dinniman
DESCRIPTION:Hold onto your heart-patterned boxers! Matt Dinniman\, New York Times bestselling author of the wildly popular (and just plain wild) Dungeon Crawler Carl series\, joins us to chat about his latest book\, A Parade of Horribles. \nAs chaos and mass panic spread outside the dungeon in the wake of Faction Wars\, Carl and Donut find themselves on the tenth floor\, where they’re forced to compete in a surprisingly normal set of tasks. Well\, normal for the dungeon. \nRaces. Get from point A to point B\, and don’t come in last. After each race\, they pick an upgrade for their vehicle and the track gets more challenging. It all seems a little too normal\, a little too simple. \nIgnore those strange glitches that are occurring with increasing frequency. Don’t listen to those whispers about what’s happening on the mysterious eleventh floor\, something the system AI calls A Parade of Horribles. Nobody\, not even the showrunners\, knows what that means. Just that the AI has ominously dubbed it “a coming-out party for the ages.” \nEverything is fine\, Crawler. I repeat\, everything is fine. \nCarl hates that it’s business as usual. The rules of this floor have taken away his agency. That just will not do. \nSo Carl is planning a party of his own. It’s a plan so dangerous\, so insane\, he can’t even consult his friends lest the AI put a stop to it. Because if it goes wrong\, it’s not just the end of Carl and Donut. No. The stakes are higher than they’ve ever been. \nRegister now for a fun-filled discussion you won’t want to miss! \nAbout the Author: \nMatt Dinniman is a writer and artist from Gig Harbor\, Washington. He is the author of the New York Times bestselling Dungeon Crawler Carl series along with several other books about the end of the world. \nHe doesn’t really hate Cocker Spaniels\, and he plays bass in one band. \n  \n\n\n\n\n\n\n\nThe views expressed by presenters are their own and their appearance in a program does not imply an endorsement of them or any entity they represent. Reference to any specific product or entity does not constitute an endorsement or recommendation by Lima Public Library. \n 
URL:https://lima.owwl.org/event/on-line-author-talk-with-matt-dinniman/
LOCATION:On-line Event
END:VEVENT
END:VCALENDAR