BEGIN:VCALENDAR
VERSION:2.0
PRODID:-//Lima Public Library - ECPv6.15.20//NONSGML v1.0//EN
CALSCALE:GREGORIAN
METHOD:PUBLISH
X-ORIGINAL-URL:https://lima.owwl.org
X-WR-CALDESC:Events for Lima Public Library
REFRESH-INTERVAL;VALUE=DURATION:PT1H
X-Robots-Tag:noindex
X-PUBLISHED-TTL:PT1H
BEGIN:VTIMEZONE
TZID:America/New_York
BEGIN:DAYLIGHT
TZOFFSETFROM:-0500
TZOFFSETTO:-0400
TZNAME:EDT
DTSTART:20200308T070000
END:DAYLIGHT
BEGIN:STANDARD
TZOFFSETFROM:-0400
TZOFFSETTO:-0500
TZNAME:EST
DTSTART:20201101T060000
END:STANDARD
BEGIN:DAYLIGHT
TZOFFSETFROM:-0500
TZOFFSETTO:-0400
TZNAME:EDT
DTSTART:20210314T070000
END:DAYLIGHT
BEGIN:STANDARD
TZOFFSETFROM:-0400
TZOFFSETTO:-0500
TZNAME:EST
DTSTART:20211107T060000
END:STANDARD
BEGIN:DAYLIGHT
TZOFFSETFROM:-0500
TZOFFSETTO:-0400
TZNAME:EDT
DTSTART:20220313T070000
END:DAYLIGHT
BEGIN:STANDARD
TZOFFSETFROM:-0400
TZOFFSETTO:-0500
TZNAME:EST
DTSTART:20221106T060000
END:STANDARD
END:VTIMEZONE
BEGIN:VEVENT
DTSTART;TZID=America/New_York:20211210T183000
DTEND;TZID=America/New_York:20211210T200000
DTSTAMP:20260425T095019
CREATED:20211115T162016Z
LAST-MODIFIED:20211124T160124Z
UID:927-1639161000-1639166400@lima.owwl.org
SUMMARY:Christmas Concert and Party - BCW Trio
DESCRIPTION:We will be requiring attendees to mask during the concert portion of our program. Thank you for helping us to celebrate safely! \n  \nWatch the BCW Trio perform holiday classics and join us for light refreshments. Happy holidays! \n  \nHosted/Sponsored by the Friends of the Lima Public Library.
URL:https://lima.owwl.org/event/christmas-concert-and-party-bcw-trio/
LOCATION:NY
END:VEVENT
BEGIN:VEVENT
DTSTART;VALUE=DATE:20211224
DTEND;VALUE=DATE:20211227
DTSTAMP:20260425T095019
CREATED:20210526T173442Z
LAST-MODIFIED:20210526T173831Z
UID:862-1640304000-1640563199@lima.owwl.org
SUMMARY:Holiday Closing
DESCRIPTION:Closing for holidays. \nWe will re-open on Monday 12/27.
URL:https://lima.owwl.org/event/holiday-closing/
LOCATION:NY
END:VEVENT
END:VCALENDAR