BEGIN:VCALENDAR
VERSION:2.0
PRODID:-//Lima Public Library - ECPv6.15.20//NONSGML v1.0//EN
CALSCALE:GREGORIAN
METHOD:PUBLISH
X-ORIGINAL-URL:https://lima.owwl.org
X-WR-CALDESC:Events for Lima Public Library
REFRESH-INTERVAL;VALUE=DURATION:PT1H
X-Robots-Tag:noindex
X-PUBLISHED-TTL:PT1H
BEGIN:VTIMEZONE
TZID:America/New_York
BEGIN:DAYLIGHT
TZOFFSETFROM:-0500
TZOFFSETTO:-0400
TZNAME:EDT
DTSTART:20210314T070000
END:DAYLIGHT
BEGIN:STANDARD
TZOFFSETFROM:-0400
TZOFFSETTO:-0500
TZNAME:EST
DTSTART:20211107T060000
END:STANDARD
BEGIN:DAYLIGHT
TZOFFSETFROM:-0500
TZOFFSETTO:-0400
TZNAME:EDT
DTSTART:20220313T070000
END:DAYLIGHT
BEGIN:STANDARD
TZOFFSETFROM:-0400
TZOFFSETTO:-0500
TZNAME:EST
DTSTART:20221106T060000
END:STANDARD
BEGIN:DAYLIGHT
TZOFFSETFROM:-0500
TZOFFSETTO:-0400
TZNAME:EDT
DTSTART:20230312T070000
END:DAYLIGHT
BEGIN:STANDARD
TZOFFSETFROM:-0400
TZOFFSETTO:-0500
TZNAME:EST
DTSTART:20231105T060000
END:STANDARD
END:VTIMEZONE
BEGIN:VEVENT
DTSTART;VALUE=DATE:20220101
DTEND;VALUE=DATE:20220102
DTSTAMP:20260425T081047
CREATED:20211215T194957Z
LAST-MODIFIED:20211215T194957Z
UID:955-1640995200-1641081599@lima.owwl.org
SUMMARY:Holiday Closing
DESCRIPTION:Closing for New Year’s Day on 1/1/22
URL:https://lima.owwl.org/event/holiday-closing-2/
LOCATION:NY
END:VEVENT
BEGIN:VEVENT
DTSTART;TZID=America/New_York:20220115T110000
DTEND;TZID=America/New_York:20220115T140000
DTSTAMP:20260425T081047
CREATED:20211215T200033Z
LAST-MODIFIED:20220112T151000Z
UID:986-1642244400-1642255200@lima.owwl.org
SUMMARY:CANCELLED: STAY TUNED FOR NEW DATE Adios: History of South Lima - Author Discussion by Rob R. Thompson
DESCRIPTION:Presented by the Friends of the Lima Public Library
URL:https://lima.owwl.org/event/adios-history-of-south-lima-author-discussion-by-rob-r-thompson/
LOCATION:NY
END:VEVENT
BEGIN:VEVENT
DTSTART;VALUE=DATE:20220117
DTEND;VALUE=DATE:20220118
DTSTAMP:20260425T081047
CREATED:20211215T195044Z
LAST-MODIFIED:20211215T195044Z
UID:957-1642377600-1642463999@lima.owwl.org
SUMMARY:Martin Luther King\, Jr. Day Closing
DESCRIPTION:Monday 1/17/22
URL:https://lima.owwl.org/event/martin-luther-king-jr-day-closing/
LOCATION:NY
END:VEVENT
BEGIN:VEVENT
DTSTART;TZID=America/New_York:20220122T093000
DTEND;TZID=America/New_York:20220122T120000
DTSTAMP:20260425T081047
CREATED:20220119T184736Z
LAST-MODIFIED:20220119T185451Z
UID:1049-1642843800-1642852800@lima.owwl.org
SUMMARY:Crossroads Crafters' Circle
DESCRIPTION:Knit\, crochet\, or any craft of your choice on Saturday mornings 9:30 AM-12:00 PM.
URL:https://lima.owwl.org/event/crossroads-crafters-circle/
LOCATION:NY
END:VEVENT
BEGIN:VEVENT
DTSTART;TZID=America/New_York:20220122T103000
DTEND;TZID=America/New_York:20220122T113000
DTSTAMP:20260425T081047
CREATED:20211215T200136Z
LAST-MODIFIED:20220119T182327Z
UID:988-1642847400-1642851000@lima.owwl.org
SUMMARY:Roller Coaster Marbles for Kids (Ages 8+)
DESCRIPTION:  \nSaturday 1/22/2022 10:30 – 11:30 am \nLocation: Lima Library meeting room \nCost: Free \nRegistration: Please sign up at the library so we have plenty of supplies on hand (585-582-1311) \nAges: This is event is for ages 8+ years \nFind your inner-engineer and build a roller coaster for a marble. Assemble foam tubes and blocks into a track for the marble. Test your structure\, modify\, rebuild\, retest and problem solve until your marble has a smooth sailing path down the track. How high should your coaster be to provide enough momentum for the entire journey through your track? The marble will let you know. You are the designer\, builder and tester of your track. Let’s have fun making a roller coaster for a marble. \nBrought to you by the Friends of the Lima Public Library
URL:https://lima.owwl.org/event/roller-coaster-marbles-for-kids-ages-8/
LOCATION:NY
END:VEVENT
BEGIN:VEVENT
DTSTART;TZID=America/New_York:20220125T183000
DTEND;TZID=America/New_York:20220125T203000
DTSTAMP:20260425T081047
CREATED:20211215T200218Z
LAST-MODIFIED:20220118T182655Z
UID:990-1643135400-1643142600@lima.owwl.org
SUMMARY:Intro to Canning - Food Preservation
DESCRIPTION:Tuesday 1/25/2022 6:30 – 8:00 pm \nRepeated on Wednesday 1/26/2022 10:30 am – noon \nLocation: Lima Library meeting room \nCost: Free \nRegistration: No sign up needed. \nAre you interested in preserving food by canning but don’t know where to start?  This is a great program to hear what canning is all about and how to get started. Learn about the difference between high and low acid foods and when to use a boiling-water canner vs. a pressure canner.  You will also see canning tools\, learn about the process of preparing a jar for the canner and see many examples of canned goods.  This program is presented by Master Food Preserver\, Barb Brenner. Barb has been canning most of her life\, starting out canning along side her mother and as a 4-H member. She has been teaching canning classes for many years. Food preservation is a passion of Barb’s and she loves to share her knowledge with others. Join us to hear how you can can. Bring your questions.
URL:https://lima.owwl.org/event/intro-to-canning-food-preservation/
LOCATION:NY
END:VEVENT
BEGIN:VEVENT
DTSTART;TZID=America/New_York:20220126T103000
DTEND;TZID=America/New_York:20220126T120000
DTSTAMP:20260425T081047
CREATED:20211215T200253Z
LAST-MODIFIED:20220118T182719Z
UID:992-1643193000-1643198400@lima.owwl.org
SUMMARY:Intro to Canning - Food Preservation
DESCRIPTION:1/26/2022 10:30 am – noon \nLocation: Lima Library meeting room \nCost: Free \nRegistration: No sign up needed. \nAre you interested in preserving food by canning but don’t know where to start?  This is a great program to hear what canning is all about and how to get started. Learn about the difference between high and low acid foods and when to use a boiling-water canner vs. a pressure canner.  You will also see canning tools\, learn about the process of preparing a jar for the canner and see many examples of canned goods.  This program is presented by Master Food Preserver\, Barb Brenner. Barb has been canning most of her life\, starting out canning along side her mother and as a 4-H member. She has been teaching canning classes for many years. Food preservation is a passion of Barb’s and she loves to share her knowledge with others. Join us to hear how you can can. Bring your questions.
URL:https://lima.owwl.org/event/intro-to-canning-food-preservation-2/
LOCATION:NY
END:VEVENT
BEGIN:VEVENT
DTSTART;TZID=America/New_York:20220129T093000
DTEND;TZID=America/New_York:20220129T120000
DTSTAMP:20260425T081047
CREATED:20220124T163639Z
LAST-MODIFIED:20220126T184618Z
UID:1146-1643448600-1643457600@lima.owwl.org
SUMMARY:Crossroads Crafters' Circle
DESCRIPTION:This is an informal group that gathers to set aside time to work on a craft project while enjoying the company of others. You are invited to come and craft in good company! Knit\, crochet\, quilt\, braid\, scrapbook\, etc. All crafters are welcomed. Come for a short visit or for the entire time. Grab your supplies and join us. Every open Saturday at the Lima Library.
URL:https://lima.owwl.org/event/crossroads-crafters-circle-13/
LOCATION:NY
END:VEVENT
BEGIN:VEVENT
DTSTART;TZID=America/New_York:20220129T093000
DTEND;TZID=America/New_York:20220129T120000
DTSTAMP:20260425T081047
CREATED:20220129T184807Z
LAST-MODIFIED:20220119T185525Z
UID:1052-1643448600-1643457600@lima.owwl.org
SUMMARY:Crossroads Crafters' Circle
DESCRIPTION:
URL:https://lima.owwl.org/event/crossroads-crafters-circle-2/
LOCATION:NY
END:VEVENT
END:VCALENDAR