BEGIN:VCALENDAR
VERSION:2.0
PRODID:-//Lima Public Library - ECPv6.15.20//NONSGML v1.0//EN
CALSCALE:GREGORIAN
METHOD:PUBLISH
X-ORIGINAL-URL:https://lima.owwl.org
X-WR-CALDESC:Events for Lima Public Library
REFRESH-INTERVAL;VALUE=DURATION:PT1H
X-Robots-Tag:noindex
X-PUBLISHED-TTL:PT1H
BEGIN:VTIMEZONE
TZID:America/New_York
BEGIN:DAYLIGHT
TZOFFSETFROM:-0500
TZOFFSETTO:-0400
TZNAME:EDT
DTSTART:20210314T070000
END:DAYLIGHT
BEGIN:STANDARD
TZOFFSETFROM:-0400
TZOFFSETTO:-0500
TZNAME:EST
DTSTART:20211107T060000
END:STANDARD
BEGIN:DAYLIGHT
TZOFFSETFROM:-0500
TZOFFSETTO:-0400
TZNAME:EDT
DTSTART:20220313T070000
END:DAYLIGHT
BEGIN:STANDARD
TZOFFSETFROM:-0400
TZOFFSETTO:-0500
TZNAME:EST
DTSTART:20221106T060000
END:STANDARD
BEGIN:DAYLIGHT
TZOFFSETFROM:-0500
TZOFFSETTO:-0400
TZNAME:EDT
DTSTART:20230312T070000
END:DAYLIGHT
BEGIN:STANDARD
TZOFFSETFROM:-0400
TZOFFSETTO:-0500
TZNAME:EST
DTSTART:20231105T060000
END:STANDARD
END:VTIMEZONE
BEGIN:VEVENT
DTSTART;TZID=America/New_York:20220205T093000
DTEND;TZID=America/New_York:20220205T120000
DTSTAMP:20260425T063707
CREATED:20220119T184832Z
LAST-MODIFIED:20220126T184644Z
UID:1054-1644053400-1644062400@lima.owwl.org
SUMMARY:Crossroads Crafters' Circle
DESCRIPTION:This is an informal group that gathers to set aside time to work on a craft project while enjoying the company of others. You are invited to come and craft in good company! Knit\, crochet\, quilt\, braid\, scrapbook\, etc. All crafters are welcomed. Come for a short visit or for the entire time. Grab your supplies and join us. Every open Saturday at the Lima Library.
URL:https://lima.owwl.org/event/crossroads-crafters-circle-3/
LOCATION:NY
END:VEVENT
BEGIN:VEVENT
DTSTART;TZID=America/New_York:20220205T100000
DTEND;TZID=America/New_York:20220205T120000
DTSTAMP:20260425T063707
CREATED:20220125T204459Z
LAST-MODIFIED:20220127T175539Z
UID:1148-1644055200-1644062400@lima.owwl.org
SUMMARY:Card Making Class with Jane Radomski
DESCRIPTION:Join us for one of our most popular events! \n\nLocation: Lima Library meeting room \n\nCost: Free\, materials will be supplied \nRegistration: Register for the class on the sign up sheet in the library (585-582-1311) \nLearn to make all occasion greeting cards with Jane Radomski. Jane is a creative and skilled card maker and has many ideas and tips to share. You will make 3 cards or 2 cards and a small project during the class.Children over 10 years old and adults. Registration is required so we can know the quantity of supplies to have on hand. \n\n\n  \nBrought to you by the Friends of the Lima Public Library.
URL:https://lima.owwl.org/event/card-making-class-with-jane-radomski/
LOCATION:NY
END:VEVENT
BEGIN:VEVENT
DTSTART;TZID=America/New_York:20220208T183000
DTEND;TZID=America/New_York:20220208T200000
DTSTAMP:20260425T063707
CREATED:20220121T184847Z
LAST-MODIFIED:20220121T185005Z
UID:1121-1644345000-1644350400@lima.owwl.org
SUMMARY:Friends of the Lima Public Library Meeting
DESCRIPTION:Friends Meeting
URL:https://lima.owwl.org/event/friends-of-the-lima-public-library-meeting-2/
LOCATION:NY
END:VEVENT
BEGIN:VEVENT
DTSTART;TZID=America/New_York:20220212T093000
DTEND;TZID=America/New_York:20220212T120000
DTSTAMP:20260425T063707
CREATED:20220119T184942Z
LAST-MODIFIED:20220126T184713Z
UID:1056-1644658200-1644667200@lima.owwl.org
SUMMARY:Crossroads Crafters' Circle
DESCRIPTION:This is an informal group that gathers to set aside time to work on a craft project while enjoying the company of others. You are invited to come and craft in good company! Knit\, crochet\, quilt\, braid\, scrapbook\, etc. All crafters are welcomed. Come for a short visit or for the entire time. Grab your supplies and join us. Every open Saturday at the Lima Library.
URL:https://lima.owwl.org/event/crossroads-crafters-circle-4/
LOCATION:NY
END:VEVENT
BEGIN:VEVENT
DTSTART;TZID=America/New_York:20220212T103000
DTEND;TZID=America/New_York:20220212T120000
DTSTAMP:20260425T063707
CREATED:20211215T200356Z
LAST-MODIFIED:20220207T164614Z
UID:994-1644661800-1644667200@lima.owwl.org
SUMMARY:CANCELED Let's Visit China - Kids' Program - Presented by Jordan Kroll
DESCRIPTION:Saturday 1/22/2022 10:30 am – 12:30 pm \nLocation: Lima Library meeting room \nCost: Free \nRegistration: Please sign up at the library so we have plenty of supplies on hand \nAges: All ages are welcome \nThe Winter Olympics are being held in Beijing in the People’s Republic of China on February 4th to 20th. So February 2022 is a great time to hear about what it is like to live in China. \nThis program will be a mix of activities for kids to visit the Chinese culture. Learn about China\, Chinese people\, and some fun facts about the culture. Let’s do a quick character writing lesson. Our presenter\, Jordan\, would be glad to answer any questions about China. Pictures and video will be shown. \nOur wonderful presenter for our visit to China is Jordan Kroll\, who lives right here in Lima with his wife and kids. Jordan lived in China for most of 2008-2020\, in four different cities. He owned a business in China and was working as an artist there\, painting the minority people and landscapes. Jordan speaks\, reads and writes Mandarin. \n  \nBrought to you by the Friends of the Lima Public Library
URL:https://lima.owwl.org/event/lets-visit-china-kids-program-presented-by-jordan-kroll/
LOCATION:NY
END:VEVENT
BEGIN:VEVENT
DTSTART;TZID=America/New_York:20220215T183000
DTEND;TZID=America/New_York:20220215T200000
DTSTAMP:20260425T063707
CREATED:20211215T200449Z
LAST-MODIFIED:20220118T183345Z
UID:996-1644949800-1644955200@lima.owwl.org
SUMMARY:Intro to Fermentation - Food Preservation
DESCRIPTION:Tuesday 2/15/2022 6:30 – 8:00 pm \nRepeated on Wednesday 2/16/2022 10:30 am – noon \nLocation: Lima Library meeting room \nCost: Free \nRegistration: No sign up needed. \nAre you interested in fermenting food but don’t know how to get started? Learn how easy it is to get started in making sauerkraut\, kimchi\, kombucha and various other fermented foods. You will also see different fermentation containers\, learn how to keep air away from the fermenting food and how you don’t need to spend money on gadgets to get started in fermentation. This program is presented by Master Food Preserver\, Barb Brenner. She has been teaching food preservation classes for many years and is a CCE certified Master Food Preserver. Food preservation is a passion of Barb’s and she loves to share her knowledge with others. Join us to hear how easy it is to ferment various foods. Bring your questions. \n  \nPresented by the Friends of the Lima Public Library.
URL:https://lima.owwl.org/event/intro-to-fermentation-food-preservation/
LOCATION:NY
END:VEVENT
BEGIN:VEVENT
DTSTART;TZID=America/New_York:20220216T103000
DTEND;TZID=America/New_York:20220216T120000
DTSTAMP:20260425T063707
CREATED:20211215T200530Z
LAST-MODIFIED:20220118T183414Z
UID:998-1645007400-1645012800@lima.owwl.org
SUMMARY:Intro to Fermentation - Food Preservation
DESCRIPTION:Wednesday 2/16/2022 10:30 am – noon \nLocation: Lima Library meeting room \nCost: Free \nRegistration: No sign up needed. \nAre you interested in fermenting food but don’t know how to get started? Learn how easy it is to get started in making sauerkraut\, kimchi\, kombucha and various other fermented foods. You will also see different fermentation containers\, learn how to keep air away from the fermenting food and how you don’t need to spend money on gadgets to get started in fermentation. This program is presented by Master Food Preserver\, Barb Brenner. She has been teaching food preservation classes for many years and is a CCE certified Master Food Preserver. Food preservation is a passion of Barb’s and she loves to share her knowledge with others. Join us to hear how easy it is to ferment various foods. Bring your questions. \n  \nPresented by the Friends of the Lima Public Library.
URL:https://lima.owwl.org/event/intro-to-fermentation-food-preservation-2/
LOCATION:NY
END:VEVENT
BEGIN:VEVENT
DTSTART;TZID=America/New_York:20220219T093000
DTEND;TZID=America/New_York:20220219T120000
DTSTAMP:20260425T063707
CREATED:20220119T185004Z
LAST-MODIFIED:20220126T184758Z
UID:1058-1645263000-1645272000@lima.owwl.org
SUMMARY:Crossroads Crafters' Circle
DESCRIPTION:This is an informal group that gathers to set aside time to work on a craft project while enjoying the company of others. You are invited to come and craft in good company! Knit\, crochet\, quilt\, braid\, scrapbook\, etc. All crafters are welcomed. Come for a short visit or for the entire time. Grab your supplies and join us. Every open Saturday at the Lima Library.
URL:https://lima.owwl.org/event/crossroads-crafters-circle-5/
LOCATION:NY
END:VEVENT
BEGIN:VEVENT
DTSTART;TZID=America/New_York:20220219T110000
DTEND;TZID=America/New_York:20220219T140000
DTSTAMP:20260425T063707
CREATED:20220118T183222Z
LAST-MODIFIED:20220118T183222Z
UID:1033-1645268400-1645279200@lima.owwl.org
SUMMARY:Adios: History of South Lima - Author Discussion
DESCRIPTION:Location: Lima Library meeting room \nCost: Free \nRegistration: No sign up needed. \nAuthor\, Rob Thompson\, will share insights from his book “Adios-History of South Lima”. Attend this program to learn more about a part of our Lima town called South Lima. For more information about the book please read the summary on Amazon’s website: \nhttps://www.amazon.com/Adios-History-Rob-R-Thompson/dp/B0955DSK88 \nRob Thompson was born and raised in South Lima\, working the muck as a kid\, his family lived in and owned what was the second South Lima Hotel. He graduated from Livonia High School in 1982. He earned a Master in English Literature from Mercy College\, is a member of the Charles Dickens and Janes Austen Societies. He has published twenty books including Adios-History of South Lima and Grandma’s Drum a story of a South Lima Christmas. Rob is also an accredited International Election Observer with short-term missions to Northern Ireland and Slovenia scheduled of 2022. His current project is that of the Sullivan Expedition. He and his wife Kendra live in Attica. \nMasks will be required. \n\n\n\nhttps://www.amazon.com/Adios-History-Rob-R-Thompson/dp/B0955DSK88\n\n\nPresented by Friends of the Lima Public Library.
URL:https://lima.owwl.org/event/adios-history-of-south-lima-author-discussion/
LOCATION:NY
END:VEVENT
BEGIN:VEVENT
DTSTART;VALUE=DATE:20220221
DTEND;VALUE=DATE:20220222
DTSTAMP:20260425T063707
CREATED:20211215T195113Z
LAST-MODIFIED:20211215T195113Z
UID:959-1645401600-1645487999@lima.owwl.org
SUMMARY:Presidents' Day Closing
DESCRIPTION:Monday 2/21/22
URL:https://lima.owwl.org/event/presidents-day-closing/
LOCATION:NY
END:VEVENT
BEGIN:VEVENT
DTSTART;TZID=America/New_York:20220226T093000
DTEND;TZID=America/New_York:20220226T120000
DTSTAMP:20260425T063707
CREATED:20220119T185025Z
LAST-MODIFIED:20220126T184802Z
UID:1060-1645867800-1645876800@lima.owwl.org
SUMMARY:Crossroads Crafters' Circle
DESCRIPTION:This is an informal group that gathers to set aside time to work on a craft project while enjoying the company of others. You are invited to come and craft in good company! Knit\, crochet\, quilt\, braid\, scrapbook\, etc. All crafters are welcomed. Come for a short visit or for the entire time. Grab your supplies and join us. Every open Saturday at the Lima Library.
URL:https://lima.owwl.org/event/crossroads-crafters-circle-6/
LOCATION:NY
END:VEVENT
END:VCALENDAR