BEGIN:VCALENDAR
VERSION:2.0
PRODID:-//Lima Public Library - ECPv6.15.20//NONSGML v1.0//EN
CALSCALE:GREGORIAN
METHOD:PUBLISH
X-ORIGINAL-URL:https://lima.owwl.org
X-WR-CALDESC:Events for Lima Public Library
REFRESH-INTERVAL;VALUE=DURATION:PT1H
X-Robots-Tag:noindex
X-PUBLISHED-TTL:PT1H
BEGIN:VTIMEZONE
TZID:America/New_York
BEGIN:DAYLIGHT
TZOFFSETFROM:-0500
TZOFFSETTO:-0400
TZNAME:EDT
DTSTART:20210314T070000
END:DAYLIGHT
BEGIN:STANDARD
TZOFFSETFROM:-0400
TZOFFSETTO:-0500
TZNAME:EST
DTSTART:20211107T060000
END:STANDARD
BEGIN:DAYLIGHT
TZOFFSETFROM:-0500
TZOFFSETTO:-0400
TZNAME:EDT
DTSTART:20220313T070000
END:DAYLIGHT
BEGIN:STANDARD
TZOFFSETFROM:-0400
TZOFFSETTO:-0500
TZNAME:EST
DTSTART:20221106T060000
END:STANDARD
BEGIN:DAYLIGHT
TZOFFSETFROM:-0500
TZOFFSETTO:-0400
TZNAME:EDT
DTSTART:20230312T070000
END:DAYLIGHT
BEGIN:STANDARD
TZOFFSETFROM:-0400
TZOFFSETTO:-0500
TZNAME:EST
DTSTART:20231105T060000
END:STANDARD
END:VTIMEZONE
BEGIN:VEVENT
DTSTART;VALUE=DATE:20220627
DTEND;VALUE=DATE:20220730
DTSTAMP:20260424T223014
CREATED:20220622T195445Z
LAST-MODIFIED:20220622T195445Z
UID:1370-1656288000-1659139199@lima.owwl.org
SUMMARY:Summer Reading: Oceans of Possibilities
DESCRIPTION:Summer Reading 2022: Oceans of Possibilities\n\n\n\nRegistration starts Thursday 6/23 and our game starts on Monday 6/27. Keep track of your reading time and activities on your game board with stickers! Do ocean activities in the library and at home. Our game board can go with you on vacation so you can still participate if you’ll be out of town this summer! The game ends on Friday 7/29. Be sure to complete at least 25 simple activities (there will be lots to choose from) by Monday 8/1 to earn your prize bag!\n\n\n\nHappy reading!
URL:https://lima.owwl.org/event/summer-reading-oceans-of-possibilities/
LOCATION:NY
END:VEVENT
BEGIN:VEVENT
DTSTART;VALUE=DATE:20220704
DTEND;VALUE=DATE:20220705
DTSTAMP:20260424T223014
CREATED:20211215T195503Z
LAST-MODIFIED:20211215T195503Z
UID:970-1656892800-1656979199@lima.owwl.org
SUMMARY:Independence Day Closing
DESCRIPTION:Monday 7/4/22
URL:https://lima.owwl.org/event/independence-day-closing-2/
LOCATION:NY
END:VEVENT
BEGIN:VEVENT
DTSTART;TZID=America/New_York:20220707T210000
DTEND;TZID=America/New_York:20220707T220000
DTSTAMP:20260424T223014
CREATED:20220603T193752Z
LAST-MODIFIED:20220603T193752Z
UID:1332-1657227600-1657231200@lima.owwl.org
SUMMARY:The Henna Artist: Author Talk with Alka Joshi
DESCRIPTION:Join us for an enchanting evening with New York Times Best Selling author and Reese Witherspoon Book Club pick Alka Joshi as she discusses her captivating and bestselling novels\, The Henna Artist and The Secret Keeper of Jaipur. \nAlka Joshi was born in India and immigrated to the US when she was nine years old\, and published her debut novel\, The Henna Artist\, at the age of 62. Vivid and compelling in its portrait of one woman’s struggle for fulfillment in a society pivoting between the traditional and the modern\, The Henna Artist leads the audience on a journey through 1950s post-independence India that is all at once lush and fascinating\, stark and cruel. \nIn this interview\, Alka will share her inspirations for her work\, how her mother’s life story has influenced her writing\, and her experience and role in the creation of a Netflix series based on her books. Bewitching the senses\, Joshi’s The Henna Artist\, invites you to feast on Indian culture with mind\, body\, and soul. Author Q&A to follow the talk! \nRegister for this author talk and check out other online author talks here: https://libraryc.org/lima \nWant to participate but can’t make the time? Check out the link above afterwards to play the recording.
URL:https://lima.owwl.org/event/the-henna-artist-author-talk-with-alka-joshi/
LOCATION:NY
END:VEVENT
BEGIN:VEVENT
DTSTART;TZID=America/New_York:20220712T183000
DTEND;TZID=America/New_York:20220712T200000
DTSTAMP:20260424T223014
CREATED:20220121T185448Z
LAST-MODIFIED:20220121T185448Z
UID:1134-1657650600-1657656000@lima.owwl.org
SUMMARY:Friends of the Lima Public Library Meeting
DESCRIPTION:Friends Meeting
URL:https://lima.owwl.org/event/friends-of-the-lima-public-library-meeting-6/
LOCATION:NY
END:VEVENT
BEGIN:VEVENT
DTSTART;TZID=America/New_York:20220714T120000
DTEND;TZID=America/New_York:20220714T133000
DTSTAMP:20260424T223014
CREATED:20220603T194227Z
LAST-MODIFIED:20220603T194227Z
UID:1335-1657800000-1657805400@lima.owwl.org
SUMMARY:David Allen\, Getting Things Done: The Art of Stress Free Productivity - Author Talk
DESCRIPTION:Join us as we sit down in conversation with New York Times Best Selling author David Allen\, one of the world’s most influential thinkers on personal productivity. David’s thirty-five years of experience as a management consultant and executive coach has earned him worldwide and Forbes’ recognition as one of the top five executive coaches in the U.S. \nAllen’s New York Times bestselling book\, Getting Things Done: The Art of Stress-Free Productivity\, has sold millions of copies and has been published in thirty languages\, and the “GTD” methodology it describes has become a global phenomenon\, being taught by training companies in more than ninety countries. David Allen’s GTD Methodology has shown millions how to transform a fast-paced\, overwhelming\, overcommitted life into one that is balanced\, integrated\, relaxed\, and has more successful outcomes. GTD’s broad appeal is based on the fact that it applies from the boardroom to the living room to the classroom. It is hailed as “life-changing” by students\, busy parents\, entrepreneurs\, and corporate executives. You can start “Getting Things Done” today and get advice from the author himself with a Q&A following the talk! \nRegister for this author talk and check out other online author talks here: https://libraryc.org/lima
URL:https://lima.owwl.org/event/david-allen-getting-things-done-the-art-of-stress-free-productivity-author-talk/
LOCATION:NY
END:VEVENT
BEGIN:VEVENT
DTSTART;TZID=America/New_York:20220714T150000
DTEND;TZID=America/New_York:20220714T170000
DTSTAMP:20260424T223014
CREATED:20220622T194801Z
LAST-MODIFIED:20220622T194801Z
UID:1364-1657810800-1657818000@lima.owwl.org
SUMMARY:Livingston County Libraries: Technology Tutoring
DESCRIPTION:Need help with your computer? Email? Smartphone? Tablet?\n\nCONTACT MORGAN TO SCHEDULE YOUR ONE – ON – ONE 60 MINUTE SESSION\nlctechtutoring@gmail.com\n585-568-7602\n\nThis project is supported by funds from the New York State Library’s Adult Literacy Library Services Program
URL:https://lima.owwl.org/event/livingston-county-libraries-technology-tutoring/
LOCATION:NY
END:VEVENT
BEGIN:VEVENT
DTSTART;TZID=America/New_York:20220718T183000
DTEND;TZID=America/New_York:20220718T200000
DTSTAMP:20260424T223014
CREATED:20220610T171443Z
LAST-MODIFIED:20220610T171443Z
UID:1343-1658169000-1658174400@lima.owwl.org
SUMMARY:Friends of the Lima Public Library: Book Sorting Event
DESCRIPTION:The Friends of the Lima Public Library are looking for 1-2 book lovers to help sort book donations on Monday 7/18 at 6:30 PM at the library. Contact Barb Brenner\, either via Facebook message or email bjabrenner@gmail.com\, if you want to help. You never know–you might find a good book to enjoy!
URL:https://lima.owwl.org/event/friends-of-the-lima-public-library-book-sorting-event-2/
LOCATION:NY
END:VEVENT
BEGIN:VEVENT
DTSTART;TZID=America/New_York:20220720T103000
DTEND;TZID=America/New_York:20220720T120000
DTSTAMP:20260424T223014
CREATED:20220121T184426Z
LAST-MODIFIED:20220121T184426Z
UID:1110-1658313000-1658318400@lima.owwl.org
SUMMARY:Board of Trustees Meeting
DESCRIPTION:Lima Public Library Board Meeting
URL:https://lima.owwl.org/event/board-of-trustees-meeting-3/
LOCATION:NY
END:VEVENT
BEGIN:VEVENT
DTSTART;TZID=America/New_York:20220725T103000
DTEND;TZID=America/New_York:20220725T113000
DTSTAMP:20260424T223014
CREATED:20220708T163506Z
LAST-MODIFIED:20220708T171706Z
UID:1384-1658745000-1658748600@lima.owwl.org
SUMMARY:Grace and Grins: Oceans of Possibilities Puppet Show
DESCRIPTION:Join us on Monday 7/25 at 10:30 AM for Grace and Grins Oceans of Possibilities Puppet Show! It will be a new exciting show about keeping our waters clean and learning about ocean life! Bring the kids–no registration required.
URL:https://lima.owwl.org/event/grace-and-grins-oceans-of-possibilities-puppet-show/
LOCATION:NY
END:VEVENT
END:VCALENDAR