BEGIN:VCALENDAR
VERSION:2.0
PRODID:-//Lima Public Library - ECPv6.15.20//NONSGML v1.0//EN
CALSCALE:GREGORIAN
METHOD:PUBLISH
X-WR-CALNAME:Lima Public Library
X-ORIGINAL-URL:https://lima.owwl.org
X-WR-CALDESC:Events for Lima Public Library
REFRESH-INTERVAL;VALUE=DURATION:PT1H
X-Robots-Tag:noindex
X-PUBLISHED-TTL:PT1H
BEGIN:VTIMEZONE
TZID:America/New_York
BEGIN:DAYLIGHT
TZOFFSETFROM:-0500
TZOFFSETTO:-0400
TZNAME:EDT
DTSTART:20210314T070000
END:DAYLIGHT
BEGIN:STANDARD
TZOFFSETFROM:-0400
TZOFFSETTO:-0500
TZNAME:EST
DTSTART:20211107T060000
END:STANDARD
BEGIN:DAYLIGHT
TZOFFSETFROM:-0500
TZOFFSETTO:-0400
TZNAME:EDT
DTSTART:20220313T070000
END:DAYLIGHT
BEGIN:STANDARD
TZOFFSETFROM:-0400
TZOFFSETTO:-0500
TZNAME:EST
DTSTART:20221106T060000
END:STANDARD
BEGIN:DAYLIGHT
TZOFFSETFROM:-0500
TZOFFSETTO:-0400
TZNAME:EDT
DTSTART:20230312T070000
END:DAYLIGHT
BEGIN:STANDARD
TZOFFSETFROM:-0400
TZOFFSETTO:-0500
TZNAME:EST
DTSTART:20231105T060000
END:STANDARD
END:VTIMEZONE
BEGIN:VEVENT
DTSTART;TZID=America/New_York:20220803T140000
DTEND;TZID=America/New_York:20220803T153000
DTSTAMP:20260424T210200
CREATED:20220603T194428Z
LAST-MODIFIED:20220603T195136Z
UID:1338-1659535200-1659540600@lima.owwl.org
SUMMARY:Dr. Marcia Chatelain\, Franchise: The Golden Arches in Black America - Author Talk
DESCRIPTION:Join us in conversation with Dr. Marcia Chatelain as she discusses her Pulitzer prize-winning book\, Franchise: The Golden Arches in Black America.  \n  \nDr. Marcia Chatelain set out to answer the question of how fast-food restaurants so thoroughly saturate black neighborhoods. McDonald’s has often been blamed for the rising rates of obesity and diabetes among black Americans. In Franchise\, Chatelain uncovers a surprising history of cooperation among fast-food companies\, black capitalists\, and civil rights leaders\, who–in the troubled years after King’s assassination–believed they found an economic answer to the problem of racial inequality. \nAbout the author: Dr. Marcia Chatelain is a Professor of History and African American Studies at Georgetown University. She is also the author of South Side Girls: Growing up in the Great Migration.  In 2021\, Chatelain received the Pulitzer Prize in History\, the Hagley Prize in Business History\, and the Organization of American Historians (OAH) Lawrence W. Levine Award for Franchise. An active public speaker and educational consultant\, Chatelain has received awards and honors from the Ford Foundation\, the American Association of University Women\, and the German Marshall Fund of the United States. In 2016\, the Chronicle of Higher Education named her a Top Influencer in academia in recognition of her social media campaign #FergusonSyllabus\, which implored educators to facilitate discussions about the crisis in Ferguson\, Missouri in 2014. \nRegister for this author talk and check out other online author talks here: https://libraryc.org/lima
URL:https://lima.owwl.org/event/dr-marcia-chatelain-franchise-the-golden-arches-in-black-america-author-talk/
LOCATION:NY
END:VEVENT
BEGIN:VEVENT
DTSTART;TZID=America/New_York:20220805T130000
DTEND;TZID=America/New_York:20220805T160000
DTSTAMP:20260424T210200
CREATED:20220523T152526Z
LAST-MODIFIED:20220729T175250Z
UID:1311-1659704400-1659715200@lima.owwl.org
SUMMARY:Friends of the Lima Public Library Book Sale
DESCRIPTION:The Book Sale is held in the book barns behind the Lima Public Library. We’re at 1872 Genesee Street\, across from the Lima Post Office. Join us!
URL:https://lima.owwl.org/event/friends-of-the-lima-public-library-book-sale-3/
LOCATION:NY
END:VEVENT
BEGIN:VEVENT
DTSTART;TZID=America/New_York:20220806T100000
DTEND;TZID=America/New_York:20220806T160000
DTSTAMP:20260424T210200
CREATED:20220523T152607Z
LAST-MODIFIED:20220729T174941Z
UID:1314-1659780000-1659801600@lima.owwl.org
SUMMARY:Friends of the Lima Public Library Book Sale
DESCRIPTION:The Book Sale is held in the book barns behind the Lima Public Library. We’re at 1872 Genesee Street\, across from the Lima Post Office. Join us!
URL:https://lima.owwl.org/event/friends-of-the-lima-public-library-book-sale-4/
LOCATION:NY
END:VEVENT
BEGIN:VEVENT
DTSTART;TZID=America/New_York:20220809T210000
DTEND;TZID=America/New_York:20220809T220000
DTSTAMP:20260424T210200
CREATED:20220623T182426Z
LAST-MODIFIED:20220623T182426Z
UID:1373-1660078800-1660082400@lima.owwl.org
SUMMARY:Author Talk: Liz Moore\, Long Bright River
DESCRIPTION:Join us for an enthralling evening with New York Times Bestselling author Liz Moore as she discusses her international bestseller\, Long Bright River\, and her other works.\n\nLong Bright River takes place in Philadelphia where Moore has lived for over a decade. The novel traces the story of two sisters estranged from each other but bonded by their choices. Mickey is a cop\, and Kacey lives on the streets in the clutches of addiction. When Kacey suddenly disappears during a string of mysterious murders\, Mickey panics over her sister’s safety—becoming obsessed with finding the culprit and her sister before it’s too late.\nDrawing on deeply personal volunteer work\, Liz Moore spins a story that is both graphically honest and dignified. Long Bright River puts a very human face on the effect that addiction can have on generations of families and communities. A gripping conversation\, you don’t want to miss! Author Q&A to follow!\n\nRegister for this author talk and check out other online author talks here: https://libraryc.org/lima
URL:https://lima.owwl.org/event/author-talk-liz-moore-long-bright-river/
LOCATION:NY
END:VEVENT
BEGIN:VEVENT
DTSTART;TZID=America/New_York:20220811T150000
DTEND;TZID=America/New_York:20220811T170000
DTSTAMP:20260424T210200
CREATED:20220622T194847Z
LAST-MODIFIED:20220622T194847Z
UID:1366-1660230000-1660237200@lima.owwl.org
SUMMARY:Livingston County Libraries: Technology Tutoring
DESCRIPTION:Need help with your computer? Email? Smartphone? Tablet?\n\nCONTACT MORGAN TO SCHEDULE YOUR ONE – ON – ONE 60 MINUTE SESSION\nlctechtutoring@gmail.com\n585-568-7602\n\nThis project is supported by funds from the New York State Library’s Adult Literacy Library Services Program
URL:https://lima.owwl.org/event/livingston-county-libraries-technology-tutoring-2/
LOCATION:NY
END:VEVENT
BEGIN:VEVENT
DTSTART;TZID=America/New_York:20220822T210000
DTEND;TZID=America/New_York:20220822T220000
DTSTAMP:20260424T210200
CREATED:20220623T182522Z
LAST-MODIFIED:20220623T182522Z
UID:1376-1661202000-1661205600@lima.owwl.org
SUMMARY:Author Talk: The Beauty in Breaking with Dr. Michele Harper
DESCRIPTION:Join us for an enlightening discussion with Dr. Michele Harper as she highlights the lessons learned on her inspiring personal journey of discovery and self-reflection as written in her New York Times Best Selling memoir\, The Beauty in Breaking.\n\nThe Beauty in Breaking tells the story of Dr. Harper\, a female\, African American\, ER physician in an overwhelmingly male and white profession. Brought up in Washington\, D.C.\, in a complicated family\, she attended Harvard\, where she met her husband. They stayed together through medical school until two months before she was scheduled to join the staff of a hospital in central Philadelphia when he told her he couldn’t move with her. Her marriage at an end\, Harper\, began her new life in a new city\, in a new job\, as a newly single woman.\n\nThe Beauty in Breaking speaks about how each of us are broken—physically and emotionally\, how we go about recognizing those breaks\, how we try to mend them\, and where we go from there as all equally crucial parts of the healing process. You are invited to a riveting and powerful conversation of self-healing with Q&A to follow!\n\nRegister for this author talk and check out other online author talks here:\nhttps://libraryc.org/lima
URL:https://lima.owwl.org/event/author-talk-the-beauty-in-breaking-with-dr-michele-harper/
LOCATION:NY
END:VEVENT
BEGIN:VEVENT
DTSTART;TZID=America/New_York:20220825T120000
DTEND;TZID=America/New_York:20220825T130000
DTSTAMP:20260424T210200
CREATED:20220623T182709Z
LAST-MODIFIED:20220623T182709Z
UID:1379-1661428800-1661432400@lima.owwl.org
SUMMARY:Author Talk: Impact Players with Liz Wiseman
DESCRIPTION:Join us as we sit down in conversation with Liz Wiseman\, New York Times Best Selling author\, researcher\, and executive adviser as she showcases her latest book Impact Players: How to Take the Lead\, Play Bigger and Multiply Your Impact and discusses why some people break through and make an impact while others get stuck going through the motions.\n\nIn every organization\, impact players are indispensable colleagues who can be counted on in critical situations and consistently receive high-profile assignments and new opportunities. Wiseman reveals the secrets of these stellar professionals who play the game at a higher level. Drawing on insights from leaders at top companies\, Wiseman explains what the most influential players are doing differently\, how small and seemingly insignificant differences in how we think and act can make an enormous impact\, and why– with a little coaching–this mindset is available to everyone who wants to contribute at their highest level and do more meaningful work.\n\nLiz Wiseman teaches leadership to executives worldwide. She is a New York Times and Wall Street Journal bestseller for multiple titles and the CEO of the Wiseman Group\, a leadership research and development firm headquartered in Silicon Valley\, California. You are invited to take the lead and multiply your impact by joining the conversation! An author Q&A to follow!\n\nRegister for this author talk and check out other online author talks here: https://libraryc.org/lima
URL:https://lima.owwl.org/event/author-talk-impact-players-with-liz-wiseman/
LOCATION:NY
END:VEVENT
END:VCALENDAR