BEGIN:VCALENDAR
VERSION:2.0
PRODID:-//Lima Public Library - ECPv6.15.20//NONSGML v1.0//EN
CALSCALE:GREGORIAN
METHOD:PUBLISH
X-WR-CALNAME:Lima Public Library
X-ORIGINAL-URL:https://lima.owwl.org
X-WR-CALDESC:Events for Lima Public Library
REFRESH-INTERVAL;VALUE=DURATION:PT1H
X-Robots-Tag:noindex
X-PUBLISHED-TTL:PT1H
BEGIN:VTIMEZONE
TZID:America/New_York
BEGIN:DAYLIGHT
TZOFFSETFROM:-0500
TZOFFSETTO:-0400
TZNAME:EDT
DTSTART:20210314T070000
END:DAYLIGHT
BEGIN:STANDARD
TZOFFSETFROM:-0400
TZOFFSETTO:-0500
TZNAME:EST
DTSTART:20211107T060000
END:STANDARD
BEGIN:DAYLIGHT
TZOFFSETFROM:-0500
TZOFFSETTO:-0400
TZNAME:EDT
DTSTART:20220313T070000
END:DAYLIGHT
BEGIN:STANDARD
TZOFFSETFROM:-0400
TZOFFSETTO:-0500
TZNAME:EST
DTSTART:20221106T060000
END:STANDARD
BEGIN:DAYLIGHT
TZOFFSETFROM:-0500
TZOFFSETTO:-0400
TZNAME:EDT
DTSTART:20230312T070000
END:DAYLIGHT
BEGIN:STANDARD
TZOFFSETFROM:-0400
TZOFFSETTO:-0500
TZNAME:EST
DTSTART:20231105T060000
END:STANDARD
END:VTIMEZONE
BEGIN:VEVENT
DTSTART;TZID=America/New_York:20221031T170000
DTEND;TZID=America/New_York:20221101T130000
DTSTAMP:20260424T160813
CREATED:20220921T194838Z
LAST-MODIFIED:20220921T195019Z
UID:1487-1667235600-1667307600@lima.owwl.org
SUMMARY:Closing at 5:00 PM & Locked Dropbox
DESCRIPTION:
URL:https://lima.owwl.org/event/closing-at-500-pm-locked-dropbox/
LOCATION:NY
END:VEVENT
BEGIN:VEVENT
DTSTART;TZID=America/New_York:20221101T183000
DTEND;TZID=America/New_York:20221101T203000
DTSTAMP:20260424T160813
CREATED:20220317T182915Z
LAST-MODIFIED:20220317T182915Z
UID:1260-1667327400-1667334600@lima.owwl.org
SUMMARY:Food Preservation 101: Intro to Dehydrating
DESCRIPTION:
URL:https://lima.owwl.org/event/food-preservation-101-intro-to-dehydrating-3/
LOCATION:NY
END:VEVENT
BEGIN:VEVENT
DTSTART;TZID=America/New_York:20221102T103000
DTEND;TZID=America/New_York:20221102T123000
DTSTAMP:20260424T160813
CREATED:20220317T182951Z
LAST-MODIFIED:20220317T182951Z
UID:1263-1667385000-1667392200@lima.owwl.org
SUMMARY:Food Preservation 101: Intro to Dehydrating
DESCRIPTION:
URL:https://lima.owwl.org/event/food-preservation-101-intro-to-dehydrating-4/
LOCATION:NY
END:VEVENT
BEGIN:VEVENT
DTSTART;TZID=America/New_York:20221102T160000
DTEND;TZID=America/New_York:20221102T170000
DTSTAMP:20260424T160813
CREATED:20221012T175103Z
LAST-MODIFIED:20221012T175103Z
UID:1532-1667404800-1667408400@lima.owwl.org
SUMMARY:Online Author Talk: Lisa Napoli\, Susan\, Linda\, Nina\, and Cokie: The Extraordinary Story of the Founding Mothers of NPR
DESCRIPTION:You’re invited to join us for an illuminating hour as we chat with highly acclaimed #author @LisaNapoli about her #book Susan\, Linda\, Nina\, and Cokie: The Extraordinary Story of the Founding Mothers of NPR on November 2nd at 4 PM EST/1 PM PDT via digital live-stream in partnership with Lima Public Library! #bestseller #LisaNapoli #NPR #SusanLindaNinaCokie \n  \nRegister and view more Author Talks here: libraryc.org/lima
URL:https://lima.owwl.org/event/online-author-talk-lisa-napoli-susan-linda-nina-and-cokie-the-extraordinary-story-of-the-founding-mothers-of-npr/
LOCATION:NY
END:VEVENT
BEGIN:VEVENT
DTSTART;TZID=America/New_York:20221105T093000
DTEND;TZID=America/New_York:20221105T120000
DTSTAMP:20260424T160813
CREATED:20220831T171406Z
LAST-MODIFIED:20220831T171406Z
UID:1456-1667640600-1667649600@lima.owwl.org
SUMMARY:Crossroads Crafters' Circle
DESCRIPTION:This is an informal group that gathers to set aside time to work on a craft project while enjoying the company of others. You are invited to come and craft in good company! Knit\, crochet\, quilt\, braid\, scrapbook\, etc. All crafters are welcomed. Come for a short visit or for the entire time. Grab your supplies and join us. Every open Saturday at the Lima Library.
URL:https://lima.owwl.org/event/crossroads-crafters-circle-23/
LOCATION:NY
END:VEVENT
BEGIN:VEVENT
DTSTART;TZID=America/New_York:20221108T183000
DTEND;TZID=America/New_York:20221108T200000
DTSTAMP:20260424T160813
CREATED:20220121T185750Z
LAST-MODIFIED:20220121T185750Z
UID:1142-1667932200-1667937600@lima.owwl.org
SUMMARY:Friends of the Lima Public Library Meeting
DESCRIPTION:Friends Meeting
URL:https://lima.owwl.org/event/friends-of-the-lima-public-library-meeting-10/
LOCATION:NY
END:VEVENT
BEGIN:VEVENT
DTSTART;TZID=America/New_York:20221110T140000
DTEND;TZID=America/New_York:20221110T150000
DTSTAMP:20260424T160813
CREATED:20221012T175219Z
LAST-MODIFIED:20221012T175219Z
UID:1535-1668088800-1668092400@lima.owwl.org
SUMMARY:Online Author Talk: Bonnie Garmus\, Lessons in Chemistry
DESCRIPTION:Clear your calendar and join us for an enthralling afternoon hour as we chat with New York Times Bestselling #author @bonnie_garmus_author about her #book Lessons in Chemistry on November 10th at 2 PM EST/11 AM PDT via digital live-stream in partnership with Lima Public Library! #bestseller #BonnieGarmus #LessonsInChemistry #LSC #AuthorTalk \n  \nRegister and view more Author Talks here: libraryc.org/lima
URL:https://lima.owwl.org/event/online-author-talk-bonnie-garmus-lessons-in-chemistry/
LOCATION:NY
END:VEVENT
BEGIN:VEVENT
DTSTART;VALUE=DATE:20221111
DTEND;VALUE=DATE:20221112
DTSTAMP:20260424T160813
CREATED:20211215T195701Z
LAST-MODIFIED:20211215T195701Z
UID:978-1668124800-1668211199@lima.owwl.org
SUMMARY:Veterans' Day Closing
DESCRIPTION:Friday 11/11/22
URL:https://lima.owwl.org/event/veterans-day-closing-2/
LOCATION:NY
END:VEVENT
BEGIN:VEVENT
DTSTART;TZID=America/New_York:20221112T093000
DTEND;TZID=America/New_York:20221112T120000
DTSTAMP:20260424T160813
CREATED:20220831T171530Z
LAST-MODIFIED:20220831T171530Z
UID:1458-1668245400-1668254400@lima.owwl.org
SUMMARY:Crossroads Crafters' Circle
DESCRIPTION:This is an informal group that gathers to set aside time to work on a craft project while enjoying the company of others. You are invited to come and craft in good company! Knit\, crochet\, quilt\, braid\, scrapbook\, etc. All crafters are welcomed. Come for a short visit or for the entire time. Grab your supplies and join us. Every open Saturday at the Lima Library.
URL:https://lima.owwl.org/event/crossroads-crafters-circle-24/
LOCATION:NY
END:VEVENT
BEGIN:VEVENT
DTSTART;TZID=America/New_York:20221115T120000
DTEND;TZID=America/New_York:20221115T130000
DTSTAMP:20260424T160813
CREATED:20221012T175353Z
LAST-MODIFIED:20221012T175603Z
UID:1538-1668513600-1668517200@lima.owwl.org
SUMMARY:Online Author Talk: Kwame Christian\, How to Have Difficult Conversations About Race
DESCRIPTION:You’re invited to join us for an enlightening hour as we chat with #bestselling #author @kwamenegotiates about his #book How to Have Difficult Conversations About Race: Practical Tools for Necessary Change in the Workplace and Beyond on November 15th at 12 PM EST/9 AM PDT via digital live-stream in partnership with Lima Public Library! #bestseller #Negotiation #Leadership #DEI #EDI \n  \nRegister and view more Author Talks here: libraryc.org/lima
URL:https://lima.owwl.org/event/online-author-talk-kwame-christina-how-to-have-difficult-conversations-about-race/
LOCATION:NY
END:VEVENT
BEGIN:VEVENT
DTSTART;TZID=America/New_York:20221116T103000
DTEND;TZID=America/New_York:20221116T120000
DTSTAMP:20260424T160813
CREATED:20220121T184530Z
LAST-MODIFIED:20220121T184541Z
UID:1114-1668594600-1668600000@lima.owwl.org
SUMMARY:Board of Trustees Meeting
DESCRIPTION:Lima Library Board Meeting
URL:https://lima.owwl.org/event/board-of-trustees-meeting-5/
LOCATION:NY
END:VEVENT
BEGIN:VEVENT
DTSTART;TZID=America/New_York:20221117T150000
DTEND;TZID=America/New_York:20221117T170000
DTSTAMP:20260424T160813
CREATED:20220816T182654Z
LAST-MODIFIED:20220816T182654Z
UID:1426-1668697200-1668704400@lima.owwl.org
SUMMARY:Livingston County Libraries: Technology Tutoring
DESCRIPTION:Need help with your computer? Email? Smartphone? Tablet?\n\nCONTACT MORGAN TO SCHEDULE YOUR ONE – ON – ONE 60 MINUTE SESSION\nlctechtutoring@gmail.com\n585-568-7602\n\nThis project is supported by funds from the New York State Library’s Adult Literacy Library Services Program
URL:https://lima.owwl.org/event/livingston-county-libraries-technology-tutoring-4/
LOCATION:NY
END:VEVENT
BEGIN:VEVENT
DTSTART;TZID=America/New_York:20221119T093000
DTEND;TZID=America/New_York:20221119T120000
DTSTAMP:20260424T160813
CREATED:20220831T171606Z
LAST-MODIFIED:20220831T171606Z
UID:1460-1668850200-1668859200@lima.owwl.org
SUMMARY:Crossroads Crafters' Circle
DESCRIPTION:This is an informal group that gathers to set aside time to work on a craft project while enjoying the company of others. You are invited to come and craft in good company! Knit\, crochet\, quilt\, braid\, scrapbook\, etc. All crafters are welcomed. Come for a short visit or for the entire time. Grab your supplies and join us. Every open Saturday at the Lima Library.
URL:https://lima.owwl.org/event/crossroads-crafters-circle-25/
LOCATION:NY
END:VEVENT
BEGIN:VEVENT
DTSTART;TZID=America/New_York:20221123T100000
DTEND;TZID=America/New_York:20221123T140000
DTSTAMP:20260424T160813
CREATED:20221115T212858Z
LAST-MODIFIED:20221115T212858Z
UID:1562-1669197600-1669212000@lima.owwl.org
SUMMARY:SNAP/HEAP Information and Enrollment Assistance
DESCRIPTION:Join us on Wednesday 11/23 from 10:00 AM-2:00 PM to learn more about SNAP/HEAP programs. If you qualify\, someone will be available to provide assistance with enrollment. No registration required.
URL:https://lima.owwl.org/event/snap-heap-information-and-enrollment-assistance/
LOCATION:NY
END:VEVENT
BEGIN:VEVENT
DTSTART;VALUE=DATE:20221124
DTEND;VALUE=DATE:20221128
DTSTAMP:20260424T160813
CREATED:20211215T195750Z
LAST-MODIFIED:20211215T195750Z
UID:980-1669248000-1669593599@lima.owwl.org
SUMMARY:Thanksgiving Closing
DESCRIPTION:Thursday 11/24/22 through Sunday 11/24/22. Re-open on Monday 11/25.
URL:https://lima.owwl.org/event/thanksgiving-closing-2/
LOCATION:NY
END:VEVENT
END:VCALENDAR