BEGIN:VCALENDAR
VERSION:2.0
PRODID:-//Lima Public Library - ECPv6.15.20//NONSGML v1.0//EN
CALSCALE:GREGORIAN
METHOD:PUBLISH
X-ORIGINAL-URL:https://lima.owwl.org
X-WR-CALDESC:Events for Lima Public Library
REFRESH-INTERVAL;VALUE=DURATION:PT1H
X-Robots-Tag:noindex
X-PUBLISHED-TTL:PT1H
BEGIN:VTIMEZONE
TZID:America/New_York
BEGIN:DAYLIGHT
TZOFFSETFROM:-0500
TZOFFSETTO:-0400
TZNAME:EDT
DTSTART:20210314T070000
END:DAYLIGHT
BEGIN:STANDARD
TZOFFSETFROM:-0400
TZOFFSETTO:-0500
TZNAME:EST
DTSTART:20211107T060000
END:STANDARD
BEGIN:DAYLIGHT
TZOFFSETFROM:-0500
TZOFFSETTO:-0400
TZNAME:EDT
DTSTART:20220313T070000
END:DAYLIGHT
BEGIN:STANDARD
TZOFFSETFROM:-0400
TZOFFSETTO:-0500
TZNAME:EST
DTSTART:20221106T060000
END:STANDARD
BEGIN:DAYLIGHT
TZOFFSETFROM:-0500
TZOFFSETTO:-0400
TZNAME:EDT
DTSTART:20230312T070000
END:DAYLIGHT
BEGIN:STANDARD
TZOFFSETFROM:-0400
TZOFFSETTO:-0500
TZNAME:EST
DTSTART:20231105T060000
END:STANDARD
END:VTIMEZONE
BEGIN:VEVENT
DTSTART;TZID=America/New_York:20221203T093000
DTEND;TZID=America/New_York:20221203T120000
DTSTAMP:20260424T142744
CREATED:20220831T171647Z
LAST-MODIFIED:20220831T171647Z
UID:1462-1670059800-1670068800@lima.owwl.org
SUMMARY:Crossroads Crafters' Circle
DESCRIPTION:This is an informal group that gathers to set aside time to work on a craft project while enjoying the company of others. You are invited to come and craft in good company! Knit\, crochet\, quilt\, braid\, scrapbook\, etc. All crafters are welcomed. Come for a short visit or for the entire time. Grab your supplies and join us. Every open Saturday at the Lima Library.
URL:https://lima.owwl.org/event/crossroads-crafters-circle-26/
LOCATION:NY
END:VEVENT
BEGIN:VEVENT
DTSTART;TZID=America/New_York:20221203T103000
DTEND;TZID=America/New_York:20221203T120000
DTSTAMP:20260424T142744
CREATED:20221028T171016Z
LAST-MODIFIED:20221117T190406Z
UID:1555-1670063400-1670068800@lima.owwl.org
SUMMARY:Event for Kids: Make a holiday card!
DESCRIPTION:  \n  \nMake a light-up holiday card. Details to come. Made possible by the Friends of the Lima Public Library
URL:https://lima.owwl.org/event/event-for-kids-make-a-holiday-card/
LOCATION:NY
END:VEVENT
BEGIN:VEVENT
DTSTART;TZID=America/New_York:20221206T190000
DTEND;TZID=America/New_York:20221206T200000
DTSTAMP:20260424T142744
CREATED:20221026T185507Z
LAST-MODIFIED:20221026T185507Z
UID:1551-1670353200-1670356800@lima.owwl.org
SUMMARY:Online Author Talk: Geraldine Brooks\, Author of Horse
DESCRIPTION:
URL:https://lima.owwl.org/event/online-author-talk-geraldine-brooks-author-of-horse/
LOCATION:NY
END:VEVENT
BEGIN:VEVENT
DTSTART;TZID=America/New_York:20221209T190000
DTEND;TZID=America/New_York:20221209T210000
DTSTAMP:20260424T142744
CREATED:20221021T180324Z
LAST-MODIFIED:20221117T190659Z
UID:1546-1670612400-1670619600@lima.owwl.org
SUMMARY:Christmas Concert by BCW Trio
DESCRIPTION:  \nJoin us for a fun Christmas/holiday concert with the BCW Trio on Friday 12/9 from 7-9 PM. Made possible by the Friends of the Lima Public Library.
URL:https://lima.owwl.org/event/christmas-concert-by-bcw-trio/
LOCATION:NY
END:VEVENT
BEGIN:VEVENT
DTSTART;TZID=America/New_York:20221210T093000
DTEND;TZID=America/New_York:20221210T120000
DTSTAMP:20260424T142744
CREATED:20220831T171727Z
LAST-MODIFIED:20220831T171727Z
UID:1464-1670664600-1670673600@lima.owwl.org
SUMMARY:Crossroads Crafters' Circle
DESCRIPTION:This is an informal group that gathers to set aside time to work on a craft project while enjoying the company of others. You are invited to come and craft in good company! Knit\, crochet\, quilt\, braid\, scrapbook\, etc. All crafters are welcomed. Come for a short visit or for the entire time. Grab your supplies and join us. Every open Saturday at the Lima Library
URL:https://lima.owwl.org/event/crossroads-crafters-circle-27/
LOCATION:NY
END:VEVENT
BEGIN:VEVENT
DTSTART;TZID=America/New_York:20221210T140000
DTEND;TZID=America/New_York:20221210T150000
DTSTAMP:20260424T142744
CREATED:20221128T191158Z
LAST-MODIFIED:20221128T191158Z
UID:1697-1670680800-1670684400@lima.owwl.org
SUMMARY:Online Author Talk\, Fredrik Backman - The Winners
DESCRIPTION:Join us for an online chat with bestselling author Fredrik Backman as we discuss his outstanding body of work\, including his breathtaking new novel\, The Winners\, the third installment of the Beartown series.\n\nIn the beautifully written Beartown—which inspired the HBO series of the same name—a small town obsessed with the local junior hockey team is rocked by a shocking act of violence. As accusations and rumors fly\, the town must grapple with its identity as never before.\nThe series continues and tensions rise when it’s rumored that the Beartown hockey team will be disbanded in Us Against You. The entire future of the team and the town hinges on an upcoming game that could change everything forever.\n\nFinally\, the series comes to an evocative conclusion with The Winners. The Winners return to the close-knit\, resilient community of Beartown for a story about first loves\, second chances\, and last goodbyes. In the two years since the events of Beartown\, the residents must face difficult questions and determine just what they are willing to sacrifice for their home.\n\nRegister for this author talk and check out other online author talks here: https://libraryc.org/lima/22391
URL:https://lima.owwl.org/event/online-author-talk-fredrik-backman-the-winners/
LOCATION:NY
END:VEVENT
BEGIN:VEVENT
DTSTART;TZID=America/New_York:20221213T183000
DTEND;TZID=America/New_York:20221213T200000
DTSTAMP:20260424T142744
CREATED:20220121T185829Z
LAST-MODIFIED:20220121T185829Z
UID:1144-1670956200-1670961600@lima.owwl.org
SUMMARY:Friends of the Lima Public Library Meeting
DESCRIPTION:Friends Meeting
URL:https://lima.owwl.org/event/friends-of-the-lima-public-library-meeting-11/
LOCATION:NY
END:VEVENT
BEGIN:VEVENT
DTSTART;TZID=America/New_York:20221214T103000
DTEND;TZID=America/New_York:20221214T113000
DTSTAMP:20260424T142744
CREATED:20221021T180218Z
LAST-MODIFIED:20221021T180218Z
UID:1544-1671013800-1671017400@lima.owwl.org
SUMMARY:Santa visit!
DESCRIPTION:Santa will be stopping by our library on Wednesday 12/14. Stop in and see the man in the red suit at 10:30 AM.
URL:https://lima.owwl.org/event/santa-visit/
LOCATION:NY
END:VEVENT
BEGIN:VEVENT
DTSTART;TZID=America/New_York:20221214T120000
DTEND;TZID=America/New_York:20221214T130000
DTSTAMP:20260424T142744
CREATED:20221026T185550Z
LAST-MODIFIED:20221026T185550Z
UID:1553-1671019200-1671022800@lima.owwl.org
SUMMARY:Online Author Talk: Dr. Nicole Eustace\, Author of Covered with Night
DESCRIPTION:
URL:https://lima.owwl.org/event/online-author-talk-dr-nicole-eustace-author-of-covered-with-night/
LOCATION:NY
END:VEVENT
BEGIN:VEVENT
DTSTART;TZID=America/New_York:20221215T150000
DTEND;TZID=America/New_York:20221215T170000
DTSTAMP:20260424T142744
CREATED:20220816T183022Z
LAST-MODIFIED:20220816T183022Z
UID:1428-1671116400-1671123600@lima.owwl.org
SUMMARY:Livingston County Libraries: Technology Tutoring
DESCRIPTION:Need help with your computer? Email? Smartphone? Tablet?\n\nCONTACT MORGAN TO SCHEDULE YOUR ONE – ON – ONE 60 MINUTE SESSION\nlctechtutoring@gmail.com\n585-568-7602\n\nThis project is supported by funds from the New York State Library’s Adult Literacy Library Services Program
URL:https://lima.owwl.org/event/livingston-county-libraries-technology-tutoring-5/
LOCATION:NY
END:VEVENT
BEGIN:VEVENT
DTSTART;TZID=America/New_York:20221217T093000
DTEND;TZID=America/New_York:20221217T120000
DTSTAMP:20260424T142744
CREATED:20220831T171801Z
LAST-MODIFIED:20220831T171801Z
UID:1466-1671269400-1671278400@lima.owwl.org
SUMMARY:Crossroads Crafters' Circle
DESCRIPTION:This is an informal group that gathers to set aside time to work on a craft project while enjoying the company of others. You are invited to come and craft in good company! Knit\, crochet\, quilt\, braid\, scrapbook\, etc. All crafters are welcomed. Come for a short visit or for the entire time. Grab your supplies and join us. Every open Saturday at the Lima Library
URL:https://lima.owwl.org/event/crossroads-crafters-circle-28/
LOCATION:NY
END:VEVENT
BEGIN:VEVENT
DTSTART;TZID=America/New_York:20221221T103000
DTEND;TZID=America/New_York:20221221T120000
DTSTAMP:20260424T142744
CREATED:20220121T184617Z
LAST-MODIFIED:20220121T184624Z
UID:1117-1671618600-1671624000@lima.owwl.org
SUMMARY:Board of Trustees Meeting
DESCRIPTION:End of year meeting
URL:https://lima.owwl.org/event/board-of-trustees-meeting-6/
LOCATION:NY
END:VEVENT
BEGIN:VEVENT
DTSTART;VALUE=DATE:20221224
DTEND;VALUE=DATE:20221227
DTSTAMP:20260424T142744
CREATED:20211215T195851Z
LAST-MODIFIED:20211215T195851Z
UID:982-1671840000-1672099199@lima.owwl.org
SUMMARY:Holiday Closing
DESCRIPTION:Closing for Christmas Saturday 12/24 through Monday 12/26. Re-open on Tuesday 12/27.
URL:https://lima.owwl.org/event/holiday-closing-3/
LOCATION:NY
END:VEVENT
BEGIN:VEVENT
DTSTART;VALUE=DATE:20221231
DTEND;VALUE=DATE:20230101
DTSTAMP:20260424T142744
CREATED:20211215T195917Z
LAST-MODIFIED:20211215T195917Z
UID:984-1672444800-1672531199@lima.owwl.org
SUMMARY:New Year's Eve Closing
DESCRIPTION:Saturday 12/31/22
URL:https://lima.owwl.org/event/new-years-eve-closing/
LOCATION:NY
END:VEVENT
END:VCALENDAR