BEGIN:VCALENDAR
VERSION:2.0
PRODID:-//Lima Public Library - ECPv6.15.20//NONSGML v1.0//EN
CALSCALE:GREGORIAN
METHOD:PUBLISH
X-ORIGINAL-URL:https://lima.owwl.org
X-WR-CALDESC:Events for Lima Public Library
REFRESH-INTERVAL;VALUE=DURATION:PT1H
X-Robots-Tag:noindex
X-PUBLISHED-TTL:PT1H
BEGIN:VTIMEZONE
TZID:America/New_York
BEGIN:DAYLIGHT
TZOFFSETFROM:-0500
TZOFFSETTO:-0400
TZNAME:EDT
DTSTART:20220313T070000
END:DAYLIGHT
BEGIN:STANDARD
TZOFFSETFROM:-0400
TZOFFSETTO:-0500
TZNAME:EST
DTSTART:20221106T060000
END:STANDARD
BEGIN:DAYLIGHT
TZOFFSETFROM:-0500
TZOFFSETTO:-0400
TZNAME:EDT
DTSTART:20230312T070000
END:DAYLIGHT
BEGIN:STANDARD
TZOFFSETFROM:-0400
TZOFFSETTO:-0500
TZNAME:EST
DTSTART:20231105T060000
END:STANDARD
BEGIN:DAYLIGHT
TZOFFSETFROM:-0500
TZOFFSETTO:-0400
TZNAME:EDT
DTSTART:20240310T070000
END:DAYLIGHT
BEGIN:STANDARD
TZOFFSETFROM:-0400
TZOFFSETTO:-0500
TZNAME:EST
DTSTART:20241103T060000
END:STANDARD
END:VTIMEZONE
BEGIN:VEVENT
DTSTART;TZID=America/New_York:20230607T160000
DTEND;TZID=America/New_York:20230607T170000
DTSTAMP:20260424T055443
CREATED:20230531T175444Z
LAST-MODIFIED:20230531T175449Z
UID:2139-1686153600-1686157200@lima.owwl.org
SUMMARY:Online Author Talk: The Fun Habit with Mike Rucker\, Ph.D.
DESCRIPTION:Register here: https://libraryc.org/lima/26892 \nDoesn’t it seem that the more we seek happiness\, the more elusive it becomes? There is an easy fix\, hiding in plain sight. Fun is an action you can take here and now\, practically anywhere\, anytime. Through research and science\, we know fun is enormously beneficial to our physical and psychological well-being\, yet fun’s absence from our modern lives is striking. Whether you’re a frustrated high-achiever trying to find a better work-life balance or seeking relief from life’s overwhelming challenges\, it is time you gain access to the best medicine available. The Fun Habit: How the Disciplined Pursuit of Joy and Wonder Can Change Your Life is the ultimate guide to reap the serious benefits fun offers. Grounded in current research\, accessible science\, and practical recommendations\, Dr. Rucker will use The Fun Habit strategies to teach you: \n\nHow you can build having fun into an actionable and effortless habit; and\nWhy doing so will help you become a healthier\, more joyful\, more productive person.\n\nThe Fun Habit is an inspiring and motivational guidebook that you will want to share with everyone in your life. \nAbout the Author: Dr. Mike Rucker is an organizational psychologist and charter member of the International Positive Psychology Association whose work has been published in the International Journal of Workplace Health Management and Nutrition Research. His ideas about fun and health have been featured in The Wall Street Journal\, Forbes\, Vox\, Thrive Global\, mindbodygreen\, and more. Named one of ten digital change makers by the Healthcare Information and Management Systems Society\, he currently serves as a senior leader at Active Wellness. Learn more at MichaelRucker.com.
URL:https://lima.owwl.org/event/online-author-talk-the-fun-habit-with-mike-rucker-ph-d/
LOCATION:NY
END:VEVENT
BEGIN:VEVENT
DTSTART;TZID=America/New_York:20230612T183000
DTEND;TZID=America/New_York:20230612T203000
DTSTAMP:20260424T055443
CREATED:20230503T145231Z
LAST-MODIFIED:20230503T145231Z
UID:2100-1686594600-1686601800@lima.owwl.org
SUMMARY:Game Night
DESCRIPTION:
URL:https://lima.owwl.org/event/game-night/
LOCATION:NY
END:VEVENT
BEGIN:VEVENT
DTSTART;TZID=America/New_York:20230614T183000
DTEND;TZID=America/New_York:20230614T200000
DTSTAMP:20260424T055443
CREATED:20230316T184505Z
LAST-MODIFIED:20230316T184505Z
UID:1970-1686767400-1686772800@lima.owwl.org
SUMMARY:Special Meeting - Board of Trustees - Budget
DESCRIPTION:The Lima Public Library Board of Trustees will be holding a special meeting on Wednesday 6/14 at 6:30 PM for the purposes of discussing the 2024 budget.
URL:https://lima.owwl.org/event/special-meeting-board-of-trustees-budget/
LOCATION:NY
END:VEVENT
BEGIN:VEVENT
DTSTART;TZID=America/New_York:20230615T140000
DTEND;TZID=America/New_York:20230615T150000
DTSTAMP:20260424T055443
CREATED:20230531T175619Z
LAST-MODIFIED:20230531T175938Z
UID:2142-1686837600-1686841200@lima.owwl.org
SUMMARY:Online Author Talk: An American In Provence: Author Talk with Award-Winning Photographer Jamie Beck
DESCRIPTION:Register here: https://libraryc.org/lima/27158 \n  \nAn American in Provence is a beautiful collection of exquisite portrait\, scenic\, and still-life photography from New York Times bestselling author and award-winning photographer Jamie Beck. Looking to slow down from her fast-paced life in New York City\, Beck embarked on a one-year getaway to Provence. One year\, turning into five\, Beck moved to the French countryside\, documenting her life as “An American in Provence.” \nEqual parts art book\, travel diary\, memoir\, and cookbook\, An American in Provence transports you to the South of France. Beck shares her tips and techniques for creating incredible photos and details her transformational journey as an artist and woman. Beck also includes farm-to-table recipes she’s learned along the way\, including Braised Beef Stew\, Spring Chicken with Herbs de Provence\, Fresh Tagliatelle Pasta with Spring Asparagus\, and Lemon Meringue Tart. This stunning visual journey will surely delight anyone wishing to escape reality and immerse themselves in life in Provence. \nAbout the Author: Jamie Beck took her first photograph at the age of thirteen and soon after began earning her living as a professional photographer. By twenty-eight\, she opened her own commercial photographic studio in lower Manhattan. Jamie has shot campaigns and editorials for some of the world’s most famous brands\, including Chanel\, Donna Karan\, Nike\, Oscar de la Renta\, Google\, Samsung\, and Microsoft. Her work has appeared under the mastheads of Vogue and Harper’s Bazaar\, on Netflix\, and in digital ad displays for Disney. In 2016\, she took what was to be a one-year sabbatical to create a personal body of work in the South of France\, which changed the entire course of her life\, one that blossomed into a career as an art photographer and delivered her a French-born baby girl named Eloise. Jamie is the author of the New York Times bestselling An American in Provence. She lives in Provence with her husband and daughter. Follow her on Instagram @JamieBeck.co.
URL:https://lima.owwl.org/event/online-author-talk-an-american-in-provence-author-talk-with-award-winning-photographer-jamie-beck/
LOCATION:NY
END:VEVENT
BEGIN:VEVENT
DTSTART;VALUE=DATE:20230619
DTEND;VALUE=DATE:20230620
DTSTAMP:20260424T055443
CREATED:20221122T184751Z
LAST-MODIFIED:20221122T184751Z
UID:1611-1687132800-1687219199@lima.owwl.org
SUMMARY:Juneteenth Closing
DESCRIPTION:We will be closed on Monday 6/19 for Juneteenth.
URL:https://lima.owwl.org/event/juneteenth-closing-2/
LOCATION:NY
END:VEVENT
BEGIN:VEVENT
DTSTART;TZID=America/New_York:20230620T183000
DTEND;TZID=America/New_York:20230620T200000
DTSTAMP:20260424T055443
CREATED:20221122T190311Z
LAST-MODIFIED:20221208T182129Z
UID:1647-1687285800-1687291200@lima.owwl.org
SUMMARY:Friends Meeting
DESCRIPTION:Friends of the Lima Public Library Meeting
URL:https://lima.owwl.org/event/friends-meeting-6/
LOCATION:NY
END:VEVENT
BEGIN:VEVENT
DTSTART;TZID=America/New_York:20230626T183000
DTEND;TZID=America/New_York:20230626T203000
DTSTAMP:20260424T055443
CREATED:20230503T145306Z
LAST-MODIFIED:20230503T145321Z
UID:2103-1687804200-1687811400@lima.owwl.org
SUMMARY:Game Night
DESCRIPTION:
URL:https://lima.owwl.org/event/game-night-2/
LOCATION:NY
END:VEVENT
BEGIN:VEVENT
DTSTART;VALUE=DATE:20230628
DTEND;VALUE=DATE:20230729
DTSTAMP:20260424T055443
CREATED:20230602T114137Z
LAST-MODIFIED:20230602T114137Z
UID:2241-1687910400-1690588799@lima.owwl.org
SUMMARY:Summer Reading 2023: All Together Now!
DESCRIPTION:We are coming up to our very favorite time of year which is Summer Reading! Our theme this year is All Together Now. This year’s program focuses on DIVERSITY: how people from all over the world can be both different from us and the same as us at the same time! The beautiful thing about our community is that we come from all walks of life. Libraries are truly for everyone and we are excited to embrace this year’s theme. We will have 8 different activities set up around the library and participants can do them at their own pace over a month’s time. You can also complete some of the activities at home\, if you wish. A game board will be provided at registration. A reading log is included to keep track of the number of minutes you read this summer. Registrants that complete the activities will receive a prize at the end of the program.
URL:https://lima.owwl.org/event/summer-reading-2023-all-together-now/
LOCATION:NY
END:VEVENT
BEGIN:VEVENT
DTSTART;TZID=America/New_York:20230628T103000
DTEND;TZID=America/New_York:20230628T120000
DTSTAMP:20260424T055443
CREATED:20230602T114722Z
LAST-MODIFIED:20230602T125041Z
UID:2244-1687948200-1687953600@lima.owwl.org
SUMMARY:Summer Reading Film Festival: Premiere!
DESCRIPTION:Summer Reading 2023: All Together Now! \n  \n \nOur premiere film in the Summer Reading 2023 Film Festival takes us to Africa! Come and watch The Lion King right here for our Summer Reading Kick-Off. \nThe Lion King (1994) \nRated G \n©Walt Disney
URL:https://lima.owwl.org/event/summer-reading-film-festival-premiere/
LOCATION:NY
END:VEVENT
BEGIN:VEVENT
DTSTART;TZID=America/New_York:20230628T200000
DTEND;TZID=America/New_York:20230628T210000
DTSTAMP:20260424T055443
CREATED:20230531T175803Z
LAST-MODIFIED:20230531T175803Z
UID:2147-1687982400-1687986000@lima.owwl.org
SUMMARY:Online Author Talk: with Tananarive Due: Black Panther: Tales of Wakanda Contributing Author
DESCRIPTION:Register here: https://libraryc.org/lima/27424 \nPlease join us for a chat with Tananarive Due about her newest work\, The Wishing Pool and Other Stories. The second collection of stories by the author is full of her signature offerings of horror\, science fiction\, and suspense while confronting monsters of all kinds\, including racism\, the monster within\, and the supernatural. Due’s prolific body of work cements the author as a leading voice in black speculative fiction for more than 20 years. Due is an award-winning writer\, educator\, and producer. Her body of work includes sixteen books\, including the Blood Colony\, The Living Blood\, The Good House\, Joplin’s Ghost\, Devil’s Wake\, and the forthcoming The Reformatory. In addition\, she is a contributing author of Black Panther: Tales of Wakanda and Black Panther: Sins of the King. Collaborating with her partner Steven Barnes\, she also co-wrote “A Small Town” for Season 2 of Jordan Peele’s “The Twilight Zone” on Paramount Plus and two segments of Shudder’s anthology film Horror Noire. \nAbout the Author: Tananarive Due is an American Book Award–winning\, Essence bestselling author of sixteen books. She was also a contributor to Jonathan Maberry’s middle grade anthology\, Don’t Turn Out the Lights. She has won an American Book Award\, an NAACP Image Award\, and a British Fantasy Award. She teaches Black Horror and Afrofuturism at UCLA. She lives in Atlanta\, Georgia. Visit her website TananariveDue.com.
URL:https://lima.owwl.org/event/online-author-talk-with-tananarive-due-black-panther-tales-of-wakanda-contributing-author/
LOCATION:NY
END:VEVENT
BEGIN:VEVENT
DTSTART;TZID=America/New_York:20230630T103000
DTEND;TZID=America/New_York:20230630T111500
DTSTAMP:20260424T055443
CREATED:20230602T120837Z
LAST-MODIFIED:20230602T120845Z
UID:2247-1688121000-1688123700@lima.owwl.org
SUMMARY:Summer Reading Event: Grace & Grins Puppet Show: All Together Now
DESCRIPTION:This show is about visible and invisible disabilities. Grace and her friends believe if we all are willing to work “All Together Now” our world can be a kinder and more caring place for humanity! For ages 4-10
URL:https://lima.owwl.org/event/summer-reading-event-grace-grins-all-together-now/
LOCATION:NY
END:VEVENT
END:VCALENDAR