BEGIN:VCALENDAR
VERSION:2.0
PRODID:-//Lima Public Library - ECPv6.15.20//NONSGML v1.0//EN
CALSCALE:GREGORIAN
METHOD:PUBLISH
X-WR-CALNAME:Lima Public Library
X-ORIGINAL-URL:https://lima.owwl.org
X-WR-CALDESC:Events for Lima Public Library
REFRESH-INTERVAL;VALUE=DURATION:PT1H
X-Robots-Tag:noindex
X-PUBLISHED-TTL:PT1H
BEGIN:VTIMEZONE
TZID:America/New_York
BEGIN:DAYLIGHT
TZOFFSETFROM:-0500
TZOFFSETTO:-0400
TZNAME:EDT
DTSTART:20220313T070000
END:DAYLIGHT
BEGIN:STANDARD
TZOFFSETFROM:-0400
TZOFFSETTO:-0500
TZNAME:EST
DTSTART:20221106T060000
END:STANDARD
BEGIN:DAYLIGHT
TZOFFSETFROM:-0500
TZOFFSETTO:-0400
TZNAME:EDT
DTSTART:20230312T070000
END:DAYLIGHT
BEGIN:STANDARD
TZOFFSETFROM:-0400
TZOFFSETTO:-0500
TZNAME:EST
DTSTART:20231105T060000
END:STANDARD
BEGIN:DAYLIGHT
TZOFFSETFROM:-0500
TZOFFSETTO:-0400
TZNAME:EDT
DTSTART:20240310T070000
END:DAYLIGHT
BEGIN:STANDARD
TZOFFSETFROM:-0400
TZOFFSETTO:-0500
TZNAME:EST
DTSTART:20241103T060000
END:STANDARD
END:VTIMEZONE
BEGIN:VEVENT
DTSTART;VALUE=DATE:20230628
DTEND;VALUE=DATE:20230729
DTSTAMP:20260424T042731
CREATED:20230602T114137Z
LAST-MODIFIED:20230602T114137Z
UID:2241-1687910400-1690588799@lima.owwl.org
SUMMARY:Summer Reading 2023: All Together Now!
DESCRIPTION:We are coming up to our very favorite time of year which is Summer Reading! Our theme this year is All Together Now. This year’s program focuses on DIVERSITY: how people from all over the world can be both different from us and the same as us at the same time! The beautiful thing about our community is that we come from all walks of life. Libraries are truly for everyone and we are excited to embrace this year’s theme. We will have 8 different activities set up around the library and participants can do them at their own pace over a month’s time. You can also complete some of the activities at home\, if you wish. A game board will be provided at registration. A reading log is included to keep track of the number of minutes you read this summer. Registrants that complete the activities will receive a prize at the end of the program.
URL:https://lima.owwl.org/event/summer-reading-2023-all-together-now/
LOCATION:NY
END:VEVENT
BEGIN:VEVENT
DTSTART;VALUE=DATE:20230704
DTEND;VALUE=DATE:20230705
DTSTAMP:20260424T042731
CREATED:20221122T184825Z
LAST-MODIFIED:20221122T184825Z
UID:1613-1688428800-1688515199@lima.owwl.org
SUMMARY:Independence Day Closing
DESCRIPTION:We will be closed for Tuesday 7/4 for Independence Day.
URL:https://lima.owwl.org/event/independence-day-closing-3/
LOCATION:NY
END:VEVENT
BEGIN:VEVENT
DTSTART;TZID=America/New_York:20230705T103000
DTEND;TZID=America/New_York:20230705T120000
DTSTAMP:20260424T042731
CREATED:20230612T175035Z
LAST-MODIFIED:20230612T175035Z
UID:2265-1688553000-1688558400@lima.owwl.org
SUMMARY:Summer Reading 2023: Lima Public Library Film Festival
DESCRIPTION:Wednesday 7/5 10:30 AM \nLet’s visit Colombia! \nEncanto (2021) \nRated PG \n©Walt Disney
URL:https://lima.owwl.org/event/summer-reading-2023-lima-public-library-film-festival/
LOCATION:NY
END:VEVENT
BEGIN:VEVENT
DTSTART;TZID=America/New_York:20230710T103000
DTEND;TZID=America/New_York:20230710T113000
DTSTAMP:20260424T042731
CREATED:20230614T143059Z
LAST-MODIFIED:20230616T182544Z
UID:2278-1688985000-1688988600@lima.owwl.org
SUMMARY:Summer Reading 2023: Cris Riedel\, Story Teller
DESCRIPTION:Storyteller Cris Riedel performs…\n\nAll Together Now!\n\nStories of kindness and friendship from around the world.\nThis project is made possible with funds from the Statewide Community Regrants Program\, a regrant program from the NYS Council on the Arts with support of the Office of the Governor and the NYS Legislature and administered by the Genesee Valley Council on the Arts
URL:https://lima.owwl.org/event/summer-reading-2023-cris-riedel-story-teller/
LOCATION:NY
END:VEVENT
BEGIN:VEVENT
DTSTART;TZID=America/New_York:20230710T183000
DTEND;TZID=America/New_York:20230710T203000
DTSTAMP:20260424T042731
CREATED:20230531T190633Z
LAST-MODIFIED:20230531T190633Z
UID:2150-1689013800-1689021000@lima.owwl.org
SUMMARY:Game Night
DESCRIPTION:Friends of the Lima Public Library are hosting another fun game night!
URL:https://lima.owwl.org/event/game-night-3/
LOCATION:NY
END:VEVENT
BEGIN:VEVENT
DTSTART;TZID=America/New_York:20230712T103000
DTEND;TZID=America/New_York:20230712T123000
DTSTAMP:20260424T042731
CREATED:20230612T175159Z
LAST-MODIFIED:20230612T175159Z
UID:2267-1689157800-1689165000@lima.owwl.org
SUMMARY:Summer Reading 2023: Lima Public Library Film Festival
DESCRIPTION:Wednesday 7/12 10:30 AM \nLet’s visit ancient Polynesia! \nMoana (2016) \nRated PG \n©Walt Disney
URL:https://lima.owwl.org/event/summer-reading-2023-lima-public-library-film-festival-2/
LOCATION:NY
END:VEVENT
BEGIN:VEVENT
DTSTART;TZID=America/New_York:20230715T140000
DTEND;TZID=America/New_York:20230715T150000
DTSTAMP:20260424T042731
CREATED:20230711T170829Z
LAST-MODIFIED:20230711T170856Z
UID:2433-1689429600-1689433200@lima.owwl.org
SUMMARY:Author Talk with Charles Soule: New York Times Bestselling Author of Daredevil & She-Hulk
DESCRIPTION:You’re invited to an awe-inspiring chat with New York Times bestselling author Charles Soule as he talks about his newest book\, The Endless Vessel\, which explores the way we’re all connected—and what can happen when we lose our capacity for joy. \nThe Endless Vessel transports us to a few years from now\, in a world similar to ours\, where there exists a sort of “depression plague” that people refer to simply as “The Grey.” No one can predict whom it will afflict or how\, but once infected\, there’s no coming back.  A young Hong Kong-based scientist\, Lily Barnes\, is trying to maintain her inner light in an increasingly dark world. The human race is dwindling\, and people fighting to push forward are increasingly rare. One day\, Lily comes across something that seems to be addressing her directly\, calling to her\, asking her to follow a path to whatever lies at its end. Is this the Endless Vessel that leads to happiness? She leaves her life behind and sets out through time and space to find out. \nCharles Soule artfully channels history\, science\, and drama to create a story for the ages—a story of hope and love\, and possibility. \nAbout the Author: Charles Soule is a New York-based\, #1 New York Times-best-selling novelist\, comic book writer\, musician\, and former attorney. While he has worked for DC and other publishers\, he is best known for writing Daredevil\, She-Hulk\, Death of Wolverine\, and various Star Wars comics from Marvel Comics and his creator-owned series Eight Billion Genies and Curse Words (with Ryan Browne)\, Undiscovered Country (with Scott Snyder & Giuseppe Camuncoli)\, Letter 44 (with Alberto Jimenez Alburquerque) and the Shrouded College series (with Will Sliney)\, which began with Book I: Hell to Pay in November 2022. \nHis first novel\, The Oracle Year\, was released in April 2018 by the Harper Perennial imprint of HarperCollins. His second novel\, Anyone\, was released in November 2019. His third original novel is The Endless Vessel. \nRegister here: https://libraryc.org/lima/28374
URL:https://lima.owwl.org/event/author-talk-with-charles-soule-new-york-times-bestselling-author-of-daredevil-she-hulk/
LOCATION:NY
END:VEVENT
BEGIN:VEVENT
DTSTART;TZID=America/New_York:20230718T183000
DTEND;TZID=America/New_York:20230718T200000
DTSTAMP:20260424T042731
CREATED:20221122T190341Z
LAST-MODIFIED:20221208T182151Z
UID:1649-1689705000-1689710400@lima.owwl.org
SUMMARY:Friends Meeting
DESCRIPTION:Friends of the Lima Public Library Meeting
URL:https://lima.owwl.org/event/friends-meeting-7/
LOCATION:NY
END:VEVENT
BEGIN:VEVENT
DTSTART;TZID=America/New_York:20230719T103000
DTEND;TZID=America/New_York:20230719T123000
DTSTAMP:20260424T042731
CREATED:20230612T175324Z
LAST-MODIFIED:20230612T175324Z
UID:2269-1689762600-1689769800@lima.owwl.org
SUMMARY:Summer Reading 2023: Lima Public Library Film Festival
DESCRIPTION:Wednesday 7/19 10:30 AM \nLet’s visit Mexico! \nCoco (2017) \nRated PG \n©Walt Disney
URL:https://lima.owwl.org/event/summer-reading-2023-lima-public-library-film-festival-3/
LOCATION:NY
END:VEVENT
BEGIN:VEVENT
DTSTART;TZID=America/New_York:20230719T183000
DTEND;TZID=America/New_York:20230719T200000
DTSTAMP:20260424T042731
CREATED:20221122T185539Z
LAST-MODIFIED:20230316T184127Z
UID:1631-1689791400-1689796800@lima.owwl.org
SUMMARY:Board of Trustees Meeting
DESCRIPTION:Lima Public Library Board of Trustees Meeting
URL:https://lima.owwl.org/event/board-of-trustees-meeting-10/
LOCATION:NY
END:VEVENT
BEGIN:VEVENT
DTSTART;TZID=America/New_York:20230720T130000
DTEND;TZID=America/New_York:20230720T140000
DTSTAMP:20260424T042731
CREATED:20230711T170954Z
LAST-MODIFIED:20230711T170954Z
UID:2438-1689858000-1689861600@lima.owwl.org
SUMMARY:The Voice in Our Head: Author Talk with Award-Winning Psychologist Ethan Kross
DESCRIPTION:The most important conversation we have each day isn’t with our boss\, spouse\, or friends: it’s the one we have with ourselves. When facing a challenging task\, our inner voice can motivate us and help us keep our focus. But often\, we come up against the nagging voice that tells us we can’t do it or that people will laugh at us if we try. The million-dollar question is how can we transform our self-saboteur\, determined to undermine our success\, into an internal life coach that will buoy us up and help us expand our potential? \nEnter Ethan Kross. A world-class psychological scientist\, Kross has written one of modern history’s most definitive guides to mastering self-talk. In Chatter\, he uses a blend of cutting-edge science (from his own lab) and real-world case studies to help us harness the power of our inner voice. The tools are all around us—from the objects we surround ourselves with to our relationships with others\, the physical spaces we inhabit\, and the digital worlds we interact in. This talk is a lively exploration of how we can use those tools to make our inner voice work in our favor\, and it answers some valuable questions along the way. For instance\, why do we seem immune to toxic chatter when we attempt to advise other people? What factors determine whether we receive—and provide—helpful or harmful social support? And how can we approach our decision-making differently\, learning to control our emotions and reason wisely instead of acting on impulse? An expert storyteller\, Kross brings his research to life in a way that is fascinating\, accessible\, and immediately applicable to our daily lives. \nAbout the Author:  \nEthan Kross is one of the world’s leading experts on controlling the conscious mind. An award-winning professor and bestselling author in the University of Michigan’s top-ranked Psychology Department and its Ross School of Business\, he studies how the conversations people have with themselves impact their health\, performance\, decisions\, and relationships and is the founder of Emotion & Self-Control Laboratory. Ethan’s research has been published in Science\, The New England Journal of Medicine\, and The Proceedings of the National Academy of Sciences\, among other peer-reviewed journals. He has participated in policy discussions at the White House and has been interviewed on CBS Evening News\, Good Morning America\, Anderson Cooper Full Circle\, and NPR’s Morning Edition. His pioneering research has been featured in The New York Times\, The Wall Street Journal\, The New Yorker\, Harvard Business Review\, USA Today\, The Economist\, The Atlantic\, Forbes\, and Time. \nEthan is the author of the National Bestseller Chatter: The Voice in Our Head\, Why it Matters and How to Harness It\, which was chosen as one of the best new books of the year by the Washington Post\, CNN\, and USA Today and the Winning Winter 2021 selection for Malcolm Gladwell\, Adam Grant\, Susan Cain\, and Dan Pink’s Next Big Idea Book Club. Chatter is scheduled to be translated into over 40 languages. \n  \n**The archived recording of this event will be removed on October 20\, 2023.**  \nRegister: https://libraryc.org/lima/28659
URL:https://lima.owwl.org/event/the-voice-in-our-head-author-talk-with-award-winning-psychologist-ethan-kross/
LOCATION:NY
END:VEVENT
BEGIN:VEVENT
DTSTART;TZID=America/New_York:20230724T183000
DTEND;TZID=America/New_York:20230724T203000
DTSTAMP:20260424T042731
CREATED:20230531T190720Z
LAST-MODIFIED:20230531T190720Z
UID:2152-1690223400-1690230600@lima.owwl.org
SUMMARY:Game Night
DESCRIPTION:Friends of the Lima Public Library are hosting another fun game night!
URL:https://lima.owwl.org/event/game-night-4/
LOCATION:NY
END:VEVENT
BEGIN:VEVENT
DTSTART;TZID=America/New_York:20230725T160000
DTEND;TZID=America/New_York:20230725T170000
DTSTAMP:20260424T042731
CREATED:20230711T171055Z
LAST-MODIFIED:20230711T171055Z
UID:2440-1690300800-1690304400@lima.owwl.org
SUMMARY:Crying in the Bathroom: A Memoir: An Author Talk with Erika Sánchez
DESCRIPTION:Join us as we chat with award-winning writer Erika Sánchez about her utterly original\, moving\, and disarmingly funny memoir-in-essays Crying in the Bathroom.  \nGrowing up as the daughter of Mexican immigrants in Chicago in the nineties\, Erika Sánchez was a self-described pariah\, misfit\, and disappointment—a foul-mouthed\, melancholic rabble-rouser who painted her nails black but also loved comedy\, often laughing so hard with her friends that she had to leave her school classroom. Twenty-five years later\, she’s now an award-winning novelist\, poet\, and essayist\, but she’s still got an irrepressible laugh\, an acerbic wit\, and singular powers of perception about the world around her. \nIn these essays\, Sánchez writes about everything from sex to white feminism to debilitating depression\, revealing an interior life rich with ideas\, self-awareness\, and perception. Raunchy\, insightful\, unapologetic\, and brutally honest\, Crying in the Bathroom is Sánchez’s best—a book that will make you feel that post-confessional high that comes from talking for hours with your best friend. \nAbout the Author:  \nErika L. Sánchez is the daughter of Mexican immigrants. Her debut poetry collection\, Lessons on Expulsion\, was published by Graywolf in July 2017 and was a finalist for the PEN America Open Book Award. Her debut young adult novel\, I Am Not Your Perfect Mexican Daughter\, published in October 2017 by Knopf Books for Young Readers\, was a New York Times bestseller and a National Book Awards finalist. It is now being made into a film directed by America Ferrera. Most recently\, Sánchez published a critically acclaimed memoir-in-essays titled Crying in the Bathroom with Viking Books. Sánchez was a Fulbright Scholar\, a 2015 Ruth Lilly and Dorothy Sargent fellow from the Poetry Foundation\, a 2017-2019 Princeton Arts Fellow\, a 2018 recipient of the 21st Century Award from the Chicago Public Library Foundation\, and a 2019 recipient of the National Endowment for the Arts Fellowship. She is the Sor Juana Inés de la Cruz chair at DePaul University in Chicago. \nRegister: https://libraryc.org/lima/28944
URL:https://lima.owwl.org/event/crying-in-the-bathroom-a-memoir-an-author-talk-with-erika-sanchez/
LOCATION:NY
END:VEVENT
END:VCALENDAR