BEGIN:VCALENDAR
VERSION:2.0
PRODID:-//Lima Public Library - ECPv6.15.20//NONSGML v1.0//EN
CALSCALE:GREGORIAN
METHOD:PUBLISH
X-WR-CALNAME:Lima Public Library
X-ORIGINAL-URL:https://lima.owwl.org
X-WR-CALDESC:Events for Lima Public Library
REFRESH-INTERVAL;VALUE=DURATION:PT1H
X-Robots-Tag:noindex
X-PUBLISHED-TTL:PT1H
BEGIN:VTIMEZONE
TZID:America/New_York
BEGIN:DAYLIGHT
TZOFFSETFROM:-0500
TZOFFSETTO:-0400
TZNAME:EDT
DTSTART:20220313T070000
END:DAYLIGHT
BEGIN:STANDARD
TZOFFSETFROM:-0400
TZOFFSETTO:-0500
TZNAME:EST
DTSTART:20221106T060000
END:STANDARD
BEGIN:DAYLIGHT
TZOFFSETFROM:-0500
TZOFFSETTO:-0400
TZNAME:EDT
DTSTART:20230312T070000
END:DAYLIGHT
BEGIN:STANDARD
TZOFFSETFROM:-0400
TZOFFSETTO:-0500
TZNAME:EST
DTSTART:20231105T060000
END:STANDARD
BEGIN:DAYLIGHT
TZOFFSETFROM:-0500
TZOFFSETTO:-0400
TZNAME:EDT
DTSTART:20240310T070000
END:DAYLIGHT
BEGIN:STANDARD
TZOFFSETFROM:-0400
TZOFFSETTO:-0500
TZNAME:EST
DTSTART:20241103T060000
END:STANDARD
END:VTIMEZONE
BEGIN:VEVENT
DTSTART;TZID=America/New_York:20230802T103000
DTEND;TZID=America/New_York:20230802T121500
DTSTAMP:20260424T024422
CREATED:20230612T175535Z
LAST-MODIFIED:20230612T175535Z
UID:2271-1690972200-1690978500@lima.owwl.org
SUMMARY:Summer Reading 2023: Lima Public Library Film Festival
DESCRIPTION:Wednesday 8/2 10:30 AM \nLet’s visit Australia! \nFinding Nemo (2003) \nRated G. \n©Walt Disney
URL:https://lima.owwl.org/event/summer-reading-2023-lima-public-library-film-festival-4/
LOCATION:NY
END:VEVENT
BEGIN:VEVENT
DTSTART;TZID=America/New_York:20230804T130000
DTEND;TZID=America/New_York:20230804T160000
DTSTAMP:20260424T024422
CREATED:20230626T174458Z
LAST-MODIFIED:20230626T174458Z
UID:2397-1691154000-1691164800@lima.owwl.org
SUMMARY:Friends of the Lima Public Library: Annual Book Sale
DESCRIPTION:It’s that time of year again! Join the Friends for their annual book sale\, held during the Lima Crossroads Festival.
URL:https://lima.owwl.org/event/friends-of-the-lima-public-library-annual-book-sale/
LOCATION:NY
END:VEVENT
BEGIN:VEVENT
DTSTART;TZID=America/New_York:20230805T100000
DTEND;TZID=America/New_York:20230805T160000
DTSTAMP:20260424T024422
CREATED:20230626T174558Z
LAST-MODIFIED:20230626T174558Z
UID:2399-1691229600-1691251200@lima.owwl.org
SUMMARY:Friends of the Lima Public Library: Annual Book Sale
DESCRIPTION:It’s that time of year again! Join the Friends for their annual book sale during the Lima Crossroads Festival.
URL:https://lima.owwl.org/event/friends-of-the-lima-public-library-annual-book-sale-2/
LOCATION:NY
END:VEVENT
BEGIN:VEVENT
DTSTART;TZID=America/New_York:20230809T103000
DTEND;TZID=America/New_York:20230809T121500
DTSTAMP:20260424T024422
CREATED:20230612T175719Z
LAST-MODIFIED:20230612T175719Z
UID:2273-1691577000-1691583300@lima.owwl.org
SUMMARY:Summer Reading 2023: Lima Public Library Film Festival
DESCRIPTION:Wednesday 8/9 10:30 AM \nLet’s visit Italy! \nLuca (2021) \nRated PG \n©Walt Disney
URL:https://lima.owwl.org/event/summer-reading-2023-lima-public-library-film-festival-5/
LOCATION:NY
END:VEVENT
BEGIN:VEVENT
DTSTART;TZID=America/New_York:20230814T183000
DTEND;TZID=America/New_York:20230814T203000
DTSTAMP:20260424T024422
CREATED:20230531T190809Z
LAST-MODIFIED:20230531T190809Z
UID:2154-1692037800-1692045000@lima.owwl.org
SUMMARY:Game Night
DESCRIPTION:Friends of the Lima Public Library are hosting another fun game night!
URL:https://lima.owwl.org/event/game-night-5/
LOCATION:NY
END:VEVENT
BEGIN:VEVENT
DTSTART;TZID=America/New_York:20230815T160000
DTEND;TZID=America/New_York:20230815T170000
DTSTAMP:20260424T024422
CREATED:20230711T171310Z
LAST-MODIFIED:20230711T171310Z
UID:2442-1692115200-1692118800@lima.owwl.org
SUMMARY:New York Times Bestselling Author of The Prophets: Author Talk with Robert Jones\, Jr.
DESCRIPTION:All are welcome and encouraged to join us for an engaging hour online with New York Times bestselling author Robert Jones\, Jr.\, as he discusses his debut and award-winning novel\, The Prophets. \nThe Prophets is a story of love. Isaiah was Samuel’s\, and Samuel was Isaiah’s. That was how it was from the beginning and how it was to be until the end. In the barn\, they tended to the animals but also to each other\, transforming the hollowed-out shed into a place of human refuge\, a source of intimacy and hope in a world ruled by vicious masters. But when an older man—a fellow slave—seeks to gain favor by preaching the master’s gospel on the plantation\, the enslaved begin to turn on their own. Isaiah and Samuel’s love\, once so simple\, is seen as sinful and a clear danger to the plantation’s harmony. \nRobert Jones\, Jr. fiercely summons the voices of slaver and enslaved alike. As tensions build and the weight of centuries—of ancestors and future generations to come—culminates in a climactic reckoning\, The Prophets fearlessly reveals the pain and suffering of inheritance but is also shot through with hope\, beauty\, and truth\, portraying the enormous\, heroic power of love. \nAbout the Author: Robert Jones\, Jr. (formerly known online as “Son of Baldwin”) is a Brooklyn-based\, award-winning writer. He is the author of The New York Times bestselling novel\, The Prophets\, which won the 2022 Publishing Triangle Edmund White Award for Debut Fiction\, and was a finalist for the 2021 National Book Award for Fiction. His work has been featured in The New York Times\, Essence\, Variety\, and The Paris Review\, as well as in the critically acclaimed anthologies Four Hundred Souls and The 1619 Project. His latest work can be found in his newsletter\, Witness\, at robertjonesjr.substack.com. \nRegister: https://libraryc.org/lima/29775
URL:https://lima.owwl.org/event/new-york-times-bestselling-author-of-the-prophets-author-talk-with-robert-jones-jr/
LOCATION:NY
END:VEVENT
BEGIN:VEVENT
DTSTART;TZID=America/New_York:20230815T183000
DTEND;TZID=America/New_York:20230815T200000
DTSTAMP:20260424T024422
CREATED:20221122T190429Z
LAST-MODIFIED:20221208T182209Z
UID:1651-1692124200-1692129600@lima.owwl.org
SUMMARY:Friends Meeting
DESCRIPTION:Friends of the Lima Public Library Meeting
URL:https://lima.owwl.org/event/friends-meeting-8/
LOCATION:NY
END:VEVENT
BEGIN:VEVENT
DTSTART;TZID=America/New_York:20230816T103000
DTEND;TZID=America/New_York:20230816T121500
DTSTAMP:20260424T024422
CREATED:20230717T174542Z
LAST-MODIFIED:20230717T174937Z
UID:2461-1692181800-1692188100@lima.owwl.org
SUMMARY:Encore Showing: Summer Reading 2023: Lima Public Library Film Festival
DESCRIPTION:Wednesday 8/16 10:30 AM \n**ENCORE SHOWING** \nLet’s visit Colombia! \nEncanto (2021) \nRated PG \n©Walt Disney
URL:https://lima.owwl.org/event/encore-showing-summer-reading-2023-lima-public-library-film-festival/
LOCATION:NY
END:VEVENT
BEGIN:VEVENT
DTSTART;TZID=America/New_York:20230823T200000
DTEND;TZID=America/New_York:20230823T210000
DTSTAMP:20260424T024422
CREATED:20230711T171428Z
LAST-MODIFIED:20230711T171428Z
UID:2447-1692820800-1692824400@lima.owwl.org
SUMMARY:Author Talk with Cassandra Clare: Bestselling Author of The Mortal Instruments Series
DESCRIPTION:Join us for an exciting evening online as we chat with mega-bestselling author\, Cassandra Clare\, about her newest and final book in The Last Hours series\, Chain of Thorns. \nIn Chain of Gold\, the first book of The Last Hours Series\, the readers meet Cordelia. Cordelia Carstairs is a Shadowhunter\, a warrior trained since childhood to battle demons. When her father is accused of a terrible crime\, she and her brother travel to London in hopes of preventing the family’s ruin. Soon Cordelia encounters childhood friends James and Lucie Herondale and is drawn into their world of glittering ballrooms\, secret assignations\, and supernatural salons\, where vampires and warlocks mingle with mermaids and magicians. All the while\, she must hide her secret love for James\, who is sworn to marry someone else. But Cordelia’s new life is blown apart when a shocking series of demon attacks devastate London. Trapped in the city\, Cordelia and her friends discover that their own connection to a dark legacy has gifted them with incredible powers—and will soon learn the true cruel price of being a hero. \nChain of Iron\, the second book in the series\, Cordelia seems to have everything she ever wanted. She’s engaged to marry James Herondale\, the boy she has loved since childhood. She has a new life in London with her best friend Lucie Herondale and James’ charming companions\, the Merry Thieves. She is about to be reunited with her beloved father. And she bears the sword Cortana\, a legendary hero’s blade. Together with the Merry Thieves\, Cordelia\, James\, and Lucie must follow the trail of the knife-wielding killer through the city’s most dangerous streets. All the while\, each is keeping a shocking secret: Lucie\, that she plans to raise Jesse from the dead; Cordelia\, that she has sworn a dangerous oath of loyalty to a mysterious power; and James\, that he is being drawn further each night into the dark web of his grandfather\, the arch-demon Belial. And that he himself may be the killer they seek. \nIn the third and final installment in the series\, Chain of Thorns\, Cordelia has lost everything that matters to her. Even worse\, she is now bound to an ancient demon\, Lilith\, stripping her of her power as a Shadowhunter. After fleeing to Paris\, Cordelia hopes to forget her sorrows in the city’s glittering nightlife. But reality intrudes when shocking news comes from home: London is under new threat by the Prince of Hell\, Belial. Cordelia returns to a London riven by chaos and dissent. The long-kept secret that Belial is James and Lucie’s grandfather has been revealed by an unexpected enemy\, and the Herondales find themselves under suspicion of dealings with demons. Left alone in a shadowy London\, they must face Belial’s deadly army. If Cordelia and her friends are going to save their city—and their families—they will have to muster their courage\, swallow their pride\, and trust one another again. For if they fail\, they may lose everything—even their souls. \nAbout the Author: Cassandra Clare was born to American parents in Teheran\, Iran and spent much of her childhood traveling the world with her family\, including one trek through the Himalayas as a toddler where she spent a month living in her father’s backpack. She lived in France\, England and Switzerland before she was ten years old. \nAfter college\, Cassie lived in Los Angeles and New York where she worked at various entertainment magazines and even some rather suspect tabloids where she reported on Brad and Angelina’s world travels and Britney Spears’ wardrobe malfunctions. She started working on her YA novel\, City of Bones\, in 2004\, inspired by the urban landscape of Manhattan\, her favorite city. She turned to writing fantasy fiction full time in 2006. Her first book\, The City of Bones\, became and led to numerous instant #1 New York Times and USA Today Bestsellers including but not limited to The rest of The Mortal Instruments series\, The Infernal Devices series\, and The Last Hours series.  \nRegister: https://libraryc.org/lima/23197
URL:https://lima.owwl.org/event/author-talk-with-cassandra-clare-bestselling-author-of-the-mortal-instruments-series/
LOCATION:NY
END:VEVENT
BEGIN:VEVENT
DTSTART;TZID=America/New_York:20230828T183000
DTEND;TZID=America/New_York:20230828T203000
DTSTAMP:20260424T024422
CREATED:20230531T190843Z
LAST-MODIFIED:20230531T190843Z
UID:2156-1693247400-1693254600@lima.owwl.org
SUMMARY:Game Night
DESCRIPTION:Friends of the Lima Public Library are hosting another fun game night!
URL:https://lima.owwl.org/event/game-night-6/
LOCATION:NY
END:VEVENT
BEGIN:VEVENT
DTSTART;TZID=America/New_York:20230830T140000
DTEND;TZID=America/New_York:20230830T150000
DTSTAMP:20260424T024422
CREATED:20230711T171524Z
LAST-MODIFIED:20230711T171524Z
UID:2450-1693404000-1693407600@lima.owwl.org
SUMMARY:A Year Inside College Admissions: An Author Talk with Jeff Selingo
DESCRIPTION:Spend an hour with bestselling author Jeff Selingo\, who immersed himself in the world of admissions for a year to answer the question on the minds of teenagers and their parents: how do colleges select their freshman class? \nThe result is his most recent book\, Who Gets In and Why: A Year Inside College Admissions\, named one of the 100 Notable Books of 2020 by the New York Times. For the book\, Jeff was embedded in three admissions offices — the University of Washington\, Emory University\, and Davidson College — and follows a group of high-school seniors through the process and players behind the scenes\, including the marketers\, the financial-aid consultants\, and the rankers. \nIn this conversation\, Jeff will dispel the entrenched notions of how to compete and win at the admissions game\, reveal why families have much to gain by broadening their notion of what qualifies as a “good” college\, and explain how the pandemic impacts admissions. \nRegister now! \nAbout the Author: Jeff Selingo has written about higher education for more than two decades and is a New York Times bestselling author of three books. His latest book\, Who Gets In & Why: A Year Inside College Admissions\, was published in September 2020 and was named among the 100 Notable Books of the Year by the New York Times. A regular contributor to The Atlantic\, Jeff is a special advisor for innovation and professor of practice at Arizona State University. He also co-hosts the podcast\, FutureU. He lives in Washington\, DC\, with his family. \nRegister: https://libraryc.org/lima/30074
URL:https://lima.owwl.org/event/a-year-inside-college-admissions-an-author-talk-with-jeff-selingo/
LOCATION:NY
END:VEVENT
END:VCALENDAR