BEGIN:VCALENDAR
VERSION:2.0
PRODID:-//Lima Public Library - ECPv6.15.20//NONSGML v1.0//EN
CALSCALE:GREGORIAN
METHOD:PUBLISH
X-ORIGINAL-URL:https://lima.owwl.org
X-WR-CALDESC:Events for Lima Public Library
REFRESH-INTERVAL;VALUE=DURATION:PT1H
X-Robots-Tag:noindex
X-PUBLISHED-TTL:PT1H
BEGIN:VTIMEZONE
TZID:America/New_York
BEGIN:DAYLIGHT
TZOFFSETFROM:-0500
TZOFFSETTO:-0400
TZNAME:EDT
DTSTART:20250309T070000
END:DAYLIGHT
BEGIN:STANDARD
TZOFFSETFROM:-0400
TZOFFSETTO:-0500
TZNAME:EST
DTSTART:20251102T060000
END:STANDARD
BEGIN:DAYLIGHT
TZOFFSETFROM:-0500
TZOFFSETTO:-0400
TZNAME:EDT
DTSTART:20260308T070000
END:DAYLIGHT
BEGIN:STANDARD
TZOFFSETFROM:-0400
TZOFFSETTO:-0500
TZNAME:EST
DTSTART:20261101T060000
END:STANDARD
BEGIN:DAYLIGHT
TZOFFSETFROM:-0500
TZOFFSETTO:-0400
TZNAME:EDT
DTSTART:20270314T070000
END:DAYLIGHT
BEGIN:STANDARD
TZOFFSETFROM:-0400
TZOFFSETTO:-0500
TZNAME:EST
DTSTART:20271107T060000
END:STANDARD
END:VTIMEZONE
BEGIN:VEVENT
DTSTART;TZID=America/New_York:20260501T140000
DTEND;TZID=America/New_York:20260501T170000
DTSTAMP:20260422T222530
CREATED:20260410T153527Z
LAST-MODIFIED:20260410T153527Z
UID:3960-1777644000-1777654800@lima.owwl.org
SUMMARY:Free Tech Help
DESCRIPTION:First and Third Fridays of the Month  2-5PM \nCome learn how to: \nUse a desktop\, paptop\, tablet\, or smartphone \nUpload a document to a USB drive \nConnect to a wireless network \nNavigate the Internet \nCreate and use an email account \nFind and apply for jobs \nStay Connected to friends and family \nUse Software \nWork on Microsoft Office or Google Docs \nCreate a resume or cover letter \n  \nWalk-ins Welcome\, or call for an appointment (preferred) 585-582-1311
URL:https://lima.owwl.org/event/free-tech-help-2/
LOCATION:Lima Public Library\, 1872 Genesse Street\, Lima\, NY\, 14485\, United States
END:VEVENT
BEGIN:VEVENT
DTSTART;TZID=America/New_York:20260502T100000
DTEND;TZID=America/New_York:20260502T120000
DTSTAMP:20260422T222530
CREATED:20260408T201259Z
LAST-MODIFIED:20260408T201259Z
UID:3884-1777716000-1777723200@lima.owwl.org
SUMMARY:Crossroads Crafters
DESCRIPTION:Bring your own project. Share your experience and learn from others. 10AM to Noon
URL:https://lima.owwl.org/event/crossroads-crafters-34/
LOCATION:Lima Public Library\, 1872 Genesse Street\, Lima\, NY\, 14485\, United States
END:VEVENT
BEGIN:VEVENT
DTSTART;TZID=America/New_York:20260502T103000
DTEND;TZID=America/New_York:20260502T110000
DTSTAMP:20260422T222530
CREATED:20260408T200236Z
LAST-MODIFIED:20260408T200236Z
UID:3870-1777717800-1777719600@lima.owwl.org
SUMMARY:Preschool Story Time at 10:30AM
DESCRIPTION:Join us as we learn through stories and crafts. 10:30-11AM
URL:https://lima.owwl.org/event/preschool-story-time-at-1030am-4/
LOCATION:Lima Public Library\, 1872 Genesse Street\, Lima\, NY\, 14485\, United States
END:VEVENT
BEGIN:VEVENT
DTSTART;TZID=America/New_York:20260507T150000
DTEND;TZID=America/New_York:20260507T170000
DTSTAMP:20260422T222530
CREATED:20260408T204450Z
LAST-MODIFIED:20260408T204450Z
UID:3908-1778166000-1778173200@lima.owwl.org
SUMMARY:Middle School Study Hall @ Lima Library
DESCRIPTION:If you are in Middle School\, grades 6-8\, and you need a quiet place to study or you don’t want to study alone\, please come to Lima Public Library. The Scutt Room is available\, with small tables\, comfy chairs and hot beverages. Sponsored by Friends of Jonathan Stills\, the space is open from 3-5PM most Thursdays.
URL:https://lima.owwl.org/event/middle-school-study-hall-lima-library-9/
LOCATION:Lima Public Library\, 1872 Genesse Street\, Lima\, NY\, 14485\, United States
END:VEVENT
BEGIN:VEVENT
DTSTART;TZID=America/New_York:20260507T190000
DTEND;TZID=America/New_York:20260507T200000
DTSTAMP:20260422T222530
CREATED:20260410T145305Z
LAST-MODIFIED:20260410T145305Z
UID:3936-1778180400-1778184000@lima.owwl.org
SUMMARY:On-Line Author Talk with Marjan Kamili
DESCRIPTION:Join us for an exciting conversation with internationally acclaimed author Marjan Kamali as we delve into the timeless wonder of her New York Times bestselling novel\, The Lion Women of Tehran. \nIn 1950s Tehran\, seven-year-old Ellie lives in grand comfort until the untimely death of her father\, forcing Ellie and her mother to move to a tiny home downtown. Lonely and bearing the brunt of her mother’s endless grievances\, Ellie dreams for a friend to alleviate her isolation. \nLuckily\, on the first day of school\, she meets Homa\, a kind girl with a brave and irrepressible spirit. Together\, the two girls play games\, learn to cook in the stone kitchen of Homa’s warm home\, wander through the colorful stalls of the Grand Bazaar\, and share their ambitions of becoming “lion women.” \nBut their happiness is disrupted when Ellie and her mother are afforded the opportunity to return to their previous bourgeois life. Now a popular student at the best girls’ high school in Iran\, Ellie’s memories of Homa begin to fade. Years later\, however\, her sudden reappearance in Ellie’s privileged world alters the course of both of their lives. \nTogether\, the two young women come of age and pursue their own goals for meaningful futures. But as the political turmoil in Iran builds to a breaking point\, one earth-shattering betrayal will have enormous consequences. \nRegister now to hear directly from the author about the crafting of her tender\, yet immensely powerful work. \nAbout the Author: \nMarjan Kamali\, born in Turkey to Iranian parents\, is the New York Times bestselling author of The Lion Women of Tehran\, The Stationery Shop\, and Together Tea. She is the 2022 recipient of the National Endowment for the Arts Creative Writing Award. Her books have been translated into over thirty languages. Marjan lives with her family in the Boston area. \n\nCome into the Library and check out the book. \n\n\n\n\n\n\nThe views expressed by presenters are their own and their appearance in a program does not imply an endorsement of them or any entity they represent. Reference to any specific product or entity does not constitute an endorsement or recommendation by Lima Public Library.
URL:https://lima.owwl.org/event/on-line-author-talk-with-marjan-kamili/
LOCATION:On-line Event
END:VEVENT
BEGIN:VEVENT
DTSTART;TZID=America/New_York:20260509T080000
DTEND;TZID=America/New_York:20260509T170000
DTSTAMP:20260422T222530
CREATED:20260408T201338Z
LAST-MODIFIED:20260408T201338Z
UID:3886-1778313600-1778346000@lima.owwl.org
SUMMARY:Crossroads Crafters
DESCRIPTION:Bring your own project. Share your experience and learn from others. 10AM to Noon
URL:https://lima.owwl.org/event/crossroads-crafters-35/
LOCATION:Lima Public Library\, 1872 Genesse Street\, Lima\, NY\, 14485\, United States
END:VEVENT
BEGIN:VEVENT
DTSTART;TZID=America/New_York:20260509T103000
DTEND;TZID=America/New_York:20260509T110000
DTSTAMP:20260422T222530
CREATED:20260408T200347Z
LAST-MODIFIED:20260408T200347Z
UID:3872-1778322600-1778324400@lima.owwl.org
SUMMARY:Preschool Story Time at 10:30AM
DESCRIPTION:Join us as we learn through stories and crafts. 10:30-11AM
URL:https://lima.owwl.org/event/preschool-story-time-at-1030am-5/
LOCATION:Lima Public Library\, 1872 Genesse Street\, Lima\, NY\, 14485\, United States
END:VEVENT
BEGIN:VEVENT
DTSTART;TZID=America/New_York:20260512T140000
DTEND;TZID=America/New_York:20260512T150000
DTSTAMP:20260422T222530
CREATED:20260410T145544Z
LAST-MODIFIED:20260410T145544Z
UID:3938-1778594400-1778598000@lima.owwl.org
SUMMARY:On-Line Author Talk with Dr. Vivienne Ming
DESCRIPTION:Join us for a timely conversation on AI\, humanity\, and the next steps towards building a better future with self-proclaimed “mad scientist” Dr. Vivienne Ming as we discuss her new book\, Robot-Proof: When Machines Have All the Answers\, Build Better People.  \nIn Robot-Proof\, Dr. Vivienne Ming helps readers grasp the ugly and the amazing of how individuals\, companies\, and societies will respond to the changes that are already taking hold due to the advent of AI. Robot-Proof is a book about people\, exploring what it means to be human in an increasingly automated world. \nThis book presents\, then answers\, pressing questions that readers may or may not have thought to themselves\, such as: \n\nWhat predicts long-term life outcomes across millions of little kids?\nWhy is the Informational-Exploration Paradox the most terrifying phenomenon you’ve never heard of?\nWhat predicts the smartest team and how will AI change it?\nWhy are ill-posed problems the future work\, education\, and a robot-proof humanity?\n\nWith poignant insight and delicate care to keep us grounded in the human perspective\, Robot-Proof is an entertaining and thought-provoking read for all individuals seeking to understand the next steps in a new and completely unprecedented world. \nRegister today to take part in the discussion! \nJoin us LIVE for a chance to win a copy of Vivienne’s book\, Robot-Proof! The giveaway link will be in the Resources area under the broadcast screen during the live event. Please ensure you are watching on your library’s webpage for the chance to participate.  \nAbout the Author: \nDr. Vivienne Ming explores maximizing human capacity as a theoretical neuroscientist\, delusional inventor\, and demented Author. Over her career she’s founded 7 startups\, been chief scientist at 2 others\, and founded The Human Trust\, a philanthropic data trust and “mad science incubator” building a foundation model for human development. She co-founded Possibility Sciences to advance scientific discovery via massive scale hybrid intelligence. She also develops AI tools for learning at home and in school\, models of bias in hiring and promotion\, and neurotechnologies for dementia\, TBI\, and postpartum depression. \nIn her free time\, Vivienne designs AI systems to treat her son’s diabetes\, predict manic episodes in bipolar sufferers\, and reunite orphan refugees with extended family members. For relaxation\, she writes science fiction and spends time with her wife and children. \nVivienne was named one of “10 Women to Watch in Tech” by Inc. Magazine and one of the BBC’s 100 Women in 2017. She is featured frequently for her research and inventions in The Financial Times\, The Atlantic\, Quartz Magazine and The New York Times. \nCome into the Library and check out the book. \n\n\n\n\n\n\n\nThe views expressed by presenters are their own and their appearance in a program does not imply an endorsement of them or any entity they represent. Reference to any specific product or entity does not constitute an endorsement or recommendation by Lima Public Library.
URL:https://lima.owwl.org/event/on-line-author-talk-with-dr-vivienne-ming/
LOCATION:On-line Event
END:VEVENT
BEGIN:VEVENT
DTSTART;TZID=America/New_York:20260514T150000
DTEND;TZID=America/New_York:20260514T170000
DTSTAMP:20260422T222530
CREATED:20260408T204541Z
LAST-MODIFIED:20260408T204541Z
UID:3910-1778770800-1778778000@lima.owwl.org
SUMMARY:Middle School Study Hall @ Lima Library
DESCRIPTION:If you are in Middle School\, grades 6-8\, and you need a quiet place to study or you don’t want to study alone\, please come to Lima Public Library. The Scutt Room is available\, with small tables\, comfy chairs and hot beverages. Sponsored by Friends of Jonathan Stills\, the space is open from 3-5PM most Thursdays.
URL:https://lima.owwl.org/event/middle-school-study-hall-lima-library-10/
LOCATION:Lima Public Library\, 1872 Genesse Street\, Lima\, NY\, 14485\, United States
END:VEVENT
BEGIN:VEVENT
DTSTART;TZID=America/New_York:20260515T140000
DTEND;TZID=America/New_York:20260515T170000
DTSTAMP:20260422T222530
CREATED:20260410T153628Z
LAST-MODIFIED:20260410T153628Z
UID:3962-1778853600-1778864400@lima.owwl.org
SUMMARY:Free Tech Help
DESCRIPTION:First and Third Fridays of the Month  2-5PM \nCome learn how to: \nUse a desktop\, paptop\, tablet\, or smartphone \nUpload a document to a USB drive \nConnect to a wireless network \nNavigate the Internet \nCreate and use an email account \nFind and apply for jobs \nStay Connected to friends and family \nUse Software \nWork on Microsoft Office or Google Docs \nCreate a resume or cover letter \n  \nWalk-ins Welcome\, or call for an appointment (preferred) 585-582-1311
URL:https://lima.owwl.org/event/free-tech-help-3/
LOCATION:Lima Public Library\, 1872 Genesse Street\, Lima\, NY\, 14485\, United States
END:VEVENT
BEGIN:VEVENT
DTSTART;TZID=America/New_York:20260516T100000
DTEND;TZID=America/New_York:20260516T120000
DTSTAMP:20260422T222530
CREATED:20260408T201421Z
LAST-MODIFIED:20260408T201421Z
UID:3888-1778925600-1778932800@lima.owwl.org
SUMMARY:Crossroads Crafters
DESCRIPTION:Bring your own project. Share your experience and learn from others. 10AM to Noon
URL:https://lima.owwl.org/event/crossroads-crafters-36/
LOCATION:Lima Public Library\, 1872 Genesse Street\, Lima\, NY\, 14485\, United States
END:VEVENT
BEGIN:VEVENT
DTSTART;TZID=America/New_York:20260516T103000
DTEND;TZID=America/New_York:20260516T110000
DTSTAMP:20260422T222530
CREATED:20260408T200456Z
LAST-MODIFIED:20260408T200456Z
UID:3874-1778927400-1778929200@lima.owwl.org
SUMMARY:Preschool Story Time at 10:30AM
DESCRIPTION:Join us as we learn through stories and crafts. 10:30-11AM
URL:https://lima.owwl.org/event/preschool-story-time-at-1030am-6/
LOCATION:Lima Public Library\, 1872 Genesse Street\, Lima\, NY\, 14485\, United States
END:VEVENT
BEGIN:VEVENT
DTSTART;TZID=America/New_York:20260518T160000
DTEND;TZID=America/New_York:20260518T180000
DTSTAMP:20260422T222530
CREATED:20260409T192650Z
LAST-MODIFIED:20260409T192650Z
UID:3917-1779120000-1779127200@lima.owwl.org
SUMMARY:Digital Literacy Workshop--Cybersecurity
DESCRIPTION:Learn how to stay safe online by identifying scams\, phishing attempts\, and fraudulent websites. \nThis session will cover best practices for protecting your personal information and browsing safely.
URL:https://lima.owwl.org/event/digital-literacy-workshop-cybersecurity/
LOCATION:Lima Public Library\, 1872 Genesse Street\, Lima\, NY\, 14485\, United States
END:VEVENT
BEGIN:VEVENT
DTSTART;TZID=America/New_York:20260519T140000
DTEND;TZID=America/New_York:20260519T150000
DTSTAMP:20260422T222530
CREATED:20260410T145750Z
LAST-MODIFIED:20260410T145750Z
UID:3940-1779199200-1779202800@lima.owwl.org
SUMMARY:On-Line Author Talk with Nir Eval
DESCRIPTION:What if the only thing standing between you and the seemingly impossible…was belief? This is the question posed by bestselling author Nir Eyal in his new work\, Beyond Belief. \nMost of your limits aren’t physical. They’re psychological. In Beyond Belief\, Nir Eyal reveals how the hidden assumptions you carry shape what you see\, how you feel\, and what you do—and how to replace them with beliefs that unlock your true potential. \nGrounded in neuroscience\, psychology\, and unforgettable case studies\, Eyal introduces the Three Powers of Belief: Attention\, Anticipation\, and Agency. Mastering these powers transforms how you see challenges\, feel about the future\, and act when it matters most. \nYou’ll learn how to: \n\nSpot hidden opportunities and solutions others overlook.\n\n\nReclaim your mood\, energy\, and confidence by reshaping your beliefs.\n\n\nStay calm\, decisive\, and in control when life feels uncertain.\n\n\nBreak free from beliefs that sabotage your health\, relationships\, and career.\n\n\nPush further\, last longer\, and achieve beyond your limits.\n\nIf you’ve ever quit too soon\, stalled in your career\, or sabotaged your own goals\, this book gives you the science and the system to go further than you thought possible. \nSurgeries without anesthesia. Placebos that heal. Resilience multiplied 240 times longer. Beyond Belief reveals the science behind these breakthroughs and shows why your limits aren’t fixed—they’re learned. And with the right beliefs\, you can achieve breakthrough results. \nRegister now to learn more about how we can unlock our true potential. \nAbout the Author: \nNir Eyal writes\, consults\, and teaches about the intersection of psychology\, technology\, and human potential. He previously taught at the Stanford Graduate School of Business and the Hasso Plattner Institute of Design at Stanford. He is the author of the international bestsellers Hooked: How to Build Habit-Forming Products and Indistractable: How to Control Your Attention and Choose Your Life\, which have sold over 1 million copies in more than 30 languages. As an active angel investor\, Nir has backed multi-billion-dollar companies that implement his methodologies\, including Canva\, Kahoot!\, and others. In addition to blogging at NirAndFar.com\, his writing has been featured in The New York Times and Harvard Business Review\, and he is a regular contributor to Psychology Today. \n  \n\n\n\n\n\n\n\nThe views expressed by presenters are their own and their appearance in a program does not imply an endorsement of them or any entity they represent. Reference to any specific product or entity does not constitute an endorsement or recommendation by Lima Public Library. \n 
URL:https://lima.owwl.org/event/on-line-author-talk-with-nir-eval/
LOCATION:On-line Event
END:VEVENT
BEGIN:VEVENT
DTSTART;TZID=America/New_York:20260521T150000
DTEND;TZID=America/New_York:20260521T160000
DTSTAMP:20260422T222530
CREATED:20260408T204631Z
LAST-MODIFIED:20260410T151446Z
UID:3912-1779375600-1779379200@lima.owwl.org
SUMMARY:Middle School Study Hall @ Lima Library
DESCRIPTION:Today only hours are 3 to 4 PM \nIf you are in Middle School\, grades 6-8\, and you need a quiet place to study or you don’t want to study alone\, please come to Lima Public Library. The Scutt Room is available\, with small tables\, comfy chairs and hot beverages. Sponsored by Friends of Jonathan Stills\, the space is open from 3-5PM most Thursdays.
URL:https://lima.owwl.org/event/middle-school-study-hall-lima-library-11/
LOCATION:Lima Public Library\, 1872 Genesse Street\, Lima\, NY\, 14485\, United States
END:VEVENT
BEGIN:VEVENT
DTSTART;TZID=America/New_York:20260521T160000
DTEND;TZID=America/New_York:20260521T170000
DTSTAMP:20260422T222530
CREATED:20260410T151818Z
LAST-MODIFIED:20260410T151818Z
UID:3952-1779379200-1779382800@lima.owwl.org
SUMMARY:An Army Captain's Legacy with Nancy Lynch
DESCRIPTION:Journalist Nancy E. Lynch\, author and publisher of the award-winning social history\, Vietnam Mailbag\, Voices From the War: 1968-1972\, returns to Lima Public Library at 4 p.m. May 21 to share an extraordinary war story. \nThe return after 45 years of a charred military driver’s license of a helicopter pilot shot down in Vietnam to the daughter who never knew her father involves incredible twists and turns and\, in the end\, the honorable actions and decades-long perseverance of a Florida veteran and a South Vietnamese soldier. \nThe saga started with a war letter Lynch received in 1968. \nHer program is sponsored by the library at 1872 Genesee St.\, Lima\, NY. After her presentation\, she will be available to autograph and personalize her book at $40. A companion DVD sells for $10. \nLynch\, whose maternal grandparents lived in Canandaigua\, has presented her salute to Vietnam veterans in the Finger Lakes since 2009\, visiting the area for two weeks each May and October to increase awareness of our troops’ service and many sacrifices. She has written six other books and lives in Bethel\, Del. \nHer 456-page book features nearly 1\,000 war letters and hundreds of pictures her popular newspaper column\, Nancy’s Vietnam Mailbag\, received from our troops on the frontlines during the last five years of the contentious war while she was a reporter for The News Journal papers in Wilmington\, DE. \nHer unique column afforded our servicemen a rare opportunity to let those at home know where they stood on issues ranging from the war to the weather and is believed to be the only war correspondence column of its kind in the country. \nIn her final column in December 1972\, Lynch promised “her guys” she would someday put all their letters and pictures in a book to honor them and Vietnam veterans throughout the country. Vietnam Mailbag fulfills her pledge and in 2009 won Independent Publisher’s gold medal for Best Non-Fiction in the Mid-Atlantic.
URL:https://lima.owwl.org/event/an-army-captains-legacy-with-nancy-lynch/
LOCATION:Scutt Room Lima Public Library\, 1872 Genessee Street\, Lima\, New York\, 14485
END:VEVENT
BEGIN:VEVENT
DTSTART;TZID=America/New_York:20260523T100000
DTEND;TZID=America/New_York:20260525T130000
DTSTAMP:20260422T222530
CREATED:20260408T200651Z
LAST-MODIFIED:20260408T200651Z
UID:3876-1779530400-1779714000@lima.owwl.org
SUMMARY:Library Closed for Memorial Weekend
DESCRIPTION:The Library will be closed over the Memorial Day Weekend. \nWe will re-open at 1PM on May 25\, 2026. \nStay safe!
URL:https://lima.owwl.org/event/library-closed-for-memorial-weekend/
LOCATION:Lima Public Library\, 1872 Genesse Street\, Lima\, NY\, 14485\, United States
END:VEVENT
END:VCALENDAR